Workbook

Sheet SUMMARY STOCK UPDATE
A1: SUMMARY - STOCK AND PROCUREMENT SUMMARY OF MEDICAL SUPPLIES BRANCH AND RAM/GF
A2: 30th of January 2026
A4: ITEM | B4: PACK SIZE | C4: STOCK ON HAND | G4: STOCK ON ORDER | K4: EXPECTED STOCK POSSIBLY IN THE NEXT SIX MONTHS | M4: EXPECTED DATES OF ARRIVAL
C5: QUANTITY | F5: IN MONTHS OF STOCK | G5: QUANTITY | J5: IN MONTHS OF STOCK | K5: QUANTITY | L5: IN MONTHS OF STOCK | M5: NDoH | N5: GF/RAM
C6: NDoH | D6: GF/RAM | E6: TOTAL | G6: NDoH | H6: GF/RAM | I6: TOTAL
A7: RDT, ACT, & PRIMAQUINE | K7: =E7+I7 -> 0
A8: ACT 6 TABS | B8: INDIVIDUAL TREATMENT COURSE | C8: ='ACT-RDT-PQ BY AMS'!C10 -> 128370 | D8: ='ACT-RDT-PQ BY AMS'!C11 -> 10140 | E8: ='ACT-RDT-PQ BY AMS'!C12 -> 10140 | F8: =E8/'ACT-RDT-PQ BY AMS'!AA17 -> 0.017894118 | G8: ='ACT-RDT-PQ BY AMS'!L10 -> 709380 | H8: ='ACT-RDT-PQ BY AMS'!L11 -> 294750 | I8: =G8+H8 -> 1004130 | J8: =I8/'ACT-RDT-PQ BY AMS'!AA17 -> 1.7719941 | K8: =E8+I8 -> 1014270 | L8: =F8+J8 -> 1.7898882
A9: ACT 12 TABS | B9: INDIVIDUAL TREATMENT COURSE | C9: ='ACT-RDT-PQ BY AMS'!D10 -> 22110 | D9: ='ACT-RDT-PQ BY AMS'!D11 -> 180270 | E9: ='ACT-RDT-PQ BY AMS'!D12 -> 202380 | F9: =(E9*2)/'ACT-RDT-PQ BY AMS'!AA17 -> 0.71428235 | G9: ='ACT-RDT-PQ BY AMS'!M10 -> 544740 | H9: ='ACT-RDT-PQ BY AMS'!M11 -> 409740 | I9: =G9+H9 -> 954480 | J9: =(I9*2)/'ACT-RDT-PQ BY AMS'!AA17 -> 3.3687529 | K9: =E9+I9 -> 1156860 | L9: =F9+J9 -> 4.0830353
A10: ACT 18 TABS | B10: INDIVIDUAL TREATMENT COURSE | C10: ='ACT-RDT-PQ BY AMS'!E10 -> 43140 | D10: ='ACT-RDT-PQ BY AMS'!E11 -> 0 | E10: ='ACT-RDT-PQ BY AMS'!E12 -> 43140 | F10: =(E10*3)/'ACT-RDT-PQ BY AMS'!AA17 -> 0.22838824 | G10: ='ACT-RDT-PQ BY AMS'!N10 -> 374160 | H10: ='ACT-RDT-PQ BY AMS'!N11 -> 233880 | I10: =G10+H10 -> 608040 | J10: =(I10*3)/'ACT-RDT-PQ BY AMS'!AA17 -> 3.2190353 | K10: =E10+I10 -> 651180 | L10: =F10+J10 -> 3.4474235
A11: ACT 24 TABS | B11: INDIVIDUAL TREATMENT COURSE | C11: ='ACT-RDT-PQ BY AMS'!F10 -> 17640 | D11: ='ACT-RDT-PQ BY AMS'!F11 -> 145890 | E11: ='ACT-RDT-PQ BY AMS'!F12 -> 163530 | F11: =(E11*4)/'ACT-RDT-PQ BY AMS'!AA17 -> 1.1543294 | G11: ='ACT-RDT-PQ BY AMS'!O10 -> 329910 | H11: ='ACT-RDT-PQ BY AMS'!O11 -> 601410 | I11: =G11+H11 -> 931320 | J11: =(I11*4)/'ACT-RDT-PQ BY AMS'!AA17 -> 6.5740235 | K11: =E11+I11 -> 1094850 | L11: =F11+J11 -> 7.7283529
A12: TOTAL ACTs | B12: INDIVIDUAL TREATMENT COURSE | C12: ='ACT-RDT-PQ BY AMS'!G10 -> 211260 | D12: ='ACT-RDT-PQ BY AMS'!G11 -> 336300 | E12: ='ACT-RDT-PQ BY AMS'!G12 -> 547560 | F12: ='ACT-RDT-PQ BY AMS'!C18 -> 2.1148941 | G12: ='ACT-RDT-PQ BY AMS'!P10 -> 1958190 | H12: ='ACT-RDT-PQ BY AMS'!P11 -> 1539780 | I12: ='ACT-RDT-PQ BY AMS'!P12 -> 3497970 | J12: ='ACT-RDT-PQ BY AMS'!L18 -> 14.933806 | K12: =E12+I12 -> 4045530 | L12: =F12+J12 -> 17.0487 | M12: 8 month stock expected. | N12: 7 month stock expected
A13: PRIMAQUINE | B13: TABLET | C13: ='ACT-RDT-PQ BY AMS'!H10 -> 2636500 | D13: ='ACT-RDT-PQ BY AMS'!H11 -> 0 | E13: ='ACT-RDT-PQ BY AMS'!H12 -> 2636500 | F13: ='ACT-RDT-PQ BY AMS'!H18 -> 1.894491 | G13: ='ACT-RDT-PQ BY AMS'!Q10 -> 2700400 | H13: ='ACT-RDT-PQ BY AMS'!Q11 -> 0 | I13: ='ACT-RDT-PQ BY AMS'!Q12 -> 2700400 | J13: =I13/'ACT-RDT-PQ BY AMS'!Z17 -> 1.9404072 | K13: =E13+I13 -> 5336900 | L13: =F13+J13 -> 3.8348982 | M13: 2 months stock expected
A14: RDT | B14: INDIVIDUAL TEST KIT | C14: ='ACT-RDT-PQ BY AMS'!B10 -> 919750 | D14: ='ACT-RDT-PQ BY AMS'!B11 -> 7000 | E14: ='ACT-RDT-PQ BY AMS'!B12 -> 926750 | F14: ='ACT-RDT-PQ BY AMS'!B18 -> 2.78025 | G14: ='ACT-RDT-PQ BY AMS'!K10 -> 1713150 | H14: ='ACT-RDT-PQ BY AMS'!K11 -> 2000000 | I14: ='ACT-RDT-PQ BY AMS'!K12 -> 3713150 | J14: =I14/'ACT-RDT-PQ BY AMS'!T17 -> 11.13945 | K14: =E14+I14 -> 4639900 | L14: =F14+J14 -> 13.9197 | M14: 5 months stock expected | N14: 6 month stock expected
E15: 0
A16: OTHER ANTI-MALARIAL DRUGS | G16: 0.57638889
A17: SULPHADOXINE 500MG + PYRIMETHAMINE 25MG (SP) | B17: TABLET | C17: =' Other A.M.Drugs BY AMS'!B12 -> 0 | D17: =' Other A.M.Drugs BY AMS'!B11 -> 0 | E17: =D17+C17 -> 0 | G17: =' Other A.M.Drugs BY AMS'!M10 -> 624400 | H17: =' Other A.M.Drugs BY AMS'!M11 -> 0 | I17: =G17+H17 -> 624400 | K17: =E17+I17 -> 624400
A18: ARTEMETHER INJ. 80MG | B18: AMPOULE | C18: =' Other A.M.Drugs BY AMS'!C12 -> 63224 | D18: =' Other A.M.Drugs BY AMS'!B11 -> 0 | E18: =D18+C18 -> 63224 | G18: =' Other A.M.Drugs BY AMS'!N10 -> 27000 | H18: =' Other A.M.Drugs BY AMS'!N11 -> 0 | I18: =G18+H18 -> 27000 | K18: =E18+I18 -> 90224
A19: ARTEMETHER INJ. 40MG | B19: AMPOULE | C19: =' Other A.M.Drugs BY AMS'!D12 -> 19516 | D19: =' Other A.M.Drugs BY AMS'!B11 -> 0 | E19: =D19+C19 -> 19516 | G19: =' Other A.M.Drugs BY AMS'!O10 -> 21000 | H19: =' Other A.M.Drugs BY AMS'!O11 -> 0 | I19: =G19+H19 -> 21000 | K19: =E19+I19 -> 40516
A20: ARTESUNATE INJECTION 60MG | B20: VIAL | C20: =' Other A.M.Drugs BY AMS'!E12 -> 25418 | D20: =' Other A.M.Drugs BY AMS'!B11 -> 0 | E20: =D20+C20 -> 25418 | G20: =' Other A.M.Drugs BY AMS'!P10 -> 0 | H20: =' Other A.M.Drugs BY AMS'!P11 -> 0 | I20: =G20+H20 -> 0 | K20: =E20+I20 -> 25418
A21: QUININE INJ. 600 INJ. | B21: VIAL | C21: =' Other A.M.Drugs BY AMS'!F12 -> 1760 | D21: =' Other A.M.Drugs BY AMS'!B11 -> 0 | E21: =C21+D21 -> 1760 | G21: =' Other A.M.Drugs BY AMS'!Q10 -> 10000 | H21: =' Other A.M.Drugs BY AMS'!Q11 -> 0 | I21: =G21+H21 -> 10000 | K21: =E21+I21 -> 11760
A22: QUININE TAB 300MG | B22: TABLET | C22: =' Other A.M.Drugs BY AMS'!G12 -> 52200 | D22: =' Other A.M.Drugs BY AMS'!B11 -> 0 | E22: =D22+C22 -> 52200 | G22: =' Other A.M.Drugs BY AMS'!R10 -> 500000 | H22: =' Other A.M.Drugs BY AMS'!Q11 -> 0 | I22: =G22+H22 -> 500000 | K22: =E22+I22 -> 552200
A23: Dihydroartemisinin 40mg + Piperaquine 340mg Tab) | B23: TABLET | C23: =' Other A.M.Drugs BY AMS'!J12 -> 2433 | D23: =' Other A.M.Drugs BY AMS'!B11 -> 0 | E23: =D23+C23 -> 2433 | G23: =' Other A.M.Drugs BY AMS'!U10 -> 0 | H23: =' Other A.M.Drugs BY AMS'!Q11 -> 0 | I23: =G23+H23 -> 0 | K23: =E23+I23 -> 2433

Sheet ACT-RDT-PQ BY AMS
A1: ACTs, RDTs AND PRIMAQUINE - STOCK AND PROCUREMENT SUMMARY OF NDoH MEDICAL SUPPLIES BRANCH AND RAM
A3: STOCK ON HAND IN PNG AS OF 30TH OF JANUARY 2026 | J3: RDTs and ACTS ON ORDER AS REFLECTED BY mSUPPLY and Global Fund | S3: Total Possibly Available In the Next Six Months
A4: AMS | B4: RDTS | C4: ACT 6 | D4: ACT 12 | E4: ACT 18 | F4: ACT 24 | G4: Total ACTs | H4: Primaquine Tablet | J4: AMS | K4: RDTS | L4: ACT 6 | M4: ACT 12 | N4: ACT 18 | O4: ACT 24 | P4: Total ACTs | Q4: Primaquine Tablet | S4: AMS | T4: RDTS | U4: ACT 6 | V4: ACT 12 | W4: ACT 18 | X4: ACT 24 | Y4: Total ACTs | Z4: Primaquine Tablet | AA4: ACT6s Equivalents
A5: Badili | B5: =82500+158175 -> 240675 | C5: 102360 | D5: 8580 | E5: 3600 | F5: 3600 | G5: =C5+D5+E5+F5 -> 118140 | H5: 230000 | J5: Badili | K5: ='NDoH Outstanding Orders'!E77 -> 266825 | L5: ='NDoH Outstanding Orders'!F77 -> 176400 | M5: ='NDoH Outstanding Orders'!G77 -> 116400 | N5: ='NDoH Outstanding Orders'!H77 -> 118560 | O5: ='NDoH Outstanding Orders'!I77 -> 118560 | P5: =L5+M5+N5+O5 -> 529920 | Q5: ='NDoH Outstanding Orders'!K77 -> 1100000 | S5: Badili | T5: =B5+K5 -> 507500 | U5: =C5+L5 -> 278760 | V5: =D5+M5 -> 124980 | W5: =E5+N5 -> 122160 | X5: =F5+O5 -> 122160 | Y5: =G5+P5 -> 648060 | Z5: =H5+Q5 -> 1330000 | AA5: =U5+(V5*2)+(W5*3)+(X5*4) -> 1383840
A6: Hagen | B6: =3124*25 -> 78100 | C6: =173*30 -> 5190 | D6: =279*30 -> 8370 | E6: =260*30 -> 7800 | F6: =215*30 -> 6450 | G6: =C6+D6+E6+F6 -> 27810 | H6: =6450*100 -> 645000 | J6: Hagen | K6: ='NDoH Outstanding Orders'!E138 -> 325000 | L6: ='NDoH Outstanding Orders'!F138 -> 90000 | M6: ='NDoH Outstanding Orders'!G138 -> 69540 | N6: ='NDoH Outstanding Orders'!H138 -> 60000 | O6: ='NDoH Outstanding Orders'!I138 -> 30000 | P6: =L6+M6+N6+O6 -> 249540 | Q6: ='NDoH Outstanding Orders'!K138 -> 600000 | S6: Hagen | T6: =B6+K6 -> 403100 | U6: =C6+L6 -> 95190 | V6: =D6+M6 -> 77910 | W6: =E6+N6 -> 67800 | X6: =F6+O6 -> 36450 | Y6: =G6+P6 -> 277350 | Z6: =H6+Q6 -> 1245000 | AA6: =U6+(V6*2)+(W6*3)+(X6*4) -> 600210
A7: Kokopo | B7: =4591*25 -> 114775 | C7: =358*30 -> 10740 | D7: =141*30 -> 4230 | E7: =344*30 -> 10320 | F7: 0 | G7: =C7+D7+E7+F7 -> 25290 | H7: =2290*100 -> 229000 | J7: Kokopo | K7: ='NDoH Outstanding Orders'!E192 -> 412500 | L7: ='NDoH Outstanding Orders'!F192 -> 60000 | M7: ='NDoH Outstanding Orders'!G192 -> 60000 | N7: ='NDoH Outstanding Orders'!H192 -> 30000 | O7: ='NDoH Outstanding Orders'!I192 -> 30030 | P7: =L7+M7+N7+O7 -> 180030 | Q7: ='NDoH Outstanding Orders'!K192 -> 200400 | S7: Kokopo | T7: =B7+K7 -> 527275 | U7: =C7+L7 -> 70740 | V7: =D7+M7 -> 64230 | W7: =E7+N7 -> 40320 | X7: =F7+O7 -> 30030 | Y7: =G7+P7 -> 205320 | Z7: =H7+Q7 -> 429400 | AA7: =U7+(V7*2)+(W7*3)+(X7*4) -> 440280
A8: Lae | B8: =7570*25 -> 189250 | C8: 0 | D8: =30*30 -> 900 | E8: 0 | F8: 0 | G8: =C8+D8+E8+F8 -> 900 | H8: =(5000+500+2465)*100 -> 796500 | J8: Lae | K8: ='NDoH Outstanding Orders'!E258 -> 225000 | L8: ='NDoH Outstanding Orders'!F258 -> 277800 | M8: ='NDoH Outstanding Orders'!G258 -> 208800 | N8: ='NDoH Outstanding Orders'!H258 -> 82800 | O8: ='NDoH Outstanding Orders'!I258 -> 82800 | P8: =L8+M8+N8+O8 -> 652200 | Q8: ='NDoH Outstanding Orders'!K258 -> 200000 | S8: Lae | T8: =B8+K8 -> 414250 | U8: =C8+L8 -> 277800 | V8: =D8+M8 -> 209700 | W8: =E8+N8 -> 82800 | X8: =F8+O8 -> 82800 | Y8: =G8+P8 -> 653100 | Z8: 80000 | AA8: =U8+(V8*2)+(W8*3)+(X8*4) -> 1276800
A9: Wewak | B9: =(1500+1600+2000+155+900+500+1250+900+1042+1181+850)*25 -> 296950 | C9: =(144+192)*30 -> 10080 | D9: 30 | E9: =(484+230)*30 -> 21420 | F9: =(88+165)*30 -> 7590 | G9: =C9+D9+E9+F9 -> 39120 | H9: =(2360+5000)*100 -> 736000 | J9: Wewak | K9: ='NDoH Outstanding Orders'!E332 -> 483825 | L9: ='NDoH Outstanding Orders'!F332 -> 105180 | M9: ='NDoH Outstanding Orders'!G332 -> 90000 | N9: ='NDoH Outstanding Orders'!H332 -> 82800 | O9: ='NDoH Outstanding Orders'!I332 -> 68520 | P9: =L9+M9+N9+O9 -> 346500 | Q9: ='NDoH Outstanding Orders'!K332 -> 600000 | S9: Wewak | T9: =B9+K9 -> 780775 | U9: =C9+L9 -> 115260 | V9: =D9+M9 -> 90030 | W9: =E9+N9 -> 104220 | X9: =F9+O9 -> 76110 | Y9: =G9+P9 -> 385620 | Z9: =H9+Q9 -> 1336000 | AA9: =U9+(V9*2)+(W9*3)+(X9*4) -> 912420
A10: Total NDoH | B10: =SUM(B5:B9) -> 919750 | C10: =SUM(C5:C9) -> 128370 | D10: =SUM(D5:D9) -> 22110 | E10: =SUM(E5:E9) -> 43140 | F10: =SUM(F5:F9) -> 17640 | G10: =SUM(G5:G9) -> 211260 | H10: =SUM(H5:H9) -> 2636500 | J10: Total NDoH | K10: =SUM(K5:K9) -> 1713150 | L10: =SUM(L5:L9) -> 709380 | M10: =SUM(M5:M9) -> 544740 | N10: =SUM(N5:N9) -> 374160 | O10: =SUM(O5:O9) -> 329910 | P10: =L10+M10+N10+O10 -> 1958190 | Q10: =SUM(Q5:Q9) -> 2700400 | S10: Total NDoH | T10: =B10+K10 -> 2632900 | U10: =C10+L10 -> 837750 | V10: =D10+M10 -> 566850 | W10: =E10+N10 -> 417300 | X10: =F10+O10 -> 347550 | Y10: =G10+P10 -> 2169450 | Z10: =H10+Q10 -> 5336900 | AA10: =U10+(V10*2)+(W10*3)+(X10*4) -> 4613550
A11: RAM/GF | B11: 7000 | C11: 10140 | D11: 180270 | E11: 0 | F11: 145890 | G11: =C11+D11+E11+F11 -> 336300 | H11: 0 | J11: RAM/GF | K11: ='RAM-GF_PROC.-2021 REQ.ACT-RDT'!D34 -> 2000000 | L11: ='RAM-GF_PROC.-2021 REQ.ACT-RDT'!E33 -> 294750 | M11: ='RAM-GF_PROC.-2021 REQ.ACT-RDT'!F33 -> 409740 | N11: ='RAM-GF_PROC.-2021 REQ.ACT-RDT'!G33 -> 233880 | O11: ='RAM-GF_PROC.-2021 REQ.ACT-RDT'!H33 -> 601410 | P11: =L11+M11+N11+O11 -> 1539780 | Q11: ='RAM-GF_PROC.-2021 REQ.ACT-RDT'!J21 -> 0 | S11: RAM | T11: =B11+K11 -> 2007000 | U11: =C11+L11 -> 304890 | V11: =D11+M11 -> 590010 | W11: =E11+N11 -> 233880 | X11: =F11+O11 -> 747300 | Y11: =G11+P11 -> 1876080 | Z11: =H11+Q11 -> 0 | AA11: =U11+(V11*2)+(W11*3)+(X11*4) -> 5175750
A12: Total | B12: =B11+B10 -> 926750 | C12: 10140 | D12: =D11+D10 -> 202380 | E12: =E11+E10 -> 43140 | F12: =F11+F10 -> 163530 | G12: =G11+G10 -> 547560 | H12: =(H11+H10) -> 2636500 | J12: Total | K12: =K11+K10 -> 3713150 | L12: =L11+L10 -> 1004130 | M12: =M11+M10 -> 954480 | N12: =N11+N10 -> 608040 | O12: =O11+O10 -> 931320 | P12: =L12+M12+N12+O12 -> 3497970 | Q12: =Q11+Q10 -> 2700400 | S12: Total | T12: =B12+K12 -> 4639900 | U12: =C12+L12 -> 1014270 | V12: =D12+M12 -> 1156860 | W12: =E12+N12 -> 651180 | X12: =F12+O12 -> 1094850 | Y12: =G12+P12 -> 4045530 | Z12: =H12+Q12 -> 5336900 | AA12: =U12+(V12*2)+(W12*3)+(X12*4) -> 9660930
Q13: =8000*100 -> 800000 | T13: =T12/T17 -> 13.9197 | Z13: =Z12/Z17 -> 3.8348982 | AA13: =AA12/AA17 -> 17.0487
Q14: =Q12-Q13 -> 1900400 | R14: =Q14-1500400 -> 400000
C15: MONTHS OF STOCK ON HAND | L15: MONTHS OF STOCK ON ORDER
B16: RDT | C16: ACT (Total ACT 6 Equivalence) | H16: PQ | K16: RDT | L16: ACT (Total ACT 6 Equivalence) | Q16: PQ | S16: Estimated Annual Consumption | T16: 4000000 | Z16: 16700000 | AA16: 6800000
A17: TOTAL QTY | B17: =B12 -> 926750 | C17: =(C12)+(D12*2)+(E12*3)+(F12*4) -> 1198440 | H17: =H12 -> 2636500 | J17: TOTAL QTY | K17: =K12 -> 3713150 | L17: =(L12)+(M12*2)+(N12*3)+(O12*4) -> 8462490 | Q17: =Q12 -> 2700400 | S17: Estimated Monthly Consumptioin | T17: =T16/12 -> 333333.33 | Z17: =Z16/12 -> 1391666.7 | AA17: =AA16/12 -> 566666.67
A18: EQUIVALENCE IN MONTHS OF STOCK | B18: =B17/T17 -> 2.78025 | C18: =C17/AA17 -> 2.1148941 | H18: =H17/Z17 -> 1.894491 | J18: EQUIVALENCE IN MONTHS OF STOCK | K18: =K17/T17 -> 11.13945 | L18: =L17/AA17 -> 14.933806 | Q18: =Q17/Z17 -> 1.9404072 | S18: Thresholds For New Orders | T18: =T17*10 -> 3333333.3 | Z18: =Z17*10 -> 13916667 | AA18: =AA17*10 -> 5666666.7
A19: NDoH | B19: =B10/T17 -> 2.75925 | C19: =(C10+(D10*2)+(E10*3)+(F10*4))/AA17 -> 0.65747647 | H19: =H10/Z17 -> 1.894491 | J19: NDoH | K19: =K10/T17 -> 5.13945 | L19: =(L10+(M10*2)+(N10*3)+(O10*4))/AA17 -> 7.4840824 | Q19: =Q10/Z17 -> 1.9404072
A20: RAM/GF | B20: =B11/T17 -> 0.021 | C20: =(C11+(D11*2)+(E11*3)+(F11*4))/AA17 -> 1.6839529 | H20: =H11/Z17 -> 0 | J20: RAM/GF | K20: =K11/T17 -> 6 | L20: =(L11+(M11*2)+(N11*3)+(O11*4))/AA17 -> 7.4497235 | Q20: 0 | AC20: 19000000
AC21: =AC20/Z17 -> 13.652695
A22: Actual Ratio of ACTs | C22: =C12/$G12*100 -> 1.8518519 | D22: =D12/$G12*100 -> 36.960333 | E22: =E12/$G12*100 -> 7.8785886 | F22: =F12/$G12*100 -> 29.86522 | S22: RDT | T22: =T17*3 -> 1000000
A23: Desired Ratio of ACTs | C23: 14.637358 | D23: 26.487692 | E23: 16.729454 | F23: 42.145496 | S23: PQ | T23: =AA17*3 -> 1700000
A26: PREVIOUS UPDATE
A27: STOCK ON HAND IN PNG AS OF 19TH OF DECEMBER 2025 | J27: RDTs and ACTS ON ORDER AS REFLECTED BY mSUPPLY and Global Fund | S27: Total Possibly Available In the Next Six Months
A28: AMS | B28: RDTS | C28: ACT 6 | D28: ACT 12 | E28: ACT 18 | F28: ACT 24 | G28: Total ACTs | H28: Primaquine Tablet | J28: AMS | K28: RDTS | L28: ACT 6 | M28: ACT 12 | N28: ACT 18 | O28: ACT 24 | P28: Total ACTs | Q28: Primaquine Tablet | S28: AMS | T28: RDTS | U28: ACT 6 | V28: ACT 12 | W28: ACT 18 | X28: ACT 24 | Y28: Total ACTs | Z28: Primaquine Tablet | AA28: ACT6s Equivalents
A29: Badili | B29: 167050 | C29: 143490 | D29: 16020 | E29: 3600 | F29: 3600 | G29: =C29+D29+E29+F29 -> 166710 | H29: 420000 | J29: Badili | K29: 266825 | L29: 176400 | M29: 116400 | N29: 118560 | O29: 118560 | P29: =L29+M29+N29+O29 -> 529920 | Q29: 700000 | S29: Badili | T29: =B29+K29 -> 433875 | U29: =C29+L29 -> 319890 | V29: =D29+M29 -> 132420 | W29: =E29+N29 -> 122160 | X29: =F29+O29 -> 122160 | Y29: =G29+P29 -> 696630 | Z29: =H29+Q29 -> 1120000 | AA29: =U29+(V29*2)+(W29*3)+(X29*4) -> 1439850
A30: Hagen | B30: =6520*25 -> 163000 | C30: =164*30 -> 4920 | D30: =409*30 -> 12270 | E30: =286*30 -> 8580 | F30: =222*30 -> 6660 | G30: =C30+D30+E30+F30 -> 32430 | H30: =4500*100 -> 450000 | J30: Hagen | K30: 325000 | L30: 90000 | M30: 69540 | N30: 60000 | O30: 60000 | P30: =L30+M30+N30+O30 -> 279540 | Q30: 600000 | S30: Hagen | T30: =B30+K30 -> 488000 | U30: =C30+L30 -> 94920 | V30: =D30+M30 -> 81810 | W30: =E30+N30 -> 68580 | X30: =F30+O30 -> 66660 | Y30: =G30+P30 -> 311970 | Z30: =H30+Q30 -> 1050000 | AA30: =U30+(V30*2)+(W30*3)+(X30*4) -> 730920
A31: Kokopo | B31: =7421*25 -> 185525 | C31: =392*30 -> 11760 | D31: =424*30 -> 12720 | E31: =386*30 -> 11580 | F31: =82*30 -> 2460 | G31: =C31+D31+E31+F31 -> 38520 | H31: =3700*100 -> 370000 | J31: Kokopo | K31: 412500 | L31: 60000 | M31: 60000 | N31: 30000 | O31: 30030 | P31: =L31+M31+N31+O31 -> 180030 | Q31: 200400 | S31: Kokopo | T31: =B31+K31 -> 598025 | U31: =C31+L31 -> 71760 | V31: =D31+M31 -> 72720 | W31: =E31+N31 -> 41580 | X31: =F31+O31 -> 32490 | Y31: =G31+P31 -> 218550 | Z31: =H31+Q31 -> 570400 | AA31: =U31+(V31*2)+(W31*3)+(X31*4) -> 471900
A32: Lae | B32: =(7455+200+1000+24)*25 -> 216975 | C32: =152*30 -> 4560 | D32: =35*30 -> 1050 | E32: =303*30 -> 9090 | F32: =340*30 -> 10200 | G32: =C32+D32+E32+F32 -> 24900 | H32: =(6068+500+5000)*100 -> 1156800 | J32: Lae | K32: 437500 | L32: 277800 | M32: 208800 | N32: 82800 | O32: 82800 | P32: =L32+M32+N32+O32 -> 652200 | Q32: 550000 | S32: Lae | T32: =B32+K32 -> 654475 | U32: =C32+L32 -> 282360 | V32: =D32+M32 -> 209850 | W32: =E32+N32 -> 91890 | X32: =F32+O32 -> 93000 | Y32: =G32+P32 -> 677100 | Z32: 80000 | AA32: =U32+(V32*2)+(W32*3)+(X32*4) -> 1349730
A33: Wewak | B33: 230975 | C33: 6900 | D33: 3630 | E33: 22350 | F33: 15240 | G33: =C33+D33+E33+F33 -> 48120 | H33: 427800 | J33: Wewak | K33: 483825 | L33: 105180 | M33: 90000 | N33: 82800 | O33: 68520 | P33: =L33+M33+N33+O33 -> 346500 | Q33: 600000 | S33: Wewak | T33: =B33+K33 -> 714800 | U33: =C33+L33 -> 112080 | V33: =D33+M33 -> 93630 | W33: =E33+N33 -> 105150 | X33: =F33+O33 -> 83760 | Y33: =G33+P33 -> 394620 | Z33: =H33+Q33 -> 1027800 | AA33: =U33+(V33*2)+(W33*3)+(X33*4) -> 949830
A34: Total NDoH | B34: =SUM(B29:B33) -> 963525 | C34: =SUM(C29:C33) -> 171630 | D34: =SUM(D29:D33) -> 45690 | E34: =SUM(E29:E33) -> 55200 | F34: =SUM(F29:F33) -> 38160 | G34: =SUM(G29:G33) -> 310680 | H34: =SUM(H29:H33) -> 2824600 | J34: Total NDoH | K34: =SUM(K29:K33) -> 1925650 | L34: =SUM(L29:L33) -> 709380 | M34: =SUM(M29:M33) -> 544740 | N34: =SUM(N29:N33) -> 374160 | O34: =SUM(O29:O33) -> 359910 | P34: =L34+M34+N34+O34 -> 1988190 | Q34: =SUM(Q29:Q33) -> 2650400 | S34: Total NDoH | T34: =B34+K34 -> 2889175 | U34: =C34+L34 -> 881010 | V34: =D34+M34 -> 590430 | W34: =E34+N34 -> 429360 | X34: =F34+O34 -> 398070 | Y34: =G34+P34 -> 2298870 | Z34: =H34+Q34 -> 5475000 | AA34: =U34+(V34*2)+(W34*3)+(X34*4) -> 4942230
A35: RAM/GF | B35: 20000 | C35: 19140 | D35: 216030 | E35: 0 | F35: 202410 | G35: =C35+D35+E35+F35 -> 437580 | H35: 0 | J35: RAM/GF | K35: 2000000 | L35: 294750 | M35: 409740 | N35: 233880 | O35: 601410 | P35: =L35+M35+N35+O35 -> 1539780 | Q35: 0 | S35: RAM | T35: =B35+K35 -> 2020000 | U35: =C35+L35 -> 313890 | V35: =D35+M35 -> 625770 | W35: =E35+N35 -> 233880 | X35: =F35+O35 -> 803820 | Y35: =G35+P35 -> 1977360 | Z35: =H35+Q35 -> 0 | AA35: =U35+(V35*2)+(W35*3)+(X35*4) -> 5482350
A36: Total | B36: =B35+B34 -> 983525 | C36: =C35+C34 -> 190770 | D36: =D35+D34 -> 261720 | E36: =E35+E34 -> 55200 | F36: =F35+F34 -> 240570 | G36: =G35+G34 -> 748260 | H36: =(H35+H34) -> 2824600 | J36: Total | K36: =K35+K34 -> 3925650 | L36: =L35+L34 -> 1004130 | M36: =M35+M34 -> 954480 | N36: =N35+N34 -> 608040 | O36: =O35+O34 -> 961320 | P36: =L36+M36+N36+O36 -> 3527970 | Q36: =Q35+Q34 -> 2650400 | S36: Total | T36: =B36+K36 -> 4909175 | U36: =C36+L36 -> 1194900 | V36: =D36+M36 -> 1216200 | W36: =E36+N36 -> 663240 | X36: =F36+O36 -> 1201890 | Y36: =G36+P36 -> 4276230 | Z36: =H36+Q36 -> 5475000 | AA36: =U36+(V36*2)+(W36*3)+(X36*4) -> 10424580
T37: =T36/T40 -> 14.727525 | Z37: =Z36/Z40 -> 3.9341317 | AA37: =AA36/AA40 -> 18.396318
C38: MONTHS OF STOCK ON HAND | L38: MONTHS OF STOCK ON ORDER
B39: RDT | C39: ACT (Total ACT 6 Equivalence) | H39: PQ | K39: RDT | L39: ACT (Total ACT 6 Equivalence) | Q39: PQ | S39: Estimated Annual Consumption | T39: 4000000 | Z39: 16700000 | AA39: 6800000
A40: TOTAL QTY | B40: =B36 -> 983525 | C40: =(C36)+(D36*2)+(E36*3)+(F36*4) -> 1842090 | H40: =H36 -> 2824600 | J40: TOTAL QTY | K40: =K36 -> 3925650 | L40: =(L36)+(M36*2)+(N36*3)+(O36*4) -> 8582490 | Q40: =Q36 -> 2650400 | S40: Estimated Monthly Consumptioin | T40: =T39/12 -> 333333.33 | Z40: =Z39/12 -> 1391666.7 | AA40: =AA39/12 -> 566666.67 | AC40: =Z40*3 -> 4175000
A41: EQUIVALENCE IN MONTHS OF STOCK | B41: =B40/T40 -> 2.950575 | C41: =C40/AA40 -> 3.2507471 | H41: =H40/Z40 -> 2.0296527 | J41: EQUIVALENCE IN MONTHS OF STOCK | K41: =K40/T40 -> 11.77695 | L41: =L40/AA40 -> 15.145571 | Q41: =Q40/Z40 -> 1.904479 | S41: Thresholds For New Orders | T41: =T40*10 -> 3333333.3 | Z41: =Z40*10 -> 13916667 | AA41: =AA40*10 -> 5666666.7 | AC41: =AA40*3 -> 1700000
A42: NDoH | B42: =B34/T40 -> 2.890575 | C42: =(C34+(D34*2)+(E34*3)+(F34*4))/AA40 -> 1.0257353 | H42: =H34/Z40 -> 2.0296527 | J42: NDoH | K42: =K34/T40 -> 5.77695 | L42: =(L34+(M34*2)+(N34*3)+(O34*4))/AA40 -> 7.6958471 | Q42: =Q34/Z40 -> 1.904479
A43: RAM/GF | B43: =B35/T40 -> 0.06 | C43: =(C35+(D35*2)+(E35*3)+(F35*4))/AA40 -> 2.2250118 | H43: =H35/Z40 -> 0 | J43: RAM/GF | K43: =K35/T40 -> 6 | L43: =(L35+(M35*2)+(N35*3)+(O35*4))/AA40 -> 7.4497235 | Q43: =Q35/Z40 -> 0
A45: Actual Ratio of ACTs | C45: 13.188685 | D45: 27.071592 | E45: 19.779842 | F45: 39.959881 | U45: 2. ACT 6 - Qty 249,000 Tabs | Y45: 249000 | Z45: =Y45/30 -> 8300 | AA45: =Z45 -> 8300
A46: Desired Ratio of ACTs | C46: 14.637358 | D46: 26.487692 | E46: 16.729454 | F46: 42.145496 | U46: 3. ACT 12 - Qty 450,000 Tabs | Y46: 450000 | Z46: =Y46/30 -> 15000 | AA46: =Z46/2 -> 7500
U47: 4. ACT 18 - Qty 285,000 Tabs | Y47: 285000 | Z47: =Y47/30 -> 9500 | AA47: 3167
U48: 5. ACT 24 - Qty 720,000 Tabs | Y48: 720000 | Z48: =Y48/30 -> 24000 | AA48: =Z48/4 -> 6000
Y49: =SUM(Y45:Y48) -> 1704000 | AA49: =SUM(AA45:AA48) -> 24967
C50: =C46/100*G50 -> 248835.08 | D50: =D46/100*G50 -> 450290.77 | E50: =E46/100*G50 -> 284400.72 | F50: =F46/100*G50 -> 716473.43 | G50: 1700000 | Y50: =Y49/AA40 -> 3.0070588
C51: 249000 | D51: 450000 | E51: 285000 | F51: 720000 | G51: =C51+D51+E51+F51 -> 1704000

Sheet  Other A.M.Drugs BY AMS
A1: OTHER ANTIMALARIALS - STOCK AND PROCUREMENT SUMMARY OF NDoH MEDICAL SUPPLIES BRANCH
A3: STOCK ON HAND IN PNG AS OF 30TH of DECEMBER 2025 | L3: ON ORDER AS REFLECTED BY mSUPPLY | W3: Total Possibly Available In The Next Six Months
A4: AMS | B4: SP (Sulphadoxine 500mg + Pyrimethamine 25mg Tab) | C4: Artemether Injection 80mg/ml (Amp) | D4: Artemether Injection 40mg/ml (Amp) | E4: Artesunate Injection 60mg Vial | F4: Quinine Injection 600mg Vial | G4: Quinine 300mg Tablet | H4: ARTESUNATE SUPPOSITORY (200MG) | I4: ARTESUNATE SUPPOSITORY (50MG) | J4: DP (Dihydroartemisinin 40mg + Piperaquine 340mg Tab) | L4: AMS | M4: SP (Sulphadoxine 500mg + Pyrimethamine 25mg Tab) | N4: Artemether Injection 80mg/ml (Amp) | O4: Artemether Injection 40mg/ml (Amp) | P4: Artesunate Injection 60mg Vial | Q4: Quinine Injection 600mg Vial | R4: Quinine 300mg Tablet | S4: ARTESUNATE SUPPOSITORY (200MG) | T4: ARTESUNATE SUPPOSITORY (50MG) | U4: DP (Dihydroartemisinin 40mg + Piperaquine 340mg Tab) | X4: SP (Sulphadoxine 500mg + Pyrimethamine 25mg Tab) | Y4: Artemether Injection 80mg/ml (Amp) | Z4: Artemether Injection 40mg/ml (Amp) | AA4: Artesunate Injection 60mg Vial | AB4: Quinine Injection 600mg Vial | AC4: Quinine 300mg Tablet | AD4: DP (Dihydroartemisinin 40mg + Piperaquine 340mg Tab)
A5: Badili | B5: 0 | C5: 10000 | D5: 0 | E5: 17205 | F5: 1760 | G5: 0 | H5: 0 | I5: 0 | J5: 1509 | L5: Badili | M5: ='NDoH Outstanding Orders'!L77 -> 150000 | N5: ='NDoH Outstanding Orders'!M77 -> 0 | O5: ='NDoH Outstanding Orders'!N77 -> 0 | P5: ='NDoH Outstanding Orders'!O77 -> 0 | Q5: ='NDoH Outstanding Orders'!P77 -> 4000 | R5: ='NDoH Outstanding Orders'!Q77 -> 100000 | S5: ='NDoH Outstanding Orders'!R77 -> 0 | T5: ='NDoH Outstanding Orders'!S77 -> 0 | U5: ='NDoH Outstanding Orders'!T77 -> 0 | W5: Badili | X5: =B5+M5 -> 150000 | Y5: =C5+N5 -> 10000 | Z5: =D5+O5 -> 0 | AA5: =E5+P5 -> 17205 | AB5: =F5+Q5 -> 5760 | AC5: =G5+R5 -> 100000 | AD5: =J5+U5 -> 1509
A6: Hagen | B6: 0 | C6: 6270 | D6: 0 | E6: 5130 | F6: 0 | G6: 2000 | H6: 0 | I6: 0 | J6: 0 | L6: Hagen | M6: ='NDoH Outstanding Orders'!L138 -> 124400 | N6: ='NDoH Outstanding Orders'!M138 -> 20000 | O6: ='NDoH Outstanding Orders'!N138 -> 4000 | P6: ='NDoH Outstanding Orders'!O138 -> 0 | Q6: ='NDoH Outstanding Orders'!P138 -> 1000 | R6: ='NDoH Outstanding Orders'!Q138 -> 100000 | S6: ='NDoH Outstanding Orders'!R138 -> 0 | T6: ='NDoH Outstanding Orders'!S138 -> 0 | U6: ='NDoH Outstanding Orders'!T138 -> 0 | W6: Hagen | X6: =B6+M6 -> 124400 | Y6: =C6+N6 -> 26270 | Z6: =D6+O6 -> 4000 | AA6: =E6+P6 -> 5130 | AB6: =F6+Q6 -> 1000 | AC6: =G6+R6 -> 102000 | AD6: =J6+U6 -> 0
A7: Kokopo | B7: 0 | C7: 1070 | D7: 4480 | E7: 0 | F7: =22-22 -> 0 | G7: 0 | H7: 0 | I7: 0 | J7: 0 | L7: Kokopo | M7: ='NDoH Outstanding Orders'!L192 -> 100000 | N7: ='NDoH Outstanding Orders'!M192 -> 2000 | O7: ='NDoH Outstanding Orders'!N192 -> 5000 | P7: ='NDoH Outstanding Orders'!O192 -> 0 | Q7: ='NDoH Outstanding Orders'!P192 -> 1500 | R7: ='NDoH Outstanding Orders'!Q192 -> 100000 | S7: ='NDoH Outstanding Orders'!R192 -> 0 | T7: ='NDoH Outstanding Orders'!S192 -> 0 | U7: ='NDoH Outstanding Orders'!T192 -> 0 | W7: Kokopo | X7: =B7+M7 -> 100000 | Y7: =C7+N7 -> 3070 | Z7: =D7+O7 -> 9480 | AA7: =E7+P7 -> 0 | AB7: =F7+Q7 -> 1500 | AC7: =G7+R7 -> 100000 | AD7: =J7+U7 -> 0
A8: Lae | B8: 0 | C8: 3680 | D8: 690 | E8: 0 | F8: 0 | G8: 0 | H8: 0 | I8: 0 | J8: 0 | L8: Lae | M8: ='NDoH Outstanding Orders'!L258 -> 150000 | N8: ='NDoH Outstanding Orders'!M258 -> 0 | O8: ='NDoH Outstanding Orders'!N258 -> 7000 | P8: ='NDoH Outstanding Orders'!O258 -> 0 | Q8: ='NDoH Outstanding Orders'!P258 -> 2000 | R8: ='NDoH Outstanding Orders'!Q258 -> 100000 | S8: ='NDoH Outstanding Orders'!R258 -> 0 | T8: ='NDoH Outstanding Orders'!S258 -> 0 | U8: ='NDoH Outstanding Orders'!T258 -> 0 | W8: Lae | X8: =B8+M8 -> 150000 | Y8: =C8+N8 -> 3680 | Z8: =D8+O8 -> 7690 | AA8: =E8+P8 -> 0 | AB8: =F8+Q8 -> 2000 | AC8: =G8+R8 -> 100000 | AD8: =J8+U8 -> 0
A9: Wewak | B9: 0 | C9: 42204 | D9: 14346 | E9: 3083 | F9: 0 | G9: 50200 | H9: 0 | I9: 0 | J9: 924 | L9: Wewak | M9: ='NDoH Outstanding Orders'!L332 -> 100000 | N9: ='NDoH Outstanding Orders'!M332 -> 5000 | O9: ='NDoH Outstanding Orders'!N332 -> 5000 | P9: ='NDoH Outstanding Orders'!O332 -> 0 | Q9: ='NDoH Outstanding Orders'!P332 -> 1500 | R9: ='NDoH Outstanding Orders'!Q332 -> 100000 | S9: ='NDoH Outstanding Orders'!R332 -> 0 | T9: ='NDoH Outstanding Orders'!S332 -> 0 | U9: ='NDoH Outstanding Orders'!T332 -> 0 | W9: Wewak | X9: =B9+M9 -> 100000 | Y9: =C9+N9 -> 47204 | Z9: =D9+O9 -> 19346 | AA9: =E9+P9 -> 3083 | AB9: =F9+Q9 -> 1500 | AC9: =G9+R9 -> 150200 | AD9: =J9+U9 -> 924
A10: Total NDoH | B10: =SUM(B5:B9) -> 0 | C10: =SUM(C5:C9) -> 63224 | D10: =SUM(D5:D9) -> 19516 | E10: =SUM(E5:E9) -> 25418 | F10: =SUM(F5:F9) -> 1760 | G10: =SUM(G5:G9) -> 52200 | H10: 0 | I10: 0 | J10: =SUM(J5:J9) -> 2433 | L10: Total NDoH | M10: =SUM(M5:M9) -> 624400 | N10: =SUM(N5:N9) -> 27000 | O10: =SUM(O5:O9) -> 21000 | P10: =SUM(P5:P9) -> 0 | Q10: =SUM(Q5:Q9) -> 10000 | R10: =SUM(R5:R9) -> 500000 | S10: =SUM(S5:S9) -> 0 | T10: =SUM(T5:T9) -> 0 | U10: =SUM(U5:U9) -> 0 | W10: Total NDoH | X10: =B10+M10 -> 624400 | Y10: =C10+N10 -> 90224 | Z10: =D10+O10 -> 40516 | AA10: =E10+P10 -> 25418 | AB10: =F10+Q10 -> 11760 | AC10: =G10+R10 -> 552200 | AD10: =J10+U10 -> 2433
A11: RAM | B11: 0 | C11: 0 | D11: 0 | E11: 0 | F11: 0 | G11: 0 | H11: 0 | I11: 0 | J11: 0 | L11: RAM | M11: 0 | N11: 0 | O11: 0 | P11: 0 | Q11: 0 | R11: 0 | S11: 0 | T11: 0 | U11: 0 | W11: RAM | X11: =B11+M11 -> 0 | Y11: =C11+N11 -> 0 | Z11: =D11+O11 -> 0 | AA11: =E11+P11 -> 0 | AB11: =F11+Q11 -> 0 | AC11: =G11+R11 -> 0 | AD11: =H11+S11 -> 0
A12: Total | B12: =B11+B10 -> 0 | C12: =C11+C10 -> 63224 | D12: =D11+D10 -> 19516 | E12: =E11+E10 -> 25418 | F12: =F11+F10 -> 1760 | G12: =G11+G10 -> 52200 | H12: =H11+H10 -> 0 | I12: =I11+I10 -> 0 | J12: =J11+J10 -> 2433 | L12: Total | M12: =M10+M11 -> 624400 | N12: =N10+N11 -> 27000 | O12: =O10+O11 -> 21000 | P12: =P10+P11 -> 0 | Q12: =Q10+Q11 -> 10000 | R12: =R10+R11 -> 500000 | S12: =S10+S11 -> 0 | T12: =T10+T11 -> 0 | U12: =U10+U11 -> 0 | W12: Total | X12: =X10+X11 -> 624400 | Y12: =Y10+Y11 -> 90224 | Z12: =Z10+Z11 -> 40516 | AA12: =AA10+AA11 -> 25418 | AB12: =AB10+AB11 -> 11760 | AC12: =AC10+AC11 -> 552200 | AD12: =AD10+AD11 -> 2433
A16: PREVIOUS UPDATE
A17: STOCK ON HAND IN PNG AS OF 19th of DECEMBER 2025 | L17: ON ORDER AS REFLECTED BY mSUPPLY | W17: Total Possibly Available In The Next Six Months
A18: AMS | B18: SP (Sulphadoxine 500mg + Pyrimethamine 25mg Tab) | C18: Artemether Injection 80mg/ml (Amp) | D18: Artemether Injection 40mg/ml (Amp) | E18: Artesunate Injection 60mg Vial | F18: Quinine Injection 600mg Vial | G18: Quinine 300mg Tablet | H18: ARTESUNATE SUPPOSITORY (200MG) | I18: ARTESUNATE SUPPOSITORY (50MG) | J18: DP (Dihydroartemisinin 40mg + Piperaquine 340mg Tab) | L18: AMS | M18: SP (Sulphadoxine 500mg + Pyrimethamine 25mg Tab) | N18: Artemether Injection 80mg/ml (Amp) | O18: Artemether Injection 40mg/ml (Amp) | P18: Artesunate Injection 60mg Vial | Q18: Quinine Injection 600mg Vial | R18: Quinine 300mg Tablet | S18: ARTESUNATE SUPPOSITORY (200MG) | T18: ARTESUNATE SUPPOSITORY (50MG) | U18: DP (Dihydroartemisinin 40mg + Piperaquine 340mg Tab) | X18: SP (Sulphadoxine 500mg + Pyrimethamine 25mg Tab) | Y18: Artemether Injection 80mg/ml (Amp) | Z18: Artemether Injection 40mg/ml (Amp) | AA18: Artesunate Injection 60mg Vial | AB18: Quinine Injection 600mg Vial | AC18: Quinine 300mg Tablet | AD18: DP (Dihydroartemisinin 40mg + Piperaquine 340mg Tab)
A19: Badili | B19: =260400+20000 -> 280400 | C19: 10000 | D19: 0 | E19: 17205 | F19: 1760 | G19: 0 | H19: 0 | I19: 0 | J19: 1509 | L19: Badili | M19: 150000 | N19: 0 | O19: 0 | P19: 0 | Q19: 4000 | R19: 100000 | S19: 0 | T19: 0 | U19: 0 | W19: Badili | X19: =B19+M19 -> 430400 | Y19: =C19+N19 -> 10000 | Z19: =D19+O19 -> 0 | AA19: =E19+P19 -> 17205 | AB19: =F19+Q19 -> 5760 | AC19: =G19+R19 -> 100000 | AD19: =J19+U19 -> 1509
A20: Hagen | B20: 0 | C20: 0 | D20: 1970 | E20: 5130 | F20: 0 | G20: 2000 | H20: 0 | I20: 0 | J20: 0 | L20: Hagen | M20: 200000 | N20: 30000 | O20: 4000 | P20: 0 | Q20: 1000 | R20: 100000 | S20: 0 | T20: 0 | U20: 0 | W20: Hagen | X20: =B20+M20 -> 200000 | Y20: =C20+N20 -> 30000 | Z20: =D20+O20 -> 5970 | AA20: =E20+P20 -> 5130 | AB20: =F20+Q20 -> 1000 | AC20: =G20+R20 -> 102000 | AD20: =J20+U20 -> 0
A21: Kokopo | B21: 0 | C21: 5000 | D21: 4480 | E21: 0 | F21: =22-22 -> 0 | G21: 0 | H21: 0 | I21: 0 | J21: 0 | L21: Kokopo | M21: 100000 | N21: 7000 | O21: 5000 | P21: 0 | Q21: 1500 | R21: 100000 | S21: 0 | T21: 0 | U21: 0 | W21: Kokopo | X21: =B21+M21 -> 100000 | Y21: =C21+N21 -> 12000 | Z21: =D21+O21 -> 9480 | AA21: =E21+P21 -> 0 | AB21: =F21+Q21 -> 1500 | AC21: =G21+R21 -> 100000 | AD21: =J21+U21 -> 0
A22: Lae | B22: 0 | C22: 10000 | D22: =120+3800 -> 3920 | E22: 0 | F22: 0 | G22: 0 | H22: 0 | I22: 0 | J22: 0 | L22: Lae | M22: 150000 | N22: 10000 | O22: 7000 | P22: 0 | Q22: 2000 | R22: 100000 | S22: 0 | T22: 0 | U22: 0 | W22: Lae | X22: =B22+M22 -> 150000 | Y22: =C22+N22 -> 20000 | Z22: =D22+O22 -> 10920 | AA22: =E22+P22 -> 0 | AB22: =F22+Q22 -> 2000 | AC22: =G22+R22 -> 100000 | AD22: =J22+U22 -> 0
A23: Wewak | B23: 0 | C23: 42204 | D23: 14346 | E23: 27 | F23: 0 | G23: 50200 | H23: 0 | I23: 0 | J23: 924 | L23: Wewak | M23: 100000 | N23: 5000 | O23: 5000 | P23: 0 | Q23: 1500 | R23: 100000 | S23: 0 | T23: 0 | U23: 0 | W23: Wewak | X23: =B23+M23 -> 100000 | Y23: =C23+N23 -> 47204 | Z23: =D23+O23 -> 19346 | AA23: =E23+P23 -> 27 | AB23: =F23+Q23 -> 1500 | AC23: =G23+R23 -> 150200 | AD23: =J23+U23 -> 924
A24: Total NDoH | B24: =SUM(B19:B23) -> 280400 | C24: =SUM(C19:C23) -> 67204 | D24: =SUM(D19:D23) -> 24716 | E24: =SUM(E19:E23) -> 22362 | F24: =SUM(F19:F23) -> 1760 | G24: =SUM(G19:G23) -> 52200 | H24: 0 | I24: 0 | J24: =SUM(J19:J23) -> 2433 | L24: Total NDoH | M24: =SUM(M19:M23) -> 700000 | N24: =SUM(N19:N23) -> 52000 | O24: =SUM(O19:O23) -> 21000 | P24: =SUM(P19:P23) -> 0 | Q24: =SUM(Q19:Q23) -> 10000 | R24: =SUM(R19:R23) -> 500000 | S24: =SUM(S19:S23) -> 0 | T24: =SUM(T19:T23) -> 0 | U24: =SUM(U19:U23) -> 0 | W24: Total NDoH | X24: =B24+M24 -> 980400 | Y24: =C24+N24 -> 119204 | Z24: =D24+O24 -> 45716 | AA24: =E24+P24 -> 22362 | AB24: =F24+Q24 -> 11760 | AC24: =G24+R24 -> 552200 | AD24: =J24+U24 -> 2433
A25: RAM | B25: 0 | C25: 0 | D25: 0 | E25: 0 | F25: 0 | G25: 0 | H25: 0 | I25: 0 | J25: 0 | L25: RAM | M25: 0 | N25: 0 | O25: 0 | P25: 0 | Q25: 0 | R25: 0 | S25: 0 | T25: 0 | U25: 0 | W25: RAM | X25: =B25+M25 -> 0 | Y25: =C25+N25 -> 0 | Z25: =D25+O25 -> 0 | AA25: =E25+P25 -> 0 | AB25: =F25+Q25 -> 0 | AC25: =G25+R25 -> 0 | AD25: =H25+S25 -> 0
A26: Total | B26: =B25+B24 -> 280400 | C26: =C25+C24 -> 67204 | D26: =D25+D24 -> 24716 | E26: =E25+E24 -> 22362 | F26: =F25+F24 -> 1760 | G26: =G25+G24 -> 52200 | H26: =H25+H24 -> 0 | I26: =I25+I24 -> 0 | J26: =J25+J24 -> 2433 | L26: Total | M26: =M24+M25 -> 700000 | N26: =N24+N25 -> 52000 | O26: =O24+O25 -> 21000 | P26: =P24+P25 -> 0 | Q26: =Q24+Q25 -> 10000 | R26: =R24+R25 -> 500000 | S26: =S24+S25 -> 0 | T26: =T24+T25 -> 0 | U26: =U24+U25 -> 0 | W26: Total | X26: =X24+X25 -> 980400 | Y26: =Y24+Y25 -> 119204 | Z26: =Z24+Z25 -> 45716 | AA26: =AA24+AA25 -> 22362 | AB26: =AB24+AB25 -> 11760 | AC26: =AC24+AC25 -> 552200 | AD26: =AD24+AD25 -> 2433

Sheet RAM-GF_PROC.-2021 REQ.ACT-RDT
B2: RAM / GLOBAL FUND ORDERS TO DATE
E4: 14.637358 | F4: 26.487692 | G4: 16.729454 | H4: 42.145496
A5: REQUISITION NUMBER | B5: PURCHASE ORDER # | C5: FUNDING SOURCE | D5: RDT | E5: ACT6 | F5: ACT12 | G5: ACT18 | H5: ACT24 | I5: TOTAL ACT | J5: PRIMAQUINE | K5: DATE | L5: ARRIVAL | M5: COMMENTS
K6: ORDERD | L6: DATE
A7: 1206 | B7: 4227 | C7: PNGSDP | D7: 212500 | E7: 0 | F7: 0 | G7: 0 | H7: 0 | I7: =SUM(E7:H7) -> 0 | J7: 0 | K7: 44197 | L7: 44409 | M7: Received; 09.09.21
A8: 12087 | B8: 4159 | C8: PNGSDP | D8: 0 | E8: 16650 | F8: 22500 | G8: 19800 | H8: 49500 | I8: =SUM(E8:H8) -> 108450 | J8: 0
A9: 11402 | B9: 4107 | C9: GF | D9: 0 | E9: 0 | F9: 0 | G9: 0 | H9: 0 | I9: =SUM(E9:H9) -> 0 | J9: 8000000 | M9: Received 29.05.21.
A10: 12227 | B10: 4385 | C10: GF | D10: 800000 | E10: 0 | F10: 0 | G10: 0 | H10: 0 | I10: =SUM(E10:H10) -> 0 | J10: 0 | K10: 44228 | L10: 44470 | M10: Arrived 17.10.21 and received into stock.
A11: 12260 | B11: 4327 | C11: GF | D11: 0 | E11: 21000 | F11: 72000 | G11: 30000 | H11: 261000 | I11: =SUM(E11:H11) -> 384000 | J11: 0 | K11: 44228 | L11: 44440 | M11: ACT delivered at AMS on the 17.09.21.
A12: 12719 | B12: 4899 | C12: GF | D12: 800000 | E12: 0 | F12: 0 | G12: 0 | H12: 0 | I12: =SUM(E12:H12) -> 0 | J12: 0 | K12: 44378 | L12: 44531 | M12: Received 25.04.2022
A13: 13964 | B13: 4898 | C13: GF | D13: 0 | E13: 0 | F13: 0 | G13: 0 | H13: 0 | I13: =SUM(E13:H13) -> 0 | J13: 9000000 | K13: 44378 | L13: 44531 | M13: PQ delivered in December, 2021
A14: 13965 | B14: 4897 | C14: GF | D14: 0 | E14: 78000 | F14: 120000 | G14: 75000 | H14: 180000 | I14: =SUM(E14:H14) -> 453000 | J14: 0 | K14: 44378 | L14: 44531 | M14: ACT delivered in December 2021
A15: 15627 | C15: GF | D15: 0 | E15: 81000 | F15: 126000 | G15: 102000 | H15: 126000 | I15: =SUM(E15:H15) -> 435000 | J15: 0 | K15: 44470 | L15: 44621 | M15: Received 30.05.22 | P15: =425000/25 -> 17000
A16: 15628 | C16: GF | D16: 900000 | E16: 0 | F16: 0 | G16: 0 | H16: 0 | I16: =SUM(E16:H16) -> 0 | J16: 0 | K16: 44470 | L16: 44621 | M16: Received 11.05.22
A17: 15629 | C17: GF | D17: 840000 | E17: 0 | F17: 0 | G17: 0 | H17: 0 | I17: =SUM(E17:H17) -> 0 | J17: 0 | K17: 44470 | L17: 44743 | M17: Received 01.06.22.
A18: 15784 | C18: GF | D18: 0 | E18: 72000 | F18: 138000 | G18: 78000 | H18: 141000 | I18: =SUM(E18:H18) -> 429000 | J18: 0 | K18: 44470 | L18: 44743 | M18: Arrived on the 08.07.22, and received on 20.07.22
E19: 72000 | F19: 137700 | G19: 77190 | H19: 140730 | I19: =SUM(E19:H19) -> 427620 | K19: Qty received.
A20: 15789 | B20: 6557 | C20: GF | D20: 900000 | E20: 0 | F20: 0 | G20: 0 | H20: 0 | I20: =SUM(E20:H20) -> 0 | J20: 0 | K20: 44621 | L20: 44835 | M20: RDTs DELIVERED AT AMS ON THE 16th, 17th & 21st NOV. 2022
A21: 17800 | B21: 6478 | C21: GF | D21: 0 | E21: 13200 | F21: 99000 | G21: 51000 | H21: 159000 | I21: =SUM(E21:H21) -> 322200 | J21: 0 | K21: 44621 | L21: 44835 | M21: ACTs Delivered at AMS on 02.11.22
A22: 17800 | B22: 6478 | C22: GF | D22: 0 | E22: 0 | F22: 0 | G22: 0 | H22: 0 | I22: =SUM(E22:H22) -> 0 | J22: 7500000 | K22: 44621 | L22: 44835 | M22: PQ Received on the 27.10.22
A23: 17802 | C23: GF | D23: - | E23: 0 | F23: 0 | G23: 0 | H23: 0 | I23: =SUM(E23:H23) -> 0 | J23: 900000 | K23: 44682 | L23: 44927 | M23: 900,000 FULLY RECEIVED ON 30.12.22
A24: 18464 | C24: GF | E24: 72000 | F24: 90000 | G24: 39000 | H24: 198000 | I24: =SUM(E24:H24) -> 399000 | K24: 44682 | L24: 44969 | M24: 2023 Order; Fully supplied - received on 21.02.23
A25: 20156 | B25: 7313 | C25: GF | E25: 147000 | F25: 262800 | G25: 206100 | H25: 578400 | I25: =SUM(E25:H25) -> 1194300 | K25: 44853 | L25: 45077 | M25: Fully supplied on 15.05 - 19.05.2023
A26: 20040 | B26: 7341 | C26: GF | D26: 1218750 | K26: 44853 | L26: 45047 | M26: Fully supplied on 15.05 - 19.05.2023
A27: 23273 | B27: 9747 | C27: GF | E27: 0 | F27: 120000 | G27: 108000 | H27: 522000 | I27: =SUM(E27:H27) -> 750000 | K27: 45253 | L27: 45473 | M27: Fully received in July 2024
A28: 24360 | B28: 9017 | C28: GF | D28: 750000 | E28: 0 | F28: 0 | G28: 0 | H28: 0 | I28: 0 | J28: 0 | K28: 45280 | L28: 45535 | M28: Fully received in August 2024
A29: 24591 | B29: 9370 | C29: GF | E29: 33300 | F29: 45000 | G29: 39600 | H29: 99000 | I29: =SUM(E29:H29) -> 216900 | K29: 45391 | L29: 45565 | M29: Recived fully on October 2024 (SDP-confirmed by Munir from RAM-ADP Agreement Letter) | O29: =E29+F29+G29+H29 -> 216900 | P29: =D28/25 -> 30000
A30: 25442 | B30: 9411 | C30: GF | E30: 30000 | F30: 171000 | G30: 33000 | H30: 282000 | I30: =SUM(E30:H30) -> 516000 | K30: 45398 | L30: 45565 | M30: Fully received in August 2024 | O30: =O29/30 -> 7230
A31: 25441 | B31: 9540 | C31: GF | D31: 425000 | E31: 0 | F31: 0 | G31: 0 | H31: 0 | I31: =SUM(E31:H31) -> 0 | K31: 45499 | L31: 45626 | M31: Outstanding GF RDT received (49 pallets) from SDP-confirmed by Munir
C32: GF | E32: 102000 | F32: 330000 | G32: 120000 | H32: 381000 | I32: =SUM(E32:H32) -> 933000 | L32: 45627 | M32: All received on the 18th of Nov 2024 | O32: =I27/30 -> 25000
A33: 11502 | C33: GF | E33: =9825*30 -> 294750 | F33: =13658*30 -> 409740 | G33: =7796*30 -> 233880 | H33: =20047*30 -> 601410 | I33: =SUM(E33:H33) -> 1539780 | K33: TBA | N33: =E33+F33*2+G33*3+H33*4 -> 4221510 | O33: =N33/O35 -> 7.4497235
A34: 28228 | C34: GF | D34: =80000*25 -> 2000000 | I34: =SUM(E34:H34) -> 0 | K34: TBA | N34: =D34/333333 -> 6.000006
C35: GF | I35: =SUM(E35:H35) -> 0 | O35: 566666.67
C36: Price GF (US$) | E36: 0.32 | F36: 0.51 | G36: 0.7 | H36: 0.94
B38: PO 9017 | D38: RDT -Months of stock | E38: ACT (Total ACT 6 Equivalence) | I38: Months of stock | J38: PQ | L38: =3600*30 -> 108000 | M38: =11000*30 -> 330000
D39: =D28/'ACT-RDT-PQ BY AMS'!T17 -> 2.25 | E39: =(E27)+(F27*2)+(G27*3)+(H27*4) -> 2652000 | I39: =E39/'ACT-RDT-PQ BY AMS'!AA17 -> 4.68 | J39: =J23/'ACT-RDT-PQ BY AMS'!Z17 -> 0.64670659
A40: RDT: 2024 | D40: =D26/'ACT-RDT-PQ BY AMS'!T17 -> 3.65625 | E40: =(E29)+(F29*2)+(G29*3)+(H29*4) -> 638100 | I40: =E40/'ACT-RDT-PQ BY AMS'!AA17 -> 1.1260588 | M40: =333333*4 -> 1333332
A41: =D28+D31 -> 1175000 | D41: =D20/'ACT-RDT-PQ BY AMS'!T17 -> 2.7 | E41: =E30+(F30*2)+(G30*3)+(H30*4) -> 1599000 | I41: =E41/'ACT-RDT-PQ BY AMS'!AA17 -> 2.8217647 | M41: =M40/25 -> 53333.28
A42: =A41/25 -> 47000 | B42: =A42*9 -> 423000 | D42: =D25/'ACT-RDT-PQ BY AMS'!T17 -> 0 | E42: =E32+(F32*2)+(G32*3)+(H32*4) -> 2646000 | I42: =E42/'ACT-RDT-PQ BY AMS'!AA17 -> 4.6694118 | M42: 54000
D43: =D31/333333 -> 1.2750013 | G43: total in Mos | I43: =SUM(I39:I42) -> 13.297235 | M43: =M42*25 -> 1350000
C44: =D28/25 -> 30000
C45: =D31/25 -> 17000
C46: =SUM(C44:C45) -> 47000

Sheet NDoH Outstanding Orders
V1: NDoH ORDERS TO DATE
E2: RDT, ACT, & PRIMAQUINE | L2: OTHER ANTIMALARIAL DRUGS | V2: RDT, ACT, & PRIMAQUINE | AC2: OTHER ANTIMALARIAL DRUGS
A4: AMS | B4: PURCHASE ORDER # | C4: DATE | D4: ARRIVAL | E4: RDT | F4: ACT6 | G4: ACT12 | H4: ACT18 | I4: ACT24 | J4: TOTAL ACT | K4: PRIMAQUINE | L4: SP TABLETS | M4: ARTEMETHER INJ. 80MG/ML | N4: ARTEMETHER INJ. 40MG/ML | O4: ARTESUNATE INJ. 60MG/3ML | P4: QUININE INJ. 600MG | Q4: QUININE TABS. 300MG | R4: ARTESUNATE SUPPOSITORY 200MG | S4: ARTESUNATE SUPPOSITORY 50MG | T4: DP TABLETS | V4: RDT | W4: ACT6 | X4: ACT12 | Y4: ACT18 | Z4: ACT24 | AA4: TOTAL ACT | AB4: PRIMAQUINE | AC4: SP TABLETS | AD4: ARTEMETHER INJ. 80MG/ML | AE4: ARTEMETHER INJ. 40MG/ML | AF4: ARTESUNATE INJ. 60MG/3ML | AG4: QUININE INJ. 600MG | AH4: QUININE TABS. 300MG | AI4: ARTESUNATE SUPPOSITORY 200MG | AJ4: ARTESUNATE SUPPOSITORY 50MG | AK4: DP TABLETS | AL4: QTY | AM4: QTY | AN4: COMMENTS
C5: ORDERD | D5: DATE | AL5: RECEIVED | AM5: OUTSTANDING
A6: BADILI | B6: 1520 | C6: 44287 | D6: 44348 | F6: 0 | G6: 0 | H6: 0 | I6: 0 | J6: =SUM(F6:I6) -> 0 | K6: 0 | L6: 0 | M6: 0 | N6: =AE6-AL6 -> 0 | O6: 0 | P6: 0 | Q6: 0 | T6: 0 | V6: 0 | W6: 0 | X6: 0 | Y6: 0 | Z6: 0 | AA6: =SUM(W6:Z6) -> 0 | AB6: 0 | AC6: 0 | AD6: 0 | AE6: 30000 | AF6: 0 | AG6: 0 | AH6: 0 | AK6: 0 | AL6: =15000+15000 -> 30000 | AM6: =(V6+W6+X6+Y6+Z6+AB6+AC6+AD6+AE6+AF6+AG6+AH6+AI6+AJ6+AK6)-AL6 -> 0 | AN6: 15,000 received on 08.10.21; Outstanding 15000 Fully received on date yet to confirm
A7: BADILI | B7: 1720 | C7: 30/06/22 | D7: 30/10/22 | F7: 0 | G7: 0 | H7: 0 | I7: 0 | J7: =SUM(F7:I7) -> 0 | K7: 0 | L7: 0 | M7: 0 | N7: 0 | O7: =AF7-AL7 -> 0 | P7: 0 | Q7: 0 | R7: 0 | S7: 0 | T7: 0 | V7: 0 | W7: 0 | X7: 0 | Y7: 0 | Z7: 0 | AA7: =SUM(W7:Z7) -> 0 | AB7: 0 | AC7: 0 | AD7: 0 | AE7: 0 | AF7: 4470 | AG7: 0 | AH7: 0 | AI7: 0 | AJ7: 0 | AK7: 0 | AL7: 4470 | AM7: =(V7+W7+X7+Y7+Z7+AB7+AC7+AD7+AE7+AF7+AG7+AH7+AI7+AJ7+AK7)-AL7 -> 0 | AN7: Fully received on the 08.09.2024
A8: BADILI | B8: 1720 | C8: 30/06/22 | D8: 30/10/22 | F8: 0 | G8: 0 | H8: 0 | I8: 0 | J8: =SUM(F8:I8) -> 0 | K8: =AB8-AL8 -> 0 | L8: 0 | M8: 0 | N8: 0 | O8: 0 | P8: 0 | Q8: 0 | R8: 0 | S8: 0 | T8: 0 | V8: 0 | W8: 0 | X8: 0 | Y8: 0 | Z8: 0 | AA8: =SUM(W8:Z8) -> 0 | AB8: 619500 | AC8: 0 | AD8: 0 | AE8: 0 | AF8: 0 | AG8: 0 | AH8: 0 | AI8: 0 | AJ8: 0 | AK8: 0 | AL8: =80800+538700 -> 619500 | AM8: =(V8+W8+X8+Y8+Z8+AB8+AC8+AD8+AE8+AF8+AG8+AH8+AI8+AJ8+AK8)-AL8 -> 0 | AN8: 80,800 received on 13.10.22; 538,700 fully received on 12.05.2023
A9: BADILI | B9: 1810 | C9: 04/10/22 | D9: 30/03/2023 | F9: 0 | G9: 0 | H9: 0 | I9: 0 | J9: =SUM(F9:I9) -> 0 | K9: 0 | L9: 0 | M9: 0 | N9: 0 | O9: =AF9-AL9 -> 0 | AF9: 7450 | AL9: 7450 | AM9: =(V9+W9+X9+Y9+Z9+AB9+AC9+AD9+AE9+AF9+AG9+AH9+AI9+AJ9+AK9)-AL9 -> 0 | AN9: fully received Art Inj 60mg on date: 08th of May 2024
A10: BADILI | B10: 1811 | C10: 04/10/22 | D10: 30/03/2023 | F10: 0 | G10: 0 | H10: 0 | I10: 0 | J10: =SUM(F10:I10) -> 0 | T10: =AK10-AL10 -> 0 | AA10: =SUM(W10:Z10) -> 0 | AK10: 16200 | AL10: 16200 | AM10: =(V10+W10+X10+Y10+Z10+AB10+AC10+AD10+AE10+AF10+AG10+AH10+AI10+AJ10+AK10)-AL10 -> 0 | AN10: WV finalised at 19.12.2024 altough not received in mSupply
A11: BADILI | B11: 1811 | C11: 04/10/22 | D11: 30/03/2023 | F11: 0 | G11: 0 | H11: 0 | I11: 0 | J11: =SUM(F11:I11) -> 0 | K11: 0 | T11: =AK11-AL11 -> 0 | AA11: =SUM(W11:Z11) -> 0 | AK11: 6084 | AL11: =4224+1860 -> 6084 | AM11: =(V11+W11+X11+Y11+Z11+AB11+AC11+AD11+AE11+AF11+AG11+AH11+AI11+AJ11+AK11)-AL11 -> 0 | AN11: PO#1811 DP: 4224 Partially received on: 17.08.2023; WV finalised at 19.12.2024 altough 1860 balance not received in mSupply
A12: BADILI | B12: 1811 | C12: 04/10/22 | D12: 30/03/2023 | F12: 0 | G12: 0 | H12: 0 | I12: 0 | J12: =SUM(F12:I12) -> 0 | Q12: =AH12-AL12 -> 0 | AA12: =SUM(W12:Z12) -> 0 | AH12: 96400 | AL12: =96300+100 -> 96400 | AM12: =(V12+W12+X12+Y12+Z12+AB12+AC12+AD12+AE12+AF12+AG12+AH12+AI12+AJ12+AK12)-AL12 -> 0 | AN12: PO#1811 Quinine Tabs: 96,300 partially received on: 17.08.23; 100 tabs not received in the system; WV finalised at 19.12.2024 altough 100tabs balance not received in mSupply
A13: BADILI | B13: 1812 | C13: 04/10/22 | D13: 30/03/2023 | F13: 0 | G13: 0 | H13: 0 | I13: 0 | J13: =SUM(F13:I13) -> 0 | K13: 0 | L13: =AC13-AL13 -> 0 | AA13: =SUM(W13:Z13) -> 0 | AC13: 411400 | AL13: =72000+339400 -> 411400 | AM13: =(V13+W13+X13+Y13+Z13+AB13+AC13+AD13+AE13+AF13+AG13+AH13+AI13+AJ13+AK13)-AL13 -> 0 | AN13: 72,000 received on 23.05.2023' ; balance fully received on the 03.04.2024
A14: BADILI | B14: 1813 | C14: 44873 | D14: 30/12/2022 | G14: 0 | J14: =SUM(F14:I14) -> 0 | X14: 6500 | AA14: =SUM(W14:Z14) -> 6500 | AL14: =6400+100 -> 6500 | AM14: =(V14+W14+X14+Y14+Z14+AB14+AC14+AD14+AE14+AF14+AG14+AH14+AI14+AJ14+AK14)-AL14 -> 0 | AN14: 6,400 received on 12.11.22.; 100 outstanding fully received on date yet to confirm in msupply
A15: BADILI | B15: 1813 | C15: 44873 | D15: 31/12/2022 | F15: 0 | J15: =SUM(F15:I15) -> 0 | W15: 6500 | AA15: =SUM(W15:Z15) -> 6500 | AL15: =6470+30 -> 6500 | AM15: =(V15+W15+X15+Y15+Z15+AB15+AC15+AD15+AE15+AF15+AG15+AH15+AI15+AJ15+AK15)-AL15 -> 0 | AN15: 6,470 received on 12.11.22; 30 outstanding fully received on date yet to confirm in msupply
A16: BADILI | B16: 167772255 | C16: 26/06/23 | D16: 30/10/23 | F16: =W16-AK16 -> 0 | J16: =SUM(F16:I16) -> 0 | O16: =AF16-AL16 -> 0 | AA16: =SUM(W16:Z16) -> 0 | AF16: 9879 | AL16: 9879 | AM16: =(V16+W16+X16+Y16+Z16+AB16+AC16+AD16+AE16+AF16+AG16+AH16+AI16+AJ16+AK16)-AL16 -> 0 | AN16: Fully received on the 08.09.2024
A17: BADILI | B17: 167772255 | C17: 26/06/23 | D17: 30/10/23 | F17: =W17-AK17 -> 0 | J17: =SUM(F17:I17) -> 0 | K17: =AB17-AL17 -> 0 | AA17: =SUM(W17:Z17) -> 0 | AB17: 2478100 | AL17: 2478100 | AM17: =(V17+W17+X17+Y17+Z17+AB17+AC17+AD17+AE17+AF17+AG17+AH17+AI17+AJ17+AK17)-AL17 -> 0 | AN17: fully received on the 04.04.2024
A18: BADILI | B18: 167772268 | C18: 03/07/23 | D18: 30/07/23 | F18: =W18-AK18 -> 0 | O18: =AF18-AL18 -> 0 | AA18: =SUM(W18:Z18) -> 0 | AF18: 520 | AL18: 520 | AM18: =(V18+W18+X18+Y18+Z18+AB18+AC18+AD18+AE18+AF18+AG18+AH18+AI18+AJ18+AK18)-AL18 -> 0 | AN18: fully received on 08.09.2024
A19: BADILI | B19: 167772268 | C19: 03/07/23 | D19: 30/07/23 | F19: =W19-AK19 -> 0 | J19: =SUM(F19:I19) -> 0 | K19: =AB19-AL19 -> 0 | AA19: =SUM(W19:Z19) -> 0 | AB19: 548900 | AL19: 548900 | AM19: =(V19+W19+X19+Y19+Z19+AB19+AC19+AD19+AE19+AF19+AG19+AH19+AI19+AJ19+AK19)-AL19 -> 0 | AN19: 548,900 fully received on the 19.04.2024
A20: BADILI | B20: 167772268 | C20: 03/07/23 | D20: 30/07/23 | F20: =W20-AL20 -> 0 | G20: 0 | H20: 0 | I20: 0 | J20: =SUM(F20:I20) -> 0 | K20: 0 | O20: 0 | W20: 120000 | AA20: =SUM(W20:Z20) -> 120000 | AL20: 120000 | AM20: =(V20+W20+X20+Y20+Z20+AB20+AC20+AD20+AE20+AF20+AG20+AH20+AI20+AJ20+AK20)-AL20 -> 0 | AN20: Fully received on the 24th of July 2024 from Borneo
A21: BADILI | B21: 167772268 | C21: 03/07/23 | D21: 30/07/23 | F21: =W21-AK21 -> 0 | G21: =X21-AL21 -> 0 | H21: 0 | I21: 0 | J21: =SUM(F21:I21) -> 0 | K21: 0 | O21: 0 | X21: 90000 | AA21: =SUM(W21:Z21) -> 90000 | AL21: 90000 | AM21: =(V21+W21+X21+Y21+Z21+AB21+AC21+AD21+AE21+AF21+AG21+AH21+AI21+AJ21+AK21)-AL21 -> 0 | AN21: Fully received on the 24th of July 2024 from Borneo
A22: BADILI | B22: 167772269 | C22: 03/07/23 | D22: 30/07/23 | F22: =W22-AK22 -> 0 | G22: 0 | H22: =Y22-AL22 -> 0 | I22: 0 | J22: =SUM(F22:I22) -> 0 | K22: 0 | O22: 0 | Y22: 75000 | AA22: =SUM(W22:Z22) -> 75000 | AL22: 75000 | AM22: =(V22+W22+X22+Y22+Z22+AB22+AC22+AD22+AE22+AF22+AG22+AH22+AI22+AJ22+AK22)-AL22 -> 0 | AN22: Fully received on the 24th of July 2024 from Borneo
A23: BADILI | B23: 167772269 | C23: 03/07/23 | D23: 30/07/23 | F23: =W23-AK23 -> 0 | I23: =Z23-AL23 -> 0 | J23: =SUM(F23:I23) -> 0 | O23: 0 | Z23: 63000 | AA23: =SUM(W23:Z23) -> 63000 | AL23: 63000 | AM23: =(V23+W23+X23+Y23+Z23+AB23+AC23+AD23+AE23+AF23+AG23+AH23+AI23+AJ23+AK23)-AL23 -> 0 | AN23: Fully received on the 24th of July 2024 from Borneo
A24: BADILI | B24: 167772248 | C24: 45072 | D24: 45229 | E24: =V24-AL24 -> 0 | V24: 262500 | AL24: =230000+32500 -> 262500 | AM24: =(V24+W24+X24+Y24+Z24+AB24+AC24+AD24+AE24+AF24+AG24+AH24+AI24+AJ24+AK24)-AL24 -> 0 | AN24: Renewal of RFQ_26.05.23; 230,000/265,500 received on 05.12.2023; balance fully supplied on the 15.03.2024
A25: BADILI | B25: 167772303 | C25: 21/09/23 | D25: 30/11/23 | E25: =V25-AJ25 -> 0 | K25: =AB25-AL25 -> 0 | AB25: 871600 | AL25: 871600 | AM25: =(V25+W25+X25+Y25+Z25+AB25+AC25+AD25+AE25+AF25+AG25+AH25+AI25+AJ25+AK25)-AL25 -> 0 | AN25: Fully received on the 20.02.2024
A26: BADILI | B26: 167772289 | C26: 11/09/23 | D26: 19/09/23 | E26: =V26-AJ26 -> 0 | K26: =AB26-AL26 -> 0 | AB26: 175000 | AL26: 175000 | AM26: =(V26+W26+X26+Y26+Z26+AB26+AC26+AD26+AE26+AF26+AG26+AH26+AI26+AJ26+AK26)-AL26 -> 0 | AN26: PQ Fully supplied from Borneo on the 04.04.2024
A27: BADILI | B27: 167772292 | C27: 11/09/23 | D27: 30/11/23 | E27: =V27-AJ27 -> 0 | K27: =AB27-AL27 -> 0 | AB27: 200000 | AL27: 200000 | AM27: =(V27+W27+X27+Y27+Z27+AB27+AC27+AD27+AE27+AF27+AG27+AH27+AI27+AJ27+AK27)-AL27 -> 0 | AN27: Fully received on the 20.02.2024
A28: BADILI | B28: 167772292 | C28: 11/09/23 | D28: 30/11/23 | E28: =V28-AJ28 -> 0 | K28: 0 | Q28: =AH28-AL28 -> 0 | AH28: 200000 | AL28: 200000 | AM28: =(V28+W28+X28+Y28+Z28+AB28+AC28+AD28+AE28+AF28+AG28+AH28+AI28+AJ28+AK28)-AL28 -> 0 | AN28: Fully received on the 23.04.2024
A29: BADILI | B29: 167772294 | C29: 21/09/23 | D29: 45381 | E29: =V29-AL29 -> 0 | V29: 250000 | AL29: =90000+160000 -> 250000 | AM29: =(V29+W29+X29+Y29+Z29+AB29+AC29+AD29+AE29+AF29+AG29+AH29+AI29+AJ29+AK29)-AL29 -> 0 | AN29: 90000/250000 received on 05.12.2023; balance fully supplied on the 15.03.2024
A30: BADILI | B30: 167772305 | C30: 26/09/23 | D30: 30/11/23 | L30: =AC30-AL30 -> 0 | AC30: 450000 | AL30: 450000 | AM30: =(V30+W30+X30+Y30+Z30+AB30+AC30+AD30+AE30+AF30+AG30+AH30+AI30+AJ30+AK30)-AL30 -> 0 | AN30: fully received on date: 09.05.2024
A31: BADILI | B31: 167772329 | C31: 14/11/23 | D31: 30/03/24 | E31: =V31-AL31 -> 0 | V31: 250000 | AL31: 250000 | AM31: =(V31+W31+X31+Y31+Z31+AB31+AC31+AD31+AE31+AF31+AG31+AH31+AI31+AJ31+AK31)-AL31 -> 0 | AN31: Fully received on the 03.04.2024
A32: BADILI | B32: 167772332 | C32: 45279 | D32: 45381 | K32: =AB32-AL32 -> 0 | AB32: 2500000 | AL32: =300000+2200000 -> 2500000 | AM32: =(V32+W32+X32+Y32+Z32+AB32+AC32+AD32+AE32+AF32+AG32+AH32+AI32+AJ32+AK32)-AL32 -> 0 | AN32: Partially received some PQ on the 12.06.2024; fully received on the 18.09.2024
A33: BADILI | B33: 167772350 | C33: 45322 | D33: 45412 | K33: =AB33-AL33 -> 0 | AB33: 1000000 | AL33: =98300+901700 -> 1000000 | AM33: =(V33+W33+X33+Y33+Z33+AB33+AC33+AD33+AE33+AF33+AG33+AH33+AI33+AJ33+AK33)-AL33 -> 0 | AN33: 98,000 PQ Partially received on the 11.03.2024 from Supreme Pharma; fully supplied on the 28.05.2024
A34: BADILI | B34: 167772352 | C34: 45323 | D34: 45412 | K34: =AB34-AL34 -> 0 | AB34: 1000000 | AL34: =573000+427000 -> 1000000 | AM34: =(V34+W34+X34+Y34+Z34+AB34+AC34+AD34+AE34+AF34+AG34+AH34+AI34+AJ34+AK34)-AL34 -> 0 | AN34: 573000/1,000,000 partially received on: 14.05.2024; remainder fully supplied on 28.05.2024
A35: BADILI | B35: 167772357 | C35: 09/04/24 | D35: 30/05/24 | K35: =AB35-AL35 -> 0 | AB35: 98300 | AL35: 98300 | AM35: =(V35+W35+X35+Y35+Z35+AB35+AC35+AD35+AE35+AF35+AG35+AH35+AI35+AJ35+AK35)-AL35 -> 0 | AN35: PQ from Supreme; Fully received on the 28.05.2024
A36: BADILI | B36: 167772365 | C36: 16/04/24 | D36: 30/05/24 | K36: =AB36-AL36 -> 0 | AA36: =SUM(W36:Z36) -> 0 | AB36: 495700 | AL36: 495700 | AM36: =(V36+W36+X36+Y36+Z36+AB36+AC36+AD36+AE36+AF36+AG36+AH36+AI36+AJ36+AK36)-AL36 -> 0 | AN36: PQ from Borneo; Partially receiveid on the 16.05.2024
A37: BADILI | B37: 167772377 | C37: 28/04/24 | D37: 30/06/24 | F37: =W37-AL37 -> 0 | J37: =SUM(F37:I37) -> 0 | W37: 10800 | AA37: =SUM(W37:Z37) -> 10800 | AL37: =3600+7200 -> 10800 | AM37: =(V37+W37+X37+Y37+Z37+AB37+AC37+AD37+AE37+AF37+AG37+AH37+AI37+AJ37+AK37)-AL37 -> 0 | AN37: AL6 from Modern 2024; partially received on the 21.06.2024 & 26.06.2024; From exstock #23; outstanding fully received on the 21.10.2024
A38: BADILI | B38: 167772377 | C38: 28/04/24 | D38: 30/06/24 | G38: =X38-AL38 -> 0 | J38: =SUM(F38:I38) -> 0 | X38: 14700 | AA38: =SUM(W38:Z38) -> 14700 | AL38: =3600+11100 -> 14700 | AM38: =(V38+W38+X38+Y38+Z38+AB38+AC38+AD38+AE38+AF38+AG38+AH38+AI38+AJ38+AK38)-AL38 -> 0 | AN38: AL12 from Modern 2024; partially received on the 21.06.2024 & 26.06.2024; outstanding fully received on the 21.10.2024
A39: BADILI | B39: 167772377 | C39: 28/04/24 | D39: 30/06/24 | H39: =Y39-AL39 -> 2160 | J39: =SUM(F39:I39) -> 2160 | Y39: 16710 | AA39: =SUM(W39:Z39) -> 16710 | AL39: =1440+13110 -> 14550 | AM39: =(V39+W39+X39+Y39+Z39+AB39+AC39+AD39+AE39+AF39+AG39+AH39+AI39+AJ39+AK39)-AL39 -> 2160 | AN39: Al18 from Modern 2024; partially received on the 21.06.2024 & 26.06.2024; 13,110 partially recieced on 21.10.25
A40: BADILI | B40: 167772377 | C40: 28/04/24 | D40: 30/06/24 | I40: =Z40-AL40 -> 2160 | J40: =SUM(F40:I40) -> 2160 | Z40: 21180 | AA40: =SUM(W40:Z40) -> 21180 | AL40: =1440+16200+1380 -> 19020 | AM40: =(V40+W40+X40+Y40+Z40+AB40+AC40+AD40+AE40+AF40+AG40+AH40+AI40+AJ40+AK40)-AL40 -> 2160 | AN40: AL24 from Modern 2024; partially received on the 21.06.2024 & 26.06.2024; 16,200 partially received on the 24.07.24 from Modern Pharma; 1,380 partially delivered on 21.10.24
A41: BADILI | B41: 167772381 | C41: 30/04/24 | D41: 30/07/24 | J41: =SUM(F41:I41) -> 0 | K41: =AB41-AL41 -> 0 | AA41: =SUM(W41:Z41) -> 0 | AB41: 157400 | AL41: 157400 | AM41: =(V41+W41+X41+Y41+Z41+AB41+AC41+AD41+AE41+AF41+AG41+AH41+AI41+AJ41+AK41)-AL41 -> 0 | AN41: PQ from Modern 2024; Fully received on the 25.06.2024
A42: BADILI | B42: 167772411 | C42: 04/08/24 | D42: 30/03/25 | E42: =V42-AL42 -> 0 | J42: =SUM(F42:I42) -> 0 | V42: 212500 | AL42: =20000+625+191875 -> 212500 | AM42: =(V42+W42+X42+Y42+Z42+AB42+AC42+AD42+AE42+AF42+AG42+AH42+AI42+AJ42+AK42)-AL42 -> 0 | AN42: 08.2024 order from Modern; partly received on the 20.08.2024; outstanding (191875) fully recived on the 03.12.2024
A43: BADILI | B43: 167772410 | C43: 04/08/24 | D43: 30/10/24 | J43: =SUM(F43:I43) -> 0 | M43: =AD43-AL43 -> 0 | AD43: 40000 | AL43: 40000 | AM43: =(V43+W43+X43+Y43+Z43+AB43+AC43+AD43+AE43+AF43+AG43+AH43+AI43+AJ43+AK43)-AL43 -> 0 | AN43: 08.2024 order from Borneo; Fully received on the 17.10.2024
A44: BADILI | B44: 167772410 | C44: 04/08/24 | D44: 30/10/24 | J44: =SUM(F44:I44) -> 0 | N44: =AE44-AL44 -> 0 | AE44: 20000 | AL44: 20000 | AM44: =(V44+W44+X44+Y44+Z44+AB44+AC44+AD44+AE44+AF44+AG44+AH44+AI44+AJ44+AK44)-AL44 -> 0 | AN44: 08.2024 order from Borneo; Fully received on the 17.10.2024
A45: BADILI | B45: 167772409 | C45: 04/08/24 | D45: 30/10/24 | I45: =Z45-AL45 -> 0 | J45: =SUM(F45:I45) -> 0 | Z45: 34530 | AL45: 34530 | AM45: =(V45+W45+X45+Y45+Z45+AB45+AC45+AD45+AE45+AF45+AG45+AH45+AI45+AJ45+AK45)-AL45 -> 0 | AN45: 08.2024 order from Borneo; Fully received on the 11.06.2025
A46: BADILI | B46: 167772409 | C46: 04/08/24 | D46: 30/10/24 | H46: =Y46-AL46 -> 0 | J46: =SUM(F46:I46) -> 0 | Y46: 33120 | AL46: 33120 | AM46: =(V46+W46+X46+Y46+Z46+AB46+AC46+AD46+AE46+AF46+AG46+AH46+AI46+AJ46+AK46)-AL46 -> 0 | AN46: 08.2024 order from Borneo; Fully received on the 11.06.2025
A47: BADILI | B47: 167772409 | C47: 04/08/24 | D47: 30/10/24 | G47: =X47-AL47 -> 0 | J47: =SUM(F47:I47) -> 0 | X47: 36000 | AL47: 36000 | AM47: =(V47+W47+X47+Y47+Z47+AB47+AC47+AD47+AE47+AF47+AG47+AH47+AI47+AJ47+AK47)-AL47 -> 0 | AN47: 08.2024 order from Borneo; Fully received on the 11.06.2025
A48: BADILI | B48: 167772409 | C48: 04/08/24 | D48: 30/10/24 | F48: =W48-AL48 -> 0 | J48: =SUM(F48:I48) -> 0 | W48: 51750 | AA48: =SUM(W48:Z48) -> 51750 | AL48: 51750 | AM48: =(V48+W48+X48+Y48+Z48+AB48+AC48+AD48+AE48+AF48+AG48+AH48+AI48+AJ48+AK48)-AL48 -> 0 | AN48: 08.2024 order from Borneo; Fully received on the 11.06.2025
A49: BADILI | B49: 167772188 | C49: 03/12/24 | D49: 30/06/25 | E49: =V49-AL49 -> 0 | V49: 250000 | AL49: 250000 | AM49: =(V49+W49+X49+Y49+Z49+AB49+AC49+AD49+AE49+AF49+AG49+AH49+AI49+AJ49+AK49)-AL49 -> 0 | AN49: new order for yr 2025; Fully received on the 14.05.2025 from Modern Pharm. Exp Date: 28.02.2027
A50: BADILI | B50: 167772249 | C50: 10/12/24 | D50: 30/03/25 | AD50: 20000 | AL50: 20000 | AM50: =(V50+W50+X50+Y50+Z50+AB50+AC50+AD50+AE50+AF50+AG50+AH50+AI50+AJ50+AK50)-AL50 -> 0 | AN50: new order for yr 2025; Fully received on the 20.02.25
A51: BADILI | B51: 167772250 | C51: 11/12/24 | D51: 30/03/25 | N51: =AE51-AL51 -> 0 | AE51: 30000 | AL51: =22000+8000 -> 30000 | AM51: =(V51+W51+X51+Y51+Z51+AB51+AC51+AD51+AE51+AF51+AG51+AH51+AI51+AJ51+AK51)-AL51 -> 0 | AN51: new order for yr 2025; 22000/30000 received on the 04.04.2025; outstanding 8000 fully received on 06.06.25
A52: BADILI | B52: 167772386 | C52: 45701 | D52: 45960 | E52: =V52-AL52 -> 0 | V52: 250000 | AL52: 250000 | AM52: =(V52+W52+X52+Y52+Z52+AB52+AC52+AD52+AE52+AF52+AG52+AH52+AI52+AJ52+AK52)-AL52 -> 0 | AN52: New13.02.25 from Modern for year 2025; Fully received on the 01.07.2025
A53: BADILI | B53: 167772400 | C53: 16/03/25 | D53: 30/03/25 | L53: =AC53-AL53 -> 0 | AC53: 260400 | AL53: 260400 | AM53: =(V53+W53+X53+Y53+Z53+AB53+AC53+AD53+AE53+AF53+AG53+AH53+AI53+AJ53+AK53)-AL53 -> 0 | AN53: 260,400 fully supplied on the 24.03.25
A54: BADILI | B54: 167772397 | C54: 16/03/25 | D54: 30/03/25 | N54: =AE54-AL54 -> 0 | AE54: 20000 | AL54: 20000 | AM54: =(V54+W54+X54+Y54+Z54+AB54+AC54+AD54+AE54+AF54+AG54+AH54+AI54+AJ54+AK54)-AL54 -> 0 | AN54: Fully supplied on the 12.03.25 from Borneo
A55: BADILI | B55: 167772397 | C55: 16/03/25 | D55: 30/03/25 | P55: =AG55-AL55 -> 0 | AG55: 1760 | AL55: 1760 | AM55: =(V55+W55+X55+Y55+Z55+AB55+AC55+AD55+AE55+AF55+AG55+AH55+AI55+AJ55+AK55)-AL55 -> 0 | AN55: Fully received on the 12th of April 2025
A56: BADILI | B56: 167772407 | C56: 02/04/25 | D56: 30/04/25 | K56: =AB56-AL56 -> 0 | AB56: 1000000 | AL56: 1000000 | AM56: =(V56+W56+X56+Y56+Z56+AB56+AC56+AD56+AE56+AF56+AG56+AH56+AI56+AJ56+AK56)-AL56 -> 0 | AN56: Fully received on the 16.04.2025 from Modern Pharmacy
A57: BADILI | B57: 167772427 | C57: 10/04/25 | D57: 30/06/25 | M57: =AD57-AL57 -> 0 | AD57: 20000 | AL57: 20000 | AM57: =(V57+W57+X57+Y57+Z57+AB57+AC57+AD57+AE57+AF57+AG57+AH57+AI57+AJ57+AK57)-AL57 -> 0 | AN57: Fully received on the 24.04.25 from Savimeds
A58: BADILI | B58: 167772488 | C58: 03/11/25 | D58: 30/04/26 | E58: =V58-AL58 -> 0 | F58: =W58-AL58 -> 150000 | G58: =X58-AL58 -> 0 | H58: =Y58-AL58 -> 0 | I58: =Z58-AL58 -> 0 | J58: =SUM(F58:I58) -> 150000 | K58: =AB58-AL58 -> 0 | W58: 150000 | AA58: =SUM(W58:Z58) -> 150000 | AM58: =(V58+W58+X58+Y58+Z58+AB58+AC58+AD58+AE58+AF58+AG58+AH58+AI58+AJ58+AK58)-AL58 -> 150000
A59: BADILI | B59: 167772481 | C59: 25/10/25 | D59: 30/11/25 | F59: =W59-AL59 -> 26400 | J59: =SUM(F59:I59) -> 26400 | W59: 30000 | AA59: =SUM(W59:Z59) -> 30000 | AL59: 3600 | AM59: =(V59+W59+X59+Y59+Z59+AB59+AC59+AD59+AE59+AF59+AG59+AH59+AI59+AJ59+AK59)-AL59 -> 26400 | AN59: received on the 19.11.25
A60: BADILI | B60: 167772489 | C60: 03/11/25 | D60: 30/04/26 | E60: =V60-AL60 -> 0 | F60: =W60-AL60 -> 0 | G60: =X60-AL60 -> 90000 | H60: =Y60-AL60 -> 0 | I60: =Z60-AL60 -> 0 | J60: =SUM(F60:I60) -> 90000 | K60: =AB60-AL60 -> 0 | X60: 90000 | AA60: =SUM(W60:Z60) -> 90000 | AM60: =(V60+W60+X60+Y60+Z60+AB60+AC60+AD60+AE60+AF60+AG60+AH60+AI60+AJ60+AK60)-AL60 -> 90000
A61: BADILI | B61: 167772482 | C61: 25/10/25 | D61: 30/11/25 | G61: =X61-AL61 -> 26400 | J61: =SUM(F61:I61) -> 26400 | X61: 30000 | AA61: =SUM(W61:Z61) -> 30000 | AL61: 3600 | AM61: =(V61+W61+X61+Y61+Z61+AB61+AC61+AD61+AE61+AF61+AG61+AH61+AI61+AJ61+AK61)-AL61 -> 26400 | AN61: received on the 19.11.25
A62: BADILI | B62: 167772490 | C62: 03/11/25 | D62: 30/04/26 | E62: =V62-AL62 -> 0 | F62: =W62-AL62 -> 0 | G62: =X62-AL62 -> 0 | H62: =Y62-AL62 -> 90000 | I62: =Z62-AL62 -> 0 | J62: =SUM(F62:I62) -> 90000 | K62: =AB62-AL62 -> 0 | Y62: 90000 | AA62: =SUM(W62:Z62) -> 90000 | AM62: =(V62+W62+X62+Y62+Z62+AB62+AC62+AD62+AE62+AF62+AG62+AH62+AI62+AJ62+AK62)-AL62 -> 90000
A63: BADILI | B63: 167772482 | C63: 25/10/25 | D63: 30/11/25 | H63: =Y63-AL63 -> 26400 | J63: =SUM(F63:I63) -> 26400 | Y63: 30000 | AA63: =SUM(W63:Z63) -> 30000 | AL63: 3600 | AM63: =(V63+W63+X63+Y63+Z63+AB63+AC63+AD63+AE63+AF63+AG63+AH63+AI63+AJ63+AK63)-AL63 -> 26400 | AN63: received on the 19.11.25
A64: BADILI | B64: 167772491 | C64: 03/11/25 | D64: 30/04/26 | E64: =V64-AL64 -> 0 | F64: =W64-AL64 -> 0 | G64: =X64-AL64 -> 0 | H64: =Y64-AL64 -> 0 | I64: =Z64-AL64 -> 90000 | J64: =SUM(F64:I64) -> 90000 | K64: =AB64-AL64 -> 0 | Z64: 90000 | AA64: =SUM(W64:Z64) -> 90000 | AM64: =(V64+W64+X64+Y64+Z64+AB64+AC64+AD64+AE64+AF64+AG64+AH64+AI64+AJ64+AK64)-AL64 -> 90000
A65: BADILI | B65: 167772482 | C65: 25/10/25 | D65: 30/11/25 | I65: =Z65-AL65 -> 26400 | J65: =SUM(F65:I65) -> 26400 | Z65: 30000 | AA65: =SUM(W65:Z65) -> 30000 | AL65: 3600 | AM65: =(V65+W65+X65+Y65+Z65+AB65+AC65+AD65+AE65+AF65+AG65+AH65+AI65+AJ65+AK65)-AL65 -> 26400 | AN65: received on the 19.11.25
A66: BADILI | B66: 167772479 | C66: 24/10/25 | D66: 30/11/25 | E66: =V66-AL66 -> 41825 | J66: =SUM(F66:I66) -> 0 | V66: 237500 | AA66: =SUM(W66:Z66) -> 0 | AL66: =37500+158175 -> 195675 | AM66: =(V66+W66+X66+Y66+Z66+AB66+AC66+AD66+AE66+AF66+AG66+AH66+AI66+AJ66+AK66)-AL66 -> 41825 | AN66: 37500/200000 received 30.10.2025-RFQ25; partially received in Jan 2026
A67: BADILI | B67: 167772493 | C67: 03/11/25 | D67: 30/04/26 | E67: =V67-AL67 -> 0 | F67: =W67-AL67 -> 0 | G67: =X67-AL67 -> 0 | H67: =Y67-AL67 -> 0 | I67: =Z67-AL67 -> 0 | J67: =SUM(F67:I67) -> 0 | K67: =AB67-AL67 -> 300000 | AA67: =SUM(W67:Z67) -> 0 | AB67: 300000 | AM67: =(V67+W67+X67+Y67+Z67+AB67+AC67+AD67+AE67+AF67+AG67+AH67+AI67+AJ67+AK67)-AL67 -> 300000
A68: BADILI | B68: 167772483 | C68: 27/10/25 | D68: 30/11/25 | J68: =SUM(F68:I68) -> 0 | K68: =AB68-AL68 -> 0 | AA68: =SUM(W68:Z68) -> 0 | AB68: 1000000 | AL68: 1000000 | AM68: =(V68+W68+X68+Y68+Z68+AB68+AC68+AD68+AE68+AF68+AG68+AH68+AI68+AJ68+AK68)-AL68 -> 0 | AN68: Fully received on the 04.11.2025
A69: BADILI | B69: 167772481 | C69: 25/10/25 | D69: 30/11/25 | E69: =V69-AL69 -> 0 | F69: =W69-AL69 -> 0 | G69: =X69-AL69 -> 0 | H69: =Y69-AL69 -> 0 | I69: =Z69-AL69 -> 0 | J69: =SUM(F69:I69) -> 0 | K69: =AB69-AL69 -> 400000 | AA69: =SUM(W69:Z69) -> 0 | AB69: 400000 | AM69: =(V69+W69+X69+Y69+Z69+AB69+AC69+AD69+AE69+AF69+AG69+AH69+AI69+AJ69+AK69)-AL69 -> 400000
A70: BADILI | B70: 167772492 | C70: 03/11/25 | D70: 30/04/26 | E70: =V70-AL70 -> 0 | F70: =W70-AL70 -> 0 | G70: =X70-AL70 -> 0 | H70: =Y70-AL70 -> 0 | I70: =Z70-AL70 -> 0 | J70: =SUM(F70:I70) -> 0 | K70: =AB70-AL70 -> 0 | P70: =AG70-AL70 -> 4000 | AA70: =SUM(W70:Z70) -> 0 | AG70: 4000 | AM70: =(V70+W70+X70+Y70+Z70+AB70+AC70+AD70+AE70+AF70+AG70+AH70+AI70+AJ70+AK70)-AL70 -> 4000
A71: BADILI | B71: 167772493 | C71: 03/11/25 | D71: 30/04/26 | E71: =V71-AL71 -> 0 | F71: =W71-AL71 -> 0 | G71: =X71-AL71 -> 0 | H71: =Y71-AL71 -> 0 | I71: =Z71-AL71 -> 0 | J71: =SUM(F71:I71) -> 0 | K71: =AB71-AL71 -> 0 | Q71: =AH71-AL71 -> 100000 | AA71: =SUM(W71:Z71) -> 0 | AH71: 100000 | AM71: =(V71+W71+X71+Y71+Z71+AB71+AC71+AD71+AE71+AF71+AG71+AH71+AI71+AJ71+AK71)-AL71 -> 100000
A72: BADILI | B72: 167772495 | C72: 05/11/25 | D72: 30/04/26 | M72: =AD72-AL72 -> 0 | AD72: 10000 | AL72: 10000 | AM72: =(V72+W72+X72+Y72+Z72+AB72+AC72+AD72+AE72+AF72+AG72+AH72+AI72+AJ72+AK72)-AL72 -> 0 | AN72: Fully received on the 08.12.2025
A73: BADILI | B73: 167772495 | C73: 05/11/25 | D73: 30/04/26 | N73: =AE73-AL73 -> 0 | AE73: 7000 | AL73: 7000 | AM73: =(V73+W73+X73+Y73+Z73+AB73+AC73+AD73+AE73+AF73+AG73+AH73+AI73+AJ73+AK73)-AL73 -> 0 | AN73: Fully received on the 08.12.2025
A74: BADILI | B74: 167772494 | C74: 03/11/25 | D74: 30/04/26 | L74: =AC74-AL74 -> 150000 | AC74: 150000 | AM74: =(V74+W74+X74+Y74+Z74+AB74+AC74+AD74+AE74+AF74+AG74+AH74+AI74+AJ74+AK74)-AL74 -> 150000
A75: BADILI | B75: 167772564 | C75: 45996 | D75: 46203 | E75: =V75-AL75 -> 225000 | V75: 225000 | AM75: =(V75+W75+X75+Y75+Z75+AB75+AC75+AD75+AE75+AF75+AG75+AH75+AI75+AJ75+AK75)-AL75 -> 225000
A76: BADILI | B76: 167772565 | C76: 46000 | D76: 46052 | E76: =V76-AL76 -> 0 | F76: =W76-AL76 -> 0 | G76: =X76-AL76 -> 0 | H76: =Y76-AL76 -> 0 | I76: =Z76-AL76 -> 0 | J76: =SUM(F76:I76) -> 0 | K76: =AB76-AL76 -> 400000 | AA76: =SUM(W76:Z76) -> 0 | AB76: 400000 | AM76: =(V76+W76+X76+Y76+Z76+AB76+AC76+AD76+AE76+AF76+AG76+AH76+AI76+AJ76+AK76)-AL76 -> 400000
B77: TOTAL | E77: =SUM(E6:E76) -> 266825 | F77: =SUM(F6:F76) -> 176400 | G77: =SUM(G6:G76) -> 116400 | H77: =SUM(H6:H76) -> 118560 | I77: =SUM(I6:I76) -> 118560 | J77: =SUM(J6:J76) -> 529920 | K77: =SUM(K6:K76) -> 1100000 | L77: =SUM(L6:L76) -> 150000 | ... AM77: =SUM(AM6:AM76) -> 2150745
A78: HAGEN | B78: 935 | C78: 30/06/22 | D78: 30/10/22 | E78: 0 | F78: 0 | G78: 0 | H78: 0 | I78: 0 | J78: =SUM(F78:I78) -> 0 | K78: 0 | L78: 0 | M78: 0 | N78: 0 | P78: 0 | Q78: 0 | R78: 0 | S78: 0 | T78: 0 | V78: 0 | W78: 0 | X78: 0 | Y78: 0 | Z78: 0 | AA78: =SUM(W78:Z78) -> 0 | AB78: 0 | AC78: 0 | AD78: 0 | AE78: 0 | AF78: 3575 | AG78: 0 | AH78: 0 | AI78: 0 | AJ78: 0 | AK78: 0 | AL78: 3575 | AM78: =(V78+W78+X78+Y78+Z78+AB78+AC78+AD78+AE78+AF78+AG78+AH78+AI78+AJ78+AK78)-AL78 -> 0 | AN78: WV finalised at 19.12.2024 altough not received in mSupply
A79: HAGEN | B79: 1000 | C79: 4/10/2022 | D79: 30/03/2023 | J79: =SUM(F79:I79) -> 0 | O79: =AF79-AL79 -> 0 | AA79: =SUM(W79:Z79) -> 0 | AF79: 5960 | AL79: 5960 | AM79: =(V79+W79+X79+Y79+Z79+AB79+AC79+AD79+AE79+AF79+AG79+AH79+AI79+AJ79+AK79)-AL79 -> 0 | AN79: fully received on date: 14.05.2024
A80: HAGEN | B80: 1001 | C80: 4/10/2022 | D80: 30/03/2023 | J80: =SUM(F80:I80) -> 0 | T80: =AK80-AL80 -> 0 | AA80: =SUM(W80:Z80) -> 0 | AK80: 4860 | AL80: 4860 | AM80: =(V80+W80+X80+Y80+Z80+AB80+AC80+AD80+AE80+AF80+AG80+AH80+AI80+AJ80+AK80)-AL80 -> 0 | AN80: WV finalised at 19.12.2024 altough not received in mSupply
A81: HAGEN | B81: 1001 | C81: 4/10/2022 | D81: 30/03/2023 | J81: =SUM(F81:I81) -> 0 | Q81: =AH81-AL81 -> 0 | AA81: =SUM(W81:Z81) -> 0 | AH81: 77100 | AL81: 77100 | AM81: =(V81+W81+X81+Y81+Z81+AB81+AC81+AD81+AE81+AF81+AG81+AH81+AI81+AJ81+AK81)-AL81 -> 0 | AN81: WV finalised at 19.12.2024 altough not received in mSupply
A82: HAGEN | B82: 1024 | C82: 28.11.2022 | D82: 30.03.23 | E82: =V82-AL82 -> 0 | F82: 0 | G82: 0 | H82: =Y82-AO265 -> 0 | I82: =Z82-AP265 -> 0 | J82: =SUM(F82:I82) -> 0 | K82: =AB82-AR265 -> 0 | V82: 187500 | AA82: =SUM(W82:Z82) -> 0 | AL82: =120000+48750+15000+3750 -> 187500 | AM82: =(V82+W82+X82+Y82+Z82+AB82+AC82+AD82+AE82+AF82+AG82+AH82+AI82+AJ82+AK82)-AL82 -> 0 | AN82: Partly Received 120,000 on 13.03.2023; 48,750 received in mSupply on; 15,000 received on 16.04.2024; Final parts received on 01.10.24
A83: HAGEN | B83: 3212 | C83: 08/05/23 | D83: 30/07/23 | E83: 0 | F83: 0 | G83: =X83-AL83 -> 0 | H83: =Y83-AO267 -> 0 | I83: =Z83-AP267 -> 0 | J83: =SUM(F83:I83) -> 0 | K83: =AB83-AR267 -> 0 | X83: 11700 | AA83: =SUM(W83:Z83) -> 11700 | AL83: 11700 | AM83: =(V83+W83+X83+Y83+Z83+AB83+AC83+AD83+AE83+AF83+AG83+AH83+AI83+AJ83+AK83)-AL83 -> 0 | AN83: Fully received on the 30.05.2024
A84: HAGEN | B84: 3212 | C84: 08/05/23 | D84: 30/07/23 | E84: 0 | F84: 0 | G84: 0 | H84: =Y84-AL84 -> 0 | J84: =SUM(F84:I84) -> 0 | Y84: 21240 | AA84: =SUM(W84:Z84) -> 21240 | AL84: 21240 | AM84: =(V84+W84+X84+Y84+Z84+AB84+AC84+AD84+AE84+AF84+AG84+AH84+AI84+AJ84+AK84)-AL84 -> 0 | AN84: Fully received on the 14&15 of March 2024
A85: HAGEN | B85: 3212 | C85: 08/05/23 | D85: 30/07/23 | E85: 0 | F85: 0 | G85: 0 | H85: =Y85-AL85 -> 0 | J85: =SUM(F85:I85) -> 0 | K85: =AB85-AR268 -> 0 | Y85: 21240 | Z85: 0 | AA85: =SUM(W85:Z85) -> 21240 | AL85: =13530+7710 -> 21240 | AM85: =(V85+W85+X85+Y85+Z85+AB85+AC85+AD85+AE85+AF85+AG85+AH85+AI85+AJ85+AK85)-AL85 -> 0 | AN85: AL18 Partially received on the 14.03.2024; Fully supplied on the 30.05.2024
A86: HAGEN | B86: 3235 | C86: 08/05/23 | D86: 30/07/23 | E86: 0 | F86: 0 | G86: 0 | H86: =Y86-AO269 -> 0 | I86: =Z86-AL86 -> 0 | J86: =SUM(F86:I86) -> 0 | K86: =AB86-AR267 -> 0 | Z86: 21240 | AA86: =SUM(W86:Z86) -> 21240 | AL86: 21240 | AM86: =(V86+W86+X86+Y86+Z86+AB86+AC86+AD86+AE86+AF86+AG86+AH86+AI86+AJ86+AK86)-AL86 -> 0 | AN86: Fully received on the 14.03.2024 AL24
A87: HAGEN | B87: 3235 | C87: 12/06/23 | D87: 30/10/23 | E87: 0 | F87: 0 | G87: 0 | H87: =Y87-AL87 -> 0 | I87: =Z87-AP271 -> 0 | J87: =SUM(F87:I87) -> 0 | K87: =AB87-AR269 -> 0 | Y87: 7710 | AA87: =SUM(W87:Z87) -> 7710 | AL87: 7710 | AM87: =(V87+W87+X87+Y87+Z87+AB87+AC87+AD87+AE87+AF87+AG87+AH87+AI87+AJ87+AK87)-AL87 -> 0 | AN87: Fully received on the 14.03.2024 AL18
A88: HAGEN | B88: 3235 | C88: 12/06/23 | D88: 30/10/23 | E88: 0 | F88: 0 | G88: =X88-AL88 -> 0 | H88: =Y88-AO270 -> 0 | I88: =Z88-AP270 -> 0 | J88: =SUM(F88:I88) -> 0 | K88: =AB88-AR270 -> 0 | X88: 11700 | AA88: =SUM(W88:Z88) -> 11700 | AL88: 11700 | AM88: =(V88+W88+X88+Y88+Z88+AB88+AC88+AD88+AE88+AF88+AG88+AH88+AI88+AJ88+AK88)-AL88 -> 0 | AN88: Fully received on the 14.03.2024 AL12
A89: HAGEN | B89: 3266 | C89: 31/07/23 | D89: 30/10/23 | J89: =SUM(F89:I89) -> 0 | K89: =AB89-AL89 -> 0 | AA89: =SUM(W89:Z89) -> 0 | AB89: 500000 | AL89: 500000 | AM89: =(V89+W89+X89+Y89+Z89+AB89+AC89+AD89+AE89+AF89+AG89+AH89+AI89+AJ89+AK89)-AL89 -> 0 | AN89: Fully received on the 17.04.2024
A90: HAGEN | B90: 3266 | C90: 31/07/23 | D90: 30/10/23 | F90: =W90-AL90 -> 0 | J90: =SUM(F90:I90) -> 0 | K90: 0 | W90: 25500 | AA90: =SUM(W90:Z90) -> 25500 | AL90: 25500 | AM90: =(V90+W90+X90+Y90+Z90+AB90+AC90+AD90+AE90+AF90+AG90+AH90+AI90+AJ90+AK90)-AL90 -> 0 | AN90: ACT6 Fully received on 02.08.2024;
A91: HAGEN | B91: 3266 | C91: 31/07/23 | D91: 30/10/23 | G91: =X91-AL91 -> 0 | J91: =SUM(F91:I91) -> 0 | K91: 0 | X91: 24000 | AA91: =SUM(W91:Z91) -> 24000 | AL91: 24000 | AM91: =(V91+W91+X91+Y91+Z91+AB91+AC91+AD91+AE91+AF91+AG91+AH91+AI91+AJ91+AK91)-AL91 -> 0 | AN91: ACT12 Fully received on 02.08.2024;
A92: HAGEN | B92: 3266 | C92: 31/07/23 | D92: 30/10/23 | H92: =Y92-AL92 -> 0 | J92: =SUM(F92:I92) -> 0 | K92: 0 | Y92: 15000 | AA92: =SUM(W92:Z92) -> 15000 | AL92: 15000 | AM92: =(V92+W92+X92+Y92+Z92+AB92+AC92+AD92+AE92+AF92+AG92+AH92+AI92+AJ92+AK92)-AL92 -> 0 | AN92: ACT18 Fully received on 02.08.2024;
A93: HAGEN | B93: 3266 | C93: 31/07/23 | D93: 30/10/23 | I93: =Z93-AL93 -> 0 | J93: =SUM(F93:I93) -> 0 | K93: 0 | Z93: 13500 | AA93: =SUM(W93:Z93) -> 13500 | AL93: 13500 | AM93: =(V93+W93+X93+Y93+Z93+AB93+AC93+AD93+AE93+AF93+AG93+AH93+AI93+AJ93+AK93)-AL93 -> 0 | AN93: ACT24 Fully received on 02.08.2024;
A94: HAGEN | B94: 3273 | C94: 11/09/23 | D94: 19/09/23 | K94: =AB94-AL94 -> 0 | AA94: =SUM(W94:Z94) -> 0 | AB94: 175000 | AL94: 175000 | AM94: =(V94+W94+X94+Y94+Z94+AB94+AC94+AD94+AE94+AF94+AG94+AH94+AI94+AJ94+AK94)-AL94 -> 0 | AN94: fully received on the 02.04.2024
A95: HAGEN | B95: 3276 | C95: 11/09/23 | D95: 30/11/23 | K95: =AB95-AL95 -> 0 | AA95: =SUM(W95:Z95) -> 0 | AB95: 200000 | AL95: 200000 | AM95: =(V95+W95+X95+Y95+Z95+AB95+AC95+AD95+AE95+AF95+AG95+AH95+AI95+AJ95+AK95)-AL95 -> 0 | AN95: PQ Fully received on the 26.01.2024
A96: HAGEN | B96: 3278 | C96: 21/09/23 | D96: 30/11/23 | E96: =V96-AL96 -> 0 | K96: 0 | V96: 212500 | AA96: =SUM(W96:Z96) -> 0 | AL96: 212500 | AM96: =(V96+W96+X96+Y96+Z96+AB96+AC96+AD96+AE96+AF96+AG96+AH96+AI96+AJ96+AK96)-AL96 -> 0 | AN96: RDT Fully received on the 28.03.2024 from Modern
A97: HAGEN | B97: 3278 | C97: 21/09/23 | D97: 30/11/23 | K97: =AB97-AL97 -> 0 | AA97: =SUM(W97:Z97) -> 0 | AB97: 435800 | AL97: 435800 | AM97: =(V97+W97+X97+Y97+Z97+AB97+AC97+AD97+AE97+AF97+AG97+AH97+AI97+AJ97+AK97)-AL97 -> 0 | AN97: PQ 435,800 fully received on 26.01.2024
A98: HAGEN | B98: 3279 | C98: 26/09/23 | D98: 30/11/23 | K98: 0 | L98: =AC98-AL98 -> 0 | AA98: =SUM(W98:Z98) -> 0 | AC98: 300000 | AL98: 300000 | AM98: =(V98+W98+X98+Y98+Z98+AB98+AC98+AD98+AE98+AF98+AG98+AH98+AI98+AJ98+AK98)-AL98 -> 0 | AN98: SP Fully received on the 14.03.2024 from Modern
A99: HAGEN | B99: 3305 | C99: 45322 | D99: 45412 | J99: =SUM(F99:I99) -> 0 | K99: =AB99-AL99 -> 0 | AA99: =SUM(W99:Z99) -> 0 | AB99: 500000 | AL99: 500000 | AM99: =(V99+W99+X99+Y99+Z99+AB99+AC99+AD99+AE99+AF99+AG99+AH99+AI99+AJ99+AK99)-AL99 -> 0 | AN99: Fully received from Supreme Pharma on 16.08.2024
A100: HAGEN | B100: 3325 | C100: 28/04/24 | D100: 30/06/24 | F100: =W100-AL100 -> 0 | J100: =SUM(F100:I100) -> 0 | W100: 7500 | AA100: =SUM(W100:Z100) -> 7500 | AL100: =4320+2880+300 -> 7500 | AM100: =(V100+W100+X100+Y100+Z100+AB100+AC100+AD100+AE100+AF100+AG100+AH100+AI100+AJ100+AK100)-AL100 -> 0 | AN100: Modern; partially received on the 18.09.2024; outstaning 2880 received on 05.11.2024; outstanding 300 finally fully received on the 04.04.25
A101: HAGEN | B101: 3325 | C101: 28/04/24 | D101: 30/06/24 | G101: =X101-AL101 -> 0 | J101: =SUM(F101:I101) -> 0 | X101: 8550 | AA101: =SUM(W101:Z101) -> 8550 | AL101: =5670+2880 -> 8550 | AM101: =(V101+W101+X101+Y101+Z101+AB101+AC101+AD101+AE101+AF101+AG101+AH101+AI101+AJ101+AK101)-AL101 -> 0 | AN101: Modern; partially received on the 18.09.2024; Outstanding 2880 received on the 05.11.2024
...

Sheet EXP.DATES For ACT-RDT-PQ
A1: CODE | B1: ITEM | C1: BATCH # | D1: EXPIRY DATE | E1: PACK SIZE | F1: QUANTITY | G1: QUANTITY IN INDIVIDUAL UNIT | H1: SOURCE | I1: LOCATION
A2: MALARIA CENTRAL STORE
A3: 10570030 | B3: Artemether + Lumefantrine Tab., 20+120mg, blister, 6x1 | C3: NAD2484C | D3: 30/06/2028 | E3: 30 | F3: 638 | G3: =E3*F3 -> 19140 | H3: GLOBAL FUND | I3: R08
A4: 10570040 | B4: Artemether + Lumefantrine Tab., 20+120mg, blister, 12x1 | C4: NAD2487A | D4: 30/06/2028 | E4: 30 | F4: 1491 | G4: =E4*F4 -> 44730 | H4: GLOBAL FUND | I4: R16
A5: 10570040 | B5: Artemether + Lumefantrine Tab., 20+120mg, blister, 12x1 | C5: NAD2486A | D5: 30/06/2028 | E5: 30 | F5: 1822 | G5: =E5*F5 -> 54660 | H5: GLOBAL FUND | I5: P25-RAM STORE
A6: 10570040 | B6: Artemether + Lumefantrine Tab., 20+120mg, blister, 12x1 | C6: NAD2488A | D6: 30/06/2028 | E6: 30 | F6: 1944 | G6: =E6*F6 -> 58320 | H6: GLOBAL FUND | I6: P23-RAM STORE
A7: 10570040 | B7: Artemether + Lumefantrine Tab., 20+120mg, blister, 12x1 | C7: NAD2489A | D7: 30/06/2028 | E7: 30 | F7: 1944 | G7: =E7*F7 -> 58320 | H7: GLOBAL FUND | I7: P26-RAM STORE
A8: 10570060 | B8: Artemether + Lumefantrine Tab., 20+120mg, blister, 24x1 | C8: NAA24134A | D8: 28/02/2028 | E8: 30 | F8: 519 | G8: =E8*F8 -> 15570 | H8: GLOBAL FUND | I8: R18
A9: 10570060 | B9: Artemether + Lumefantrine Tab., 20+120mg, blister, 24x1 | C9: NAA24345A | D9: 30/08/2028 | E9: 30 | F9: 1350 | G9: =E9*F9 -> 40500 | H9: GLOBAL FUND | I9: R17
A10: 10570060 | B10: Artemether + Lumefantrine Tab., 20+120mg, blister, 24x1 | C10: NAA24346A | D10: 30/06/2028 | E10: 30 | F10: 1346 | G10: =E10*F10 -> 40380 | H10: GLOBAL FUND | I10: R13
A11: 10570060 | B11: Artemether + Lumefantrine Tab., 20+120mg, blister, 24x1 | C11: NAA24348A | D11: 30/06/2028 | E11: 30 | F11: 1339 | G11: =E11*F11 -> 40170 | H11: GLOBAL FUND | I11: R11
A12: 10570060 | B12: Artemether + Lumefantrine Tab., 20+120mg, blister, 24x1 | C12: NAA24343A | D12: 30/06/2028 | E12: 30 | F12: 1342 | G12: =E12*F12 -> 40260 | H12: GLOBAL FUND | I12: R15
A13: 10570060 | B13: Artemether + Lumefantrine Tab., 20+120mg, blister, 24x1 | C13: NAA24350A | D13: 30/06/2028 | E13: 30 | F13: 1345 | G13: =E13*F13 -> 40350 | H13: GLOBAL FUND | I13: R09
A14: 40240100 | B14: Pf/Pan Rapid Diagnostic Test for Malaria | C14: 101694 | D14: 30/06/2026 | E14: 25 | F14: 0 | G14: =E14*F14 -> 0 | H14: GLOBAL FUND | I14: P39_-_RAM_CR
A15: 40240100 | B15: Pf/Pan Rapid Diagnostic Test for Malaria | C15: 101694 | D15: 30/06/2026 | E15: 25 | F15: 0 | G15: =E15*F15 -> 0 | H15: GLOBAL FUND | I15: P38_-_RAM_CR
A16: 40240100 | B16: Pf/Pan Rapid Diagnostic Test for Malaria | C16: 101693 | D16: 30/06/2026 | E16: 25 | F16: 0 | G16: =E16*F16 -> 0 | H16: GLOBAL FUND | I16: P33 - RAM Cr
A17: 40240100 | B17: Pf/Pan Rapid Diagnostic Test for Malaria | C17: 101695 | D17: 30/06/2026 | E17: 25 | F17: 800 | G17: =E17*F17 -> 20000 | H17: GLOBAL FUND | I17: P45 - RAM CR
A19: AREA MEDICAL STORE, BADILI
A20: 10570030 | B20: Artemether 20 mg+Lumefantrine 120mg Tablets, 25-34kg, blister 6x1 | C20: HWE084156 | D20: 46692 | E20: 30 | F20: 1364 | G20: =E20*F20 -> 40920 | H20: GoPNG | I20: BADILI
A21: 10570030 | B21: Artemether 20 mg+Lumefantrine 120mg Tablets, 25-34kg, blister 6x1 | C21: HWE084001 | D21: 46017 | E21: 30 | F21: 2601 | G21: =E21*F21 -> 78030 | H21: GoPNG | I21: BADILI
A22: 10570040 | B22: Artemether 20 mg+Lumefantrine 120mg Tablets, 15-24kg, blister 12x1 | C22: HWE094156 | D22: 46692 | E22: 30 | F22: 684 | G22: =E22*F22 -> 20520 | H22: GoPNG | I22: BADILI
A23: 10570040 | B23: Artemether 20 mg+Lumefantrine 120mg Tablets, 15-24kg, blister 12x1 | C23: HWE094015 | D23: 46388 | E23: 30 | F23: 324 | G23: =E23*F23 -> 9720 | H23: GoPNG | I23: BADILI
A24: 10570050 | B24: Artemether 20 mg+Lumefantrine 120mg Tablets, 25-34kg, blister 18x1 | C24: HWE104157 | D24: 46018 | E24: 30 | F24: 120 | G24: =E24*F24 -> 3600 | H24: GoPNG | I24: BADILI
A25: 10570050 | B25: Artemether 20 mg+Lumefantrine 120mg Tablets, 25-34kg, blister 18x1 | C25: HWE104004 | D25: 46017 | E25: 30 | F25: 384 | G25: =E25*F25 -> 11520 | H25: GoPNG | I25: BADILI
A26: 10570050 | B26: Artemether 20 mg+Lumefantrine 120mg Tablets, 25-34kg, blister 18x1 | C26: HWE10415 | D26: 45988 | E26: 30 | F26: 36 | G26: =E26*F26 -> 1080 | H26: GoPNG | I26: BADILI
A27: 10570060 | B27: Artemether 20 mg+Lumefantrine 120mg Tablets, 35+kg, blister 24x1 | C27: HWE114180 | D27: 46692 | E27: 30 | F27: 0 | G27: =E27*F27 -> 0 | H27: GoPNG | I27: BADILI
A28: 10570130 | B28: Primaquine Tab., 7.5mg | C28: 060324 | D28: 46419 | E28: 100 | F28: 0 | G28: =E28*F28 -> 0 | H28: GoPNG | I28: BADILI
A29: 10570130 | B29: Primaquine Tab., 7.5mg | C29: TBA | D29: TBA | E29: 100 | F29: 10000 | G29: =E29*F29 -> 1000000 | H29: GoPNG | I29: BADILI
A30: 10570130 | B30: Primaquine Tab., 7.5mg | C30: KE24147 | D30: 46419 | E30: 100 | F30: 85 | G30: =E30*F30 -> 8500 | H30: GoPNG | I30: BADILI
A31: 40240100 | B31: Rapid Diagnostic Test (RDT) for Malaria, Pack/25 | C31: H006001D | D31: 46023 | E31: 25 | F31: 3900 | G31: =E31*F31 -> 97500 | H31: GoPNG | I31: BADILI
A32: 40240100 | B32: Rapid Diagnostic Test (RDT) for Malaria, Pack/25 | C32: H006D004D | D32: 46266 | E32: 25 | F32: 2800 | G32: =E32*F32 -> 70000 | H32: GoPNG | I32: BADILI
A33: 40240100 | B33: Rapid Diagnostic Test (RDT) for Malaria, Pack/25 | C33: H006E003D | D33: 46478 | E33: 25 | F33: 10000 | G33: =E33*F33 -> 250000 | H33: GoPNG | I33: BADILI
A34: 40240100 | B34: Rapid Diagnostic Test (RDT) for Malaria, Pack/25 | C34: H006E003D | D34: 30/04/2027 | E34: 25 | F34: 1500 | G34: =E34*F34 -> 37500 | H34: GoPNG | I34: BADILI
A36: AREA MEDICAL STORE, HAGEN | G36: =E36*F36 -> 0
A37: 10570030 | B37: Artemether 20 mg+Lumefantrine 120mg Tablets, 25-34kg, blister 6x1 | C37: HWE084156 | D37: 30/11/2027 | E37: 30 | F37: 181 | G37: =E37*F37 -> 5430 | H37: GoPNG | I37: HAGEN
A38: 10570030 | B38: Artemether 20 mg+Lumefantrine 120mg Tablets, 25-34kg, blister 6x1 | C38: DIAPH002 | D38: 30/04/2027 | E38: 30 | F38: 0 | G38: =E38*F38 -> 0 | H38: GoPNG | I38: HAGEN
A39: 10570040 | B39: Artemether 20 mg+Lumefantrine 120mg Tablets, 25-34kg, blister 12x1 | C39: HWE094015 | D39: 31/01/2027 | E39: 30 | F39: 0 | G39: =E39*F39 -> 0 | H39: GoPNG | I39: HAGEN
A40: 10570040 | B40: Artemether 20 mg+Lumefantrine 120mg Tablets, 25-34kg, blister 12x1 | C40: D1APH002 | D40: 30/04/2027 | E40: 30 | F40: 0 | G40: =E40*F40 -> 0 | H40: GoPNG | I40: HAGEN
A41: 10570040 | B41: Artemether 20 mg+Lumefantrine 120mg Tablets, 25-34kg, blister 12x1 | C41: HWE094156 | D41: 30/11/2027 | E41: 30 | F41: 419 | G41: =E41*F41 -> 12570 | H41: GoPNG | I41: HAGEN
A42: 10570050 | B42: Artemether 20 mg+Lumefantrine 120mg Tablets, 25-34kg, blister 18x1 | C42: HWE104004 | D42: 31/12/2026 | E42: 30 | F42: 0 | G42: =E42*F42 -> 0 | H42: GoPNG | I42: HAGEN
A43: 10570050 | B43: Artemether 20 mg+Lumefantrine 120mg Tablets, 25-34kg, blister 18x1 | C43: HWE104157 | D43: 30/11/2027 | E43: 30 | F43: 360 | G43: =E43*F43 -> 10800 | H43: GoPNG | I43: HAGEN
A44: 10570060 | B44: Artemether 20 mg+Lumefantrine 120mg Tablets, 25-34kg, blister 24x1 | C44: BIAPH002 | D44: 30/04/2027 | E44: 30 | F44: 0 | G44: =E44*F44 -> 0 | H44: GoPNG | I44: HAGEN
A45: 10570060 | B45: Artemether 20 mg+Lumefantrine 120mg Tablets, 25-34kg, blister 24x1 | C45: HWE114003 | D45: 31/12/2026 | E45: 30 | F45: 0 | G45: =E45*F45 -> 0 | H45: GoPNG | I45: HAGEN
A46: 10570060 | B46: Artemether 20 mg+Lumefantrine 120mg Tablets, 25-34kg, blister 24x1 | C46: D1APH005 | D46: 30/04/2027 | E46: 30 | F46: 0 | G46: =E46*F46 -> 0 | H46: GoPNG | I46: HAGEN
A47: 10570060 | B47: Artemether 20 mg+Lumefantrine 120mg Tablets, 25-34kg, blister 24x1 | C47: DIAPH002 | D47: 30/04/2027 | E47: 30 | F47: 0 | G47: =E47*F47 -> 0 | H47: GoPNG | I47: HAGEN
A48: 10570060 | B48: Artemether 20 mg+Lumefantrine 120mg Tablets, 25-34kg, blister 24x1 | C48: HWE114157 | D48: 30/11/2027 | E48: 30 | F48: 233 | G48: =E48*F48 -> 6990 | H48: GoPNG | I48: HAGEN
A49: 10570130 | B49: Primaquine Tab., 7.5mg | C49: T35810 | D49: 31/03/2028 | E49: 100 | F49: 8464 | G49: =E49*F49 -> 846400 | H49: GoPNG | I49: HAGEN
A50: 40240100 | B50: Rapid Diagnostic Test (RDT) for Malaria, Pack/25 | C50: H006E001D | D50: 31/01/2027 | E50: 25 | F50: 6986 | G50: =E50*F50 -> 174650 | H50: GoPNG | I50: HAGEN
A51: 40240100 | B51: Rapid Diagnostic Test (RDT) for Malaria, Pack/25 | C51: H006E001D | D51: 31/01/2027 | E51: 25 | F51: 0 | G51: =E51*F51 -> 0 | H51: GoPNG | I51: HAGEN
A53: AREA MEDICAL STORE, KOKOPO | G53: =E53*F53 -> 0
A54: 10570030 | B54: Artemether 20 mg+Lumefantrine 120mg Tablets, 25-34kg, blister 6x1 | C54: HWE084156 | D54: 46721 | E54: 30 | F54: =413+48 -> 461 | G54: =E54*F54 -> 13830 | H54: GoPNG | I54: KOKOPO
A55: 10570030 | B55: Artemether 20 mg+Lumefantrine 120mg Tablets, 25-34kg, blister 6x1 | C55: HWE084001 | D55: 46387 | E55: 30 | F55: 27 | G55: =E55*F55 -> 810 | H55: GoPNG | I55: KOKOPO
A56: 10570040 | B56: Artemether 20 mg+Lumefantrine 120mg Tablets, 25-34kg, blister 12x1 | C56: HWE094156 | D56: 46418 | E56: 30 | F56: =225+70 -> 295 | G56: =E56*F56 -> 8850 | H56: GoPNG | I56: KOKOPO
A57: 10570040 | B57: Artemether 20 mg+Lumefantrine 120mg Tablets, 25-34kg, blister 12x1 | C57: HWE094015 | D57: 46418 | E57: 30 | F57: 8 | G57: =E57*F57 -> 240 | H57: GoPNG | I57: KOKOPO
A58: 10570050 | B58: Artemether 20 mg+Lumefantrine 120mg Tablets, 25-34kg, blister 18x1 | C58: HWE104156 | D58: 46721 | E58: 30 | F58: =334+108 -> 442 | G58: =E58*F58 -> 13260 | H58: GoPNG | I58: KOKOPO
A59: 10570050 | B59: Artemether 20 mg+Lumefantrine 120mg Tablets, 25-34kg, blister 18x1 | C59: TIAPH001 | D59: 46843 | E59: 30 | F59: 8 | G59: =E59*F59 -> 240 | H59: GoPNG | I59: KOKOPO
A60: 10570050 | B60: Artemether 20 mg+Lumefantrine 120mg Tablets, 25-34kg, blister 18x1 | C60: CIAPH005 | D60: 46326 | E60: 30 | F60: 120 | G60: =E60*F60 -> 3600 | H60: GoPNG | I60: KOKOPO
A61: 10570060 | B61: Artemether 20 mg+Lumefantrine 120mg Tablets, 25-34kg, blister 24x1 | C61: HWE114180 | D61: 46721 | E61: 30 | F61: 38 | G61: =E61*F61 -> 1140 | H61: GoPNG | I61: KOKOPO
A62: 10570130 | B62: Primaquine Tablet, 7.5mg | C62: 80324 | D62: 46446 | E62: 100 | F62: 10 | G62: =E62*F62 -> 1000 | H62: GoPNG | I62: KOKOPO
A63: 10570030 | B63: Primaquine Tablet, 7.5mg | C63: 20825 | D63: 46965 | E63: 100 | F63: 4200 | G63: =E63*F63 -> 420000 | H63: GoPNG | I63: KOKOPO
A64: 40240100 | B64: Rapid Diagnostic Test (RDT) for Malaria, Pack/25 | C64: H006E002D | D64: 46418 | E64: 25 | F64: =3330+1100 -> 4430 | G64: =E64*F64 -> 110750 | H64: GoPNG | I64: KOKOPO
A65: 40240100 | B65: Rapid Diagnostic Test (RDT) for Malaria, Pack/25 | C65: H006E003D | D65: 46507 | E65: 25 | F65: 2500 | G65: =E65*F65 -> 62500 | H65: GoPNG | I65: KOKOPO
A66: 40240100 | B66: Rapid Diagnostic Test (RDT) for Malaria, Pack/25 | C66: H006E001D | D66: 46418 | E66: 25 | F66: 500 | G66: =E66*F66 -> 12500 | H66: GoPNG | I66: KOKOPO
A68: AREA MEDICAL STORE, LAE
A69: 10570030 | B69: Artemether 20 mg+Lumefantrine 120mg Tablets, 25-34kg, blister 6x1 | C69: D1APH002 | D69: 30/04/2027 | E69: 30 | F69: 48 | G69: =E69*F69 -> 1440 | H69: GoPNG | I69: LAE
A70: 10570030 | B70: Artemether 20 mg+Lumefantrine 120mg Tablets, 25-34kg, blister 6x1 | C70: T1APH001 | D70: 46843 | E70: 30 | F70: =120+120 -> 240 | G70: =E70*F70 -> 7200 | H70: GoPNG | I70: LAE
A71: 10570040 | B71: Artemether 20 mg+Lumefantrine 120mg Tablets, 25-34kg, blister 12x1 | C71: HWE104005 | D71: 31/12/2026 | E71: 30 | F71: 0 | G71: =E71*F71 -> 0 | H71: GoPNG | I71: LAE
A72: 10570040 | B72: Artemether 20 mg+Lumefantrine 120mg Tablets, 25-34kg, blister 12x1 | C72: TIAPH001 | D72: 46843 | E72: 30 | F72: =120+120 -> 240 | G72: =E72*F72 -> 7200 | H72: GoPNG | I72: LAE
A73: 10570040 | B73: Artemether 20 mg+Lumefantrine 120mg Tablets, 25-34kg, blister 12x1 | C73: D1APH007 | D73: 30/11/2027 | E73: 30 | F73: 0 | G73: =E73*F73 -> 0 | H73: GoPNG | I73: LAE
A74: 10570050 | B74: Artemether 20 mg+Lumefantrine 120mg Tablets, 25-34kg, blister 18x1 | C74: HWE104004 | D74: 31/12/2026 | E74: 30 | F74: 400 | G74: =E74*F74 -> 12000 | H74: GoPNG | I74: LAE
A75: 10570050 | B75: Artemether 20 mg+Lumefantrine 120mg Tablets, 25-34kg, blister 18x1 | C75: D1AP007 | D75: 46721 | E75: 30 | F75: 24 | G75: =E75*F75 -> 720 | H75: GoPNG | I75: LAE
A76: 10570050 | B76: Artemether 20 mg+Lumefantrine 120mg Tablets, 25-34kg, blister 18x1 | C76: TIAPH001 | D76: 46843 | E76: 30 | F76: =120+96 -> 216 | G76: =E76*F76 -> 6480 | H76: GoPNG | I76: LAE
A77: 10570060 | B77: Artemether 20 mg+Lumefantrine 120mg Tablets, 25-34kg, blister 24x1 | C77: HWE114003 | D77: 46387 | E77: 30 | F77: 100 | G77: =E77*F77 -> 3000 | H77: GoPNG | I77: LAE
A78: 10570060 | B78: Artemether 20 mg+Lumefantrine 120mg Tablets, 25-34kg, blister 24x1 | C78: D1APH002 | D78: 46571 | E78: 30 | F78: 35 | G78: =E78*F78 -> 1050 | H78: GoPNG | I78: LAE
A79: 10570060 | B79: Artemether 20 mg+Lumefantrine 120mg Tablets, 25-34kg, blister 24x1 | C79: D1APH006 | D79: 46507 | E79: 30 | F79: 24 | G79: =E79*F79 -> 720 | H79: GoPNG | I79: LAE
A80: 10570060 | B80: Artemether 20 mg+Lumefantrine 120mg Tablets, 25-34kg, blister 24x1 | C80: D1APH007 | D80: 46507 | E80: 30 | F80: 24 | G80: =E80*F80 -> 720 | H80: GoPNG | I80: LAE
A81: 10570060 | B81: Artemether 20 mg+Lumefantrine 120mg Tablets, 25-34kg, blister 24x1 | C81: C1APH002 | D81: 46203 | E81: 30 | F81: 22 | G81: =E81*F81 -> 660 | H81: GoPNG | I81: LAE
A82: 10570060 | B82: Artemether 20 mg+Lumefantrine 120mg Tablets, 25-34kg, blister 24x1 | C82: D1APH004 | D82: 46203 | E82: 30 | F82: 10 | G82: =E82*F82 -> 300 | H82: GoPNG | I82: LAE
A83: 10570060 | B83: Artemether 20 mg+Lumefantrine 120mg Tablets, 25-34kg, blister 24x1 | C83: C1APH004 | D83: 46142 | E83: 30 | F83: 2 | G83: =E83*F83 -> 60 | H83: GoPNG | I83: LAE
A84: 10570060 | B84: Artemether 20 mg+Lumefantrine 120mg Tablets, 25-34kg, blister 24x1 | C84: D1APH005 | D84: 46142 | E84: 30 | F84: 3 | G84: =E84*F84 -> 90 | H84: GoPNG | I84: LAE
A85: 10570060 | B85: Artemether 20 mg+Lumefantrine 120mg Tablets, 25-34kg, blister 24x1 | C85: TIAPH001 | D85: 46843 | E85: 30 | F85: 120 | G85: =E85*F85 -> 3600 | H85: GoPNG | I85: LAE
A86: 10570130 | B86: Primaquine Tablet, 7.5mg | C86: T35809-10 | D86: 46783 | E86: 100 | F86: 10000 | G86: =E86*F86 -> 1000000 | H86: GoPNG | I86: LAE
A87: 10570130 | B87: Primaquine Tablet, 7.5mg | C87: 50324 | D87: 28/02/2027 | E87: 100 | F87: 0 | G87: =E87*F87 -> 0 | H87: GoPNG | I87: LAE
A88: 10570130 | B88: Primaquine Tablet, 7.5mg | C88: KE24147 | D88: 28/02/2027 | E88: 100 | F88: 0 | G88: =E88*F88 -> 0 | H88: GoPNG | I88: LAE
A89: 40240100 | B89: Rapid Diagnostic Test (RDT) for Malaria, Pack/25 | C89: HOO6E003D | D89: 30/04/2027 | E89: 25 | F89: 9900 | G89: =E89*F89 -> 247500 | H89: GoPNG | I89: LAE
A90: 40240100 | B90: Rapid Diagnostic Test (RDT) for Malaria, Pack/25 | C90: 75K13245 | D90: 31/10/2026 | E90: 25 | F90: 54 | G90: =E90*F90 -> 1350 | H90: GoPNG | I90: LAE
A91: 40240100 | B91: Rapid Diagnostic Test (RDT) for Malaria, Pack/25 | C91: H006E002D | D91: 28/02/2027 | E91: 25 | F91: 200 | G91: =E91*F91 -> 5000 | H91: GoPNG | I91: LAE
A93: AREA MEDICAL STORE, WEWAK
A94: 10570030 | B94: Artemether 20 mg+Lumefantrine 120mg Tablets, 25-34kg, blister 6x1 | C94: T1APH001 | D94: 46813 | E94: 30 | F94: 58 | G94: =E94*F94 -> 1740 | H94: GoPNG | I94: WEWAK
A95: 10570030 | B95: Artemether 20 mg+Lumefantrine 120mg Tablets, 25-34kg, blister 6x1 | C95: HWE084001 | D95: 46357 | E95: 30 | F95: 148 | G95: =E95*F95 -> 4440 | H95: GoPNG | I95: WEWAK
A96: 10570030 | B96: Artemether 20 mg+Lumefantrine 120mg Tablets, 25-34kg, blister 6x1 | C96: HWE084001 | D96: 46357 | E96: 30 | F96: 24 | G96: =E96*F96 -> 720 | H96: GoPNG | I96: WEWAK
A97: 10570040 | B97: Artemether 20 mg+Lumefantrine 120mg Tablets, 25-34kg, blister 12x1 | C97: HWE094015 | D97: 46388 | E97: 30 | F97: 37 | G97: =E97*F97 -> 1110 | H97: GoPNG | I97: WEWAK
A98: 10570040 | B98: Artemether 20 mg+Lumefantrine 120mg Tablets, 25-34kg, blister 12x1 | C98: T1APH001 | D98: 46813 | E98: 30 | F98: 84 | G98: =E98*F98 -> 2520 | H98: GoPNG | I98: WEWAK
A99: 10570050 | B99: Artemether 20 mg+Lumefantrine 120mg Tablets, 25-34kg, blister 18x1 | C99: HEW104157 | D99: 46692 | E99: 30 | F99: 184 | G99: =E99*F99 -> 5520 | H99: GoPNG | I99: WEWAK
A100: 10570050 | B100: Artemether 20 mg+Lumefantrine 120mg Tablets, 25-34kg, blister 18x1 | C100: HEW104157 | D100: 46692 | E100: 30 | F100: 420 | G100: =E100*F100 -> 12600 | H100: GoPNG | I100: WEWAK
A101: 10570050 | B101: Artemether 20 mg+Lumefantrine 120mg Tablets, 25-34kg, blister 18x1 | C101: C1APH005 | D101: 46296 | E101: 30 | F101: 141 | G101: =E101*F101 -> 4230 | H101: GoPNG | I101: WEWAK
A102: 10570060 | B102: Artemether 20 mg+Lumefantrine 120mg Tablets, 25-34kg, blister 24x1 | C102: HEW114157 | D102: 46692 | E102: 30 | F102: 88 | G102: =E102*F102 -> 2640 | H102: GoPNG | I102: WEWAK
A103: 10570060 | B103: Artemether 20 mg+Lumefantrine 120mg Tablets, 25-34kg, blister 24x1 | C103: D1APH006 | D103: 46478 | E103: 30 | F103: 420 | G103: =E103*F103 -> 12600 | H103: GoPNG | I103: WEWAK
A104: 10570130 | B104: Primaquine Tab., 7.5mg | C104: 90324 | D104: 46446 | E104: 100 | F104: 278 | G104: =E104*F104 -> 27800 | H104: GoPNG | I104: WEWAK
A105: 10570130 | B105: Primaquine Tab., 7.5mg | C105: T35809 | D105: 46753 | E105: 100 | F105: 4000 | G105: =E105*F105 -> 400000 | H105: GoPNG | I105: WEWAK
...

Sheet Table of Summary
A1: A. ACTs, RDT, & PRIMAQUINE
A3: 1. Stock on Hand | F3: 2. Stock in Pipeline
B5: RDT | C5: ACTs (Total) | D5: Primaquine | G5: RDT | H5: ACTs (Total) | I5: Primaquine
A6: NDoH | B6: ='ACT-RDT-PQ BY AMS'!B10 -> 919750 | C6: ='ACT-RDT-PQ BY AMS'!G10 -> 211260 | D6: ='ACT-RDT-PQ BY AMS'!H10 -> 2636500 | F6: Total NDoH | G6: ='ACT-RDT-PQ BY AMS'!K10 -> 1713150 | H6: ='ACT-RDT-PQ BY AMS'!P10 -> 1958190 | I6: ='ACT-RDT-PQ BY AMS'!Q10 -> 2700400
A7: SOH in Months | B7: ='ACT-RDT-PQ BY AMS'!B19 -> 2.75925 | C7: ='ACT-RDT-PQ BY AMS'!C19 -> 0.65747647 | D7: ='ACT-RDT-PQ BY AMS'!H19 -> 1.894491 | F7: Stock in Months | G7: ='ACT-RDT-PQ BY AMS'!K19 -> 5.13945 | H7: ='ACT-RDT-PQ BY AMS'!L19 -> 7.4840824 | I7: ='ACT-RDT-PQ BY AMS'!Q19 -> 1.9404072
A8: Global Fund/RAM | B8: ='ACT-RDT-PQ BY AMS'!B11 -> 7000 | C8: ='ACT-RDT-PQ BY AMS'!G11 -> 336300 | D8: ='ACT-RDT-PQ BY AMS'!H11 -> 0 | F8: Global Fund/RAM | G8: ='ACT-RDT-PQ BY AMS'!K11 -> 2000000 | H8: ='ACT-RDT-PQ BY AMS'!P11 -> 1539780 | I8: ='ACT-RDT-PQ BY AMS'!Q11 -> 0
A9: SOH in Months | B9: ='ACT-RDT-PQ BY AMS'!B20 -> 0.021 | C9: ='ACT-RDT-PQ BY AMS'!C20 -> 1.6839529 | D9: ='ACT-RDT-PQ BY AMS'!H20 -> 0 | F9: Stock in Months | G9: ='ACT-RDT-PQ BY AMS'!K20 -> 6 | H9: ='ACT-RDT-PQ BY AMS'!L20 -> 7.4497235 | I9: ='ACT-RDT-PQ BY AMS'!Q20 -> 0
A10: Total | B10: =B6+B8 -> 926750 | C10: =C6+C8 -> 547560 | D10: =D6+D8 -> 2636500 | F10: Total | G10: =G8+G6 -> 3713150 | H10: =H8+H6 -> 3497970 | I10: =I8+I6 -> 2700400
A11: SOH in Months | B11: =B7+B9 -> 2.78025 | C11: =C7+C9 -> 2.3414294 | D11: =D7+D9 -> 1.894491 | F11: Total stock in Months | G11: =G7+G9 -> 11.13945 | H11: =H7+H9 -> 14.933806 | I11: =I7+I9 -> 1.9404072
J12: B. OTHER ANTI-MALARIALs (NDoH Procurement)
J13: ITEM | K13: STOCK ON HAND | L13: STOCK ON ORDER | M13: EXPECTED STOCK POSSIBLY IN THE NEXT SIX MONTHS
J14: SULFADOXINE 500MG + PYRIMETHAMINE 25MG (SP) (TABLET) | K14: =' Other A.M.Drugs BY AMS'!B12 -> 0 | L14: =' Other A.M.Drugs BY AMS'!M12 -> 624400 | M14: =K14+L14 -> 624400
J15: ARTEMETHER INJ. 80MG (AMPOULE) | K15: =' Other A.M.Drugs BY AMS'!C12 -> 63224 | L15: =' Other A.M.Drugs BY AMS'!N12 -> 27000 | M15: =K15+L15 -> 90224
J16: ARTEMETHER INJ. 40MG (AMPOULE) | K16: =' Other A.M.Drugs BY AMS'!D12 -> 19516 | L16: =' Other A.M.Drugs BY AMS'!O12 -> 21000 | M16: =K16+L16 -> 40516
J17: ARTESUNATE INJECTION 60MG (VIAL) | K17: =' Other A.M.Drugs BY AMS'!E12 -> 25418 | L17: =' Other A.M.Drugs BY AMS'!P12 -> 0 | M17: =K17+L17 -> 25418
J18: QUININE INJ. 600MG (VIAL) | K18: =' Other A.M.Drugs BY AMS'!F12 -> 1760 | L18: =' Other A.M.Drugs BY AMS'!Q12 -> 10000 | M18: =K18+L18 -> 11760
J19: QUININE TABLET 300MG | K19: =' Other A.M.Drugs BY AMS'!G12 -> 52200 | L19: =' Other A.M.Drugs BY AMS'!R12 -> 500000 | M19: =K19+L19 -> 552200
J20: DIHYDROARTEMISININ 40MG + PIPERAQUINE 340mg (TAB) | K20: =' Other A.M.Drugs BY AMS'!J12 -> 2433 | L20: =' Other A.M.Drugs BY AMS'!U12 -> 0 | M20: =K20+L20 -> 2433

Sheet LLIN SOH
B1: SOH OF LLINS IN PNG
B2: Container Numbers | C2: Funded By | D2: Yoorkool for RAM origional (XL) | E2: ANC SDP NETS | F2: MAGNETS FOR DISTRIBUTION | G2: MAGNETS in Lae | H2: Yahe Nets | I2: ANC Yahe Nets Lae | J2: Stock sheet status | K2: Comments
B3: TCKU 2415060 | C3: RAM Origional | D3: 11100 | E3: 0 | F3: 0 | G3: 0 | H3: 0 | I3: 0 | J3: same | K3: Ram Origional Nets | L3: For Positive Patients
B4: TCKU 1510925 | C4: Global Fund | D4: 0 | E4: 0 | F4: 0 | G4: =243*50 -> 12150 | H4: 0 | I4: 0 | J4: Same | K4: EFM Lae | L4: Morobe Nets
B5: TCKU 1603946 | C5: Global Fund | D5: 0 | E5: 0 | F5: 0 | G5: 12150 | H5: 0 | I5: 0 | J5: Same | K5: EFM Lae | L5: Morobe Nets
B6: TCKU 1893260 | C6: Global Fund | D6: 0 | E6: 0 | F6: 0 | G6: =241*50 -> 12050 | H6: 0 | I6: 0 | J6: Same | K6: EFM Lae | L6: Morobe Nets
B7: TCKU 1915414 | C7: Global Fund | D7: 0 | E7: 0 | F7: 0 | G7: =243*50 -> 12150 | H7: 0 | I7: 0 | J7: Same | K7: EFM Lae | L7: Morobe Nets
B8: TCKU 2789692 | C8: Global Fund | D8: 0 | E8: 0 | F8: 0 | G8: 7850 | H8: 0 | I8: 0 | J8: Same | K8: EFM Lae | L8: Removed from Oro Container
B9: CBHU 4047501 | C9: Global Fund | D9: 0 | E9: 0 | F9: 9240 | G9: 0 | H9: 0 | I9: 0 | J9: same | K9: GFS POM | L9: Central Province nets
B10: MSUU 2140809 | C10: Global Fund | D10: 0 | E10: 0 | F10: 0 | G10: 0 | H10: 0 | I10: 0 | J10: same | K10: GFS POM | L10: Central Province nets
B11: GATU 0494263 | C11: Global Fund | D11: 0 | E11: 0 | F11: 0 | G11: 0 | H11: 0 | I11: 0 | J11: same | K11: GFS POM | L11: Central Province nets
B12: CBHU - 5705295 | C12: SDP | D12: 0 | E12: 7000 | F12: 0 | G12: 0 | H12: 0 | I12: 0 | J12: same | K12: GFS POM | L12: ANC
B13: CBHU - 5659306 | C13: SDP | D13: 0 | E13: 12500 | F13: 0 | G13: 0 | H13: 0 | I13: 0 | J13: same | K13: GFS POM | L13: ANC
B14: FCIU - 3110233 | C14: SDP | D14: 0 | E14: 7300 | F14: 0 | G14: 0 | H14: 0 | I14: 0 | J14: same | K14: GFS POM | L14: ANC
B15: DFSU - 2027730 | C15: SDP | D15: 0 | E15: 12500 | F15: 0 | G15: 0 | H15: 0 | I15: 0 | J15: same | K15: GFS POM | L15: ANC
B16: HJLU 1351462 | C16: Global Fund | D16: 0 | E16: 0 | F16: 0 | G16: 0 | H16: =380*50 -> 19000 | I16: 0 | J16: same | K16: EFM Lae | L16: WNBP New arrivals in Lae
B17: HJLU 1353871 | C17: Global Fund | D17: 0 | E17: 0 | F17: 0 | G17: 0 | H17: =380*50 -> 19000 | I17: 0 | J17: same | K17: EFM Lae | L17: WNBP New arrivals in Lae
B18: HJLU 1356905 | C18: Global Fund | D18: 0 | E18: 0 | F18: 0 | G18: 0 | H18: =380*50 -> 19000 | I18: 0 | J18: same | K18: EFM Lae | L18: WNBP New arrivals in Lae
B19: HJLU 1379618 | C19: Global Fund | D19: 0 | E19: 0 | F19: 0 | G19: 0 | H19: =380*50 -> 19000 | I19: 0 | J19: same | K19: EFM Lae | L19: WNBP New arrivals in Lae
B20: HJLU 1390181 | C20: Global Fund | D20: 0 | E20: 0 | F20: 0 | G20: 0 | H20: =380*50 -> 19000 | I20: 0 | J20: same | K20: EFM Lae | L20: WNBP New arrivals in Lae
B21: HJLU 1396209 | C21: Global Fund | D21: 0 | E21: 0 | F21: 0 | G21: 0 | H21: =380*50 -> 19000 | I21: 0 | J21: same | K21: EFM Lae | L21: WNBP New arrivals in Lae
B22: TEMU 4471010 | C22: Global Fund | D22: 0 | E22: 0 | F22: 0 | G22: 0 | H22: =380*50 -> 19000 | I22: 0 | J22: same | K22: EFM Lae | L22: WNBP New arrivals in Lae
B23: TGHU 0454865 | C23: Global Fund | D23: 0 | E23: 0 | F23: 0 | G23: 0 | H23: =380*50 -> 19000 | I23: 0 | J23: same | K23: EFM Lae | L23: WNBP New arrivals in Lae
B24: TGHU 1097490 | C24: Global Fund | D24: 0 | E24: 0 | F24: 0 | G24: 0 | H24: =380*50 -> 19000 | I24: 0 | J24: same | K24: EFM Lae | L24: WNBP New arrivals in Lae
B25: TGHU 1692174 | C25: Global Fund | D25: 0 | E25: 0 | F25: 0 | G25: 0 | H25: =380*50 -> 19000 | I25: 0 | J25: same | K25: EFM Lae | L25: WNBP New arrivals in Lae
B26: TGHU 1752205 | C26: Global Fund | D26: 0 | E26: 0 | F26: 0 | G26: 0 | H26: =380*50 -> 19000 | I26: 0 | J26: same | K26: EFM Lae | L26: WNBP New arrivals in Lae
B27: TGHU 1840414 | C27: Global Fund | D27: 0 | E27: 0 | F27: 0 | G27: 0 | H27: =380*50 -> 19000 | I27: 0 | J27: same | K27: EFM Lae | L27: WNBP New arrivals in Lae
B28: GATU 1369100 | C28: Global Fund | D28: 0 | E28: 0 | F28: 0 | G28: 0 | H28: 0 | I28: 16650 | J28: same | K28: EFM Lae | L28: ANC New Arrivals
B29: TEMU 2987136 | C29: Global Fund | D29: 0 | E29: 0 | F29: 0 | G29: 0 | H29: 0 | I29: 16650 | J29: same | K29: EFM Lae | L29: ANC New Arrivals
B30: TEXU 16088313 | C30: Global Fund | D30: 0 | E30: 0 | F30: 0 | G30: 0 | H30: 0 | I30: 16650 | J30: same | K30: EFM Lae | L30: ANC New Arrivals
B31: TGHU 0154750 | C31: Global Fund | D31: 0 | E31: 0 | F31: 0 | G31: 0 | H31: 0 | I31: 16700 | J31: same | K31: EFM Lae | L31: ANC New Arrivals
B32: TGHU 0426610 | C32: Global Fund | D32: 0 | E32: 0 | F32: 0 | G32: 0 | H32: 0 | I32: 16700 | J32: same | K32: EFM Lae | L32: ANC New Arrivals
B33: TGHU 0441180 | C33: Global Fund | D33: 0 | E33: 0 | F33: 0 | G33: 0 | H33: 0 | I33: 16700 | J33: same | K33: EFM Lae | L33: ANC New Arrivals
B34: CLHU 3722945 | C34: Global Fund | D34: 0 | E34: 0 | F34: 0 | G34: 0 | H34: =380*50 -> 19000 | I34: 0 | J34: same | K34: EFM Lae-ETA 14.10.25 | L34: East New Britain Nets - New Arrivals
B35: CLHU 3834689 | C35: Global Fund | D35: 0 | E35: 0 | F35: 0 | G35: 0 | H35: =380*50 -> 19000 | I35: 0 | J35: same | K35: EFM Lae-ETA 14.10.25 | L35: East New Britain Nets - New Arrivals
B36: GATU 1285859 | C36: Global Fund | D36: 0 | E36: 0 | F36: 0 | G36: 0 | H36: =380*50 -> 19000 | I36: 0 | J36: same | K36: EFM Lae-ETA 14.10.25 | L36: East New Britain Nets - New Arrivals
B37: TEMU 2999564 | C37: Global Fund | D37: 0 | E37: 0 | F37: 0 | G37: 0 | H37: =380*50 -> 19000 | I37: 0 | J37: same | K37: EFM Lae-ETA 14.10.25 | L37: East New Britain Nets - New Arrivals
B38: TEMU 3325448 | C38: Global Fund | D38: 0 | E38: 0 | F38: 0 | G38: 0 | H38: =380*50 -> 19000 | I38: 0 | J38: same | K38: EFM Lae-ETA 14.10.25 | L38: East New Britain Nets - New Arrivals
B39: TGHU 0320280 | C39: Global Fund | D39: 0 | E39: 0 | F39: 0 | G39: 0 | H39: =380*50 -> 19000 | I39: 0 | J39: same | K39: EFM Lae-ETA 14.10.25 | L39: East New Britain Nets - New Arrivals
B40: TGHU 1016837 | C40: Global Fund | D40: 0 | E40: 0 | F40: 0 | G40: 0 | H40: =380*50 -> 19000 | I40: 0 | J40: same | K40: EFM Lae-ETA 14.10.25 | L40: East New Britain Nets - New Arrivals
B41: TGHU 1548613 | C41: Global Fund | D41: 0 | E41: 0 | F41: 0 | G41: 0 | H41: =380*50 -> 19000 | I41: 0 | J41: same | K41: EFM Lae-ETA 14.10.25 | L41: East New Britain Nets - New Arrivals
B42: TGHU 1548613 | C42: Global Fund | D42: 0 | E42: 0 | F42: 0 | G42: 0 | H42: =380*50 -> 19000 | I42: 0 | J42: same | K42: EFM Lae-ETA 14.10.25 | L42: East New Britain Nets - New Arrivals
B43: TGHU 3952331 | C43: Global Fund | D43: 0 | E43: 0 | F43: 0 | G43: 0 | H43: =380*50 -> 19000 | I43: 0 | J43: same | K43: EFM Lae-ETA 14.10.25 | L43: East New Britain Nets - New Arrivals
B44: TGHU 3953169 | C44: Global Fund | D44: 0 | E44: 0 | F44: 0 | G44: 0 | H44: =380*50 -> 19000 | I44: 0 | J44: same | K44: EFM Lae-ETA 14.10.25 | L44: East New Britain Nets - New Arrivals
B45: XINU 1295102 | C45: Global Fund | D45: 0 | E45: 0 | F45: 0 | G45: 0 | H45: =380*50 -> 19000 | I45: 0 | J45: same | K45: EFM Lae-ETA 14.10.25 | L45: East New Britain Nets - New Arrivals
B46: CLHU 3863603 | C46: Global Fund | D46: 0 | E46: 0 | F46: 0 | G46: 0 | H46: 0 | I46: 12500 | J46: same | K46: GFS POM | L46: New arrivals ANC
B47: AMFU 3238531 | C47: Global Fund | D47: 0 | E47: 0 | F47: 0 | G47: 0 | H47: 0 | I47: 12500 | J47: same | K47: GFS POM | L47: New arrivals ANC
B48: CLHU 3833759 | C48: Global Fund | D48: 0 | E48: 0 | F48: 0 | G48: 0 | H48: =380*50 -> 19000 | I48: 0 | J48: Same | K48: EFM Lae-ETA 14.10.25 | L48: AROB Nets - New Arrivals
B49: CLHU 3876365 | C49: Global Fund | D49: 0 | E49: 0 | F49: 0 | G49: 0 | H49: =380*50 -> 19000 | I49: 0 | J49: Same | K49: EFM Lae-ETA 14.10.25 | L49: AROB Nets - New Arrivals
B50: TEMU 4110125 | C50: Global Fund | D50: 0 | E50: 0 | F50: 0 | G50: 0 | H50: =380*50 -> 19000 | I50: 0 | J50: Same | K50: EFM Lae-ETA 14.10.25 | L50: AROB Nets - New Arrivals
B51: TGHU 0144216 | C51: Global Fund | D51: 0 | E51: 0 | F51: 0 | G51: 0 | H51: =380*50 -> 19000 | I51: 0 | J51: Same | K51: EFM Lae-ETA 14.10.25 | L51: AROB Nets - New Arrivals
B52: TGHU 0575229 | C52: Global Fund | D52: 0 | E52: 0 | F52: 0 | G52: 0 | H52: =380*50 -> 19000 | I52: 0 | J52: Same | K52: EFM Lae-ETA 14.10.25 | L52: AROB Nets - New Arrivals
B53: TGHU 0594785 | C53: Global Fund | D53: 0 | E53: 0 | F53: 0 | G53: 0 | H53: =380*50 -> 19000 | I53: 0 | J53: Same | K53: EFM Lae-ETA 14.10.25 | L53: AROB Nets - New Arrivals
B54: TGHU 0676754 | C54: Global Fund | D54: 0 | E54: 0 | F54: 0 | G54: 0 | H54: =380*50 -> 19000 | I54: 0 | J54: Same | K54: EFM Lae-ETA 14.10.25 | L54: AROB Nets - New Arrivals
B55: TGHU 0906332 | C55: Global Fund | D55: 0 | E55: 0 | F55: 0 | G55: 0 | H55: =380*50 -> 19000 | I55: 0 | J55: Same | K55: EFM Lae-ETA 14.10.25 | L55: AROB Nets - New Arrivals
B56: TGHU 1201270 | C56: Global Fund | D56: 0 | E56: 0 | F56: 0 | G56: 0 | H56: =380*50 -> 19000 | I56: 0 | J56: Same | K56: EFM Lae-ETA 14.10.25 | L56: AROB Nets - New Arrivals
B57: TGHU 30901442 | C57: Global Fund | D57: 0 | E57: 0 | F57: 0 | G57: 0 | H57: =380*50 -> 19000 | I57: 0 | J57: Same | K57: EFM Lae-ETA 14.10.25 | L57: AROB Nets - New Arrivals
B58: TGHU 3903450 | C58: Global Fund | D58: 0 | E58: 0 | F58: 0 | G58: 0 | H58: =380*50 -> 19000 | I58: 0 | J58: Same | K58: EFM Lae-ETA 14.10.25 | L58: AROB Nets - New Arrivals
B59: TOTAL | D59: =SUM(D3:D33) -> 11100 | E59: 39300 | F59: 9240 | G59: =SUM(G4:G33) -> 56350 | H59: =SUM(H3:H58) -> 665000 | I59: 125050
B61: CURRENT STOCK | C61: MAGNETS HH DiSTributiON | D61: YAHE HH DISTRIBUTION | E61: ANC NETS FOR SDP | F61: YAHE NETS FOR ANC | G61: RAM ORIGIONAL NETS
B62: GFS POM | C62: 9240 | D62: 0 | E62: 39300 | F62: 25000 | G62: 11100
B63: EFM LAE | C63: 56350 | D63: 665000 | E63: 0 | F63: 100050 | G63: 0
B64: TOTALS | C64: =SUM(C62:C63) -> 65590 | D64: =SUM(D62:D63) -> 665000 | E64: =SUM(E62:E63) -> 39300 | F64: =SUM(F62:F63) -> 125050 | G64: =SUM(G62:G63) -> 11100
