Workbook

Sheet SUMMARY STOCK UPDATE
A1: SUMMARY - STOCK AND PROCUREMENT SUMMARY OF MEDICAL SUPPLIES BRANCH AND RAM/GF
A2: 3rd of October 2025
A4: ITEM | B4: PACK SIZE | C4: STOCK ON HAND | G4: STOCK ON ORDER | K4: EXPECTED STOCK POSSIBLY IN THE NEXT SIX MONTHS | M4: EXPECTED DATES OF ARRIVAL
C5: QUANTITY | F5: IN MONTHS OF STOCK | G5: QUANTITY | J5: IN MONTHS OF STOCK | K5: QUANTITY | L5: IN MONTHS OF STOCK | M5: NDoH | N5: GF/RAM
C6: NDoH | D6: GF/RAM | E6: TOTAL | G6: NDoH | H6: GF/RAM | I6: TOTAL
A7: RDT, ACT, & PRIMAQUINE | K7: =E7+I7 -> 0
A8: ACT 6 TABS | B8: INDIVIDUAL TREATMENT COURSE | C8: ='ACT-RDT-PQ BY AMS'!C10 -> 169290 | D8: ='ACT-RDT-PQ BY AMS'!C11 -> 24480 | E8: ='ACT-RDT-PQ BY AMS'!C12 -> 193770 | F8: =E8/'ACT-RDT-PQ BY AMS'!AA17 -> 0.34194706 | G8: ='ACT-RDT-PQ BY AMS'!L10 -> 108000 | H8: ='ACT-RDT-PQ BY AMS'!L11 -> 0 | I8: =G8+H8 -> 108000 | J8: =I8/'ACT-RDT-PQ BY AMS'!AA17 -> 0.19058824 | K8: =E8+I8 -> 301770 | L8: =F8+J8 -> 0.53253529
A9: ACT 12 TABS | B9: INDIVIDUAL TREATMENT COURSE | C9: ='ACT-RDT-PQ BY AMS'!D10 -> 80100 | D9: ='ACT-RDT-PQ BY AMS'!D11 -> 227880 | E9: ='ACT-RDT-PQ BY AMS'!D12 -> 307980 | F9: =(E9*2)/'ACT-RDT-PQ BY AMS'!AA17 -> 1.0869882 | G9: ='ACT-RDT-PQ BY AMS'!M10 -> 96000 | H9: ='ACT-RDT-PQ BY AMS'!M11 -> 0 | I9: =G9+H9 -> 96000 | J9: =(I9*2)/'ACT-RDT-PQ BY AMS'!AA17 -> 0.33882353 | K9: =E9+I9 -> 403980 | L9: =F9+J9 -> 1.4258118
A10: ACT 18 TABS | B10: INDIVIDUAL TREATMENT COURSE | C10: ='ACT-RDT-PQ BY AMS'!E10 -> 110220 | D10: ='ACT-RDT-PQ BY AMS'!E11 -> 0 | E10: ='ACT-RDT-PQ BY AMS'!E12 -> 110220 | F10: =(E10*3)/'ACT-RDT-PQ BY AMS'!AA17 -> 0.58351765 | G10: ='ACT-RDT-PQ BY AMS'!N10 -> 2160 | H10: ='ACT-RDT-PQ BY AMS'!N11 -> 0 | I10: =G10+H10 -> 2160 | J10: =(I10*3)/'ACT-RDT-PQ BY AMS'!AA17 -> 0.011435294 | K10: =E10+I10 -> 112380 | L10: =F10+J10 -> 0.59495294
A11: ACT 24 TABS | B11: INDIVIDUAL TREATMENT COURSE | C11: ='ACT-RDT-PQ BY AMS'!F10 -> 55050 | D11: ='ACT-RDT-PQ BY AMS'!F11 -> 252540 | E11: ='ACT-RDT-PQ BY AMS'!F12 -> 307590 | F11: =(E11*4)/'ACT-RDT-PQ BY AMS'!AA17 -> 2.1712235 | G11: ='ACT-RDT-PQ BY AMS'!O10 -> 2280 | H11: ='ACT-RDT-PQ BY AMS'!O11 -> 0 | I11: =G11+H11 -> 2280 | J11: =(I11*4)/'ACT-RDT-PQ BY AMS'!AA17 -> 0.016094118 | K11: =E11+I11 -> 309870 | L11: =F11+J11 -> 2.1873176
A12: TOTAL ACTs | B12: INDIVIDUAL TREATMENT COURSE | C12: ='ACT-RDT-PQ BY AMS'!G10 -> 414660 | D12: ='ACT-RDT-PQ BY AMS'!G11 -> 504900 | E12: ='ACT-RDT-PQ BY AMS'!G12 -> 919560 | F12: ='ACT-RDT-PQ BY AMS'!C18 -> 4.1836765 | G12: ='ACT-RDT-PQ BY AMS'!P10 -> 208440 | H12: ='ACT-RDT-PQ BY AMS'!P11 -> 0 | I12: ='ACT-RDT-PQ BY AMS'!P12 -> 208440 | J12: ='ACT-RDT-PQ BY AMS'!L18 -> 0.55694118 | K12: =E12+I12 -> 1128000 | L12: =F12+J12 -> 4.7406176 | M12: 0.6 month stock expected.
A13: PRIMAQUINE | B13: TABLET | C13: ='ACT-RDT-PQ BY AMS'!H10 -> 1866300 | D13: ='ACT-RDT-PQ BY AMS'!H11 -> 0 | E13: ='ACT-RDT-PQ BY AMS'!H12 -> 1866300 | F13: ='ACT-RDT-PQ BY AMS'!H18 -> 1.3410539 | G13: ='ACT-RDT-PQ BY AMS'!Q10 -> 168500 | H13: ='ACT-RDT-PQ BY AMS'!Q11 -> 0 | I13: ='ACT-RDT-PQ BY AMS'!Q12 -> 168500 | J13: =I13/'ACT-RDT-PQ BY AMS'!Z17 -> 0.12107784 | K13: =E13+I13 -> 2034800 | L13: =F13+J13 -> 1.4621317 | M13: 0.1 months stock expected
A14: RDT | B14: INDIVIDUAL TEST KIT | C14: ='ACT-RDT-PQ BY AMS'!B10 -> 1493475 | D14: ='ACT-RDT-PQ BY AMS'!B11 -> 68275 | E14: ='ACT-RDT-PQ BY AMS'!B12 -> 1561750 | F14: ='ACT-RDT-PQ BY AMS'!B18 -> 4.68525 | G14: ='ACT-RDT-PQ BY AMS'!K10 -> 58825 | H14: ='ACT-RDT-PQ BY AMS'!K11 -> 0 | I14: ='ACT-RDT-PQ BY AMS'!K12 -> 58825 | J14: =I14/'ACT-RDT-PQ BY AMS'!T17 -> 0.176475 | K14: =E14+I14 -> 1620575 | L14: =F14+J14 -> 4.861725 | M14: 0.2 months stock expected
E15: 0
A16: OTHER ANTI-MALARIAL DRUGS | G16: 0.57638889
A17: SULPHADOXINE 500MG + PYRIMETHAMINE 25MG (SP) | B17: TABLET | C17: =' Other A.M.Drugs BY AMS'!B12 -> 280400 | D17: =' Other A.M.Drugs BY AMS'!B11 -> 0 | E17: =D17+C17 -> 280400 | G17: =' Other A.M.Drugs BY AMS'!M10 -> 0 | H17: =' Other A.M.Drugs BY AMS'!M11 -> 0 | I17: =G17+H17 -> 0 | K17: =E17+I17 -> 280400
A18: ARTEMETHER INJ. 80MG | B18: AMPOULE | C18: =' Other A.M.Drugs BY AMS'!C12 -> 53964 | D18: =' Other A.M.Drugs BY AMS'!B11 -> 0 | E18: =D18+C18 -> 53964 | G18: =' Other A.M.Drugs BY AMS'!N10 -> 22000 | H18: =' Other A.M.Drugs BY AMS'!N11 -> 0 | I18: =G18+H18 -> 22000 | K18: =E18+I18 -> 75964
A19: ARTEMETHER INJ. 40MG | B19: AMPOULE | C19: =' Other A.M.Drugs BY AMS'!D12 -> 65306 | D19: =' Other A.M.Drugs BY AMS'!B11 -> 0 | E19: =D19+C19 -> 65306 | G19: =' Other A.M.Drugs BY AMS'!O10 -> 10000 | H19: =' Other A.M.Drugs BY AMS'!O11 -> 0 | I19: =G19+H19 -> 10000 | K19: =E19+I19 -> 75306
A20: ARTESUNATE INJECTION 60MG | B20: VIAL | C20: =' Other A.M.Drugs BY AMS'!E12 -> 22670 | D20: =' Other A.M.Drugs BY AMS'!B11 -> 0 | E20: =D20+C20 -> 22670 | G20: =' Other A.M.Drugs BY AMS'!P10 -> 0 | H20: =' Other A.M.Drugs BY AMS'!P11 -> 0 | I20: =G20+H20 -> 0 | K20: =E20+I20 -> 22670
A21: QUININE INJ. 600 INJ. | B21: VIAL | C21: =' Other A.M.Drugs BY AMS'!F12 -> 1760 | D21: =' Other A.M.Drugs BY AMS'!B11 -> 0 | E21: =C21+D21 -> 1760 | G21: =' Other A.M.Drugs BY AMS'!Q10 -> 0 | H21: =' Other A.M.Drugs BY AMS'!Q11 -> 0 | I21: =G21+H21 -> 0 | K21: =E21+I21 -> 1760
A22: QUININE TAB 300MG | B22: TABLET | C22: =' Other A.M.Drugs BY AMS'!G12 -> 99200 | D22: =' Other A.M.Drugs BY AMS'!B11 -> 0 | E22: =D22+C22 -> 99200 | G22: =' Other A.M.Drugs BY AMS'!R10 -> 0 | H22: =' Other A.M.Drugs BY AMS'!Q11 -> 0 | I22: =G22+H22 -> 0 | K22: =E22+I22 -> 99200
A23: Dihydroartemisinin 40mg + Piperaquine 340mg Tab) | B23: TABLET | C23: =' Other A.M.Drugs BY AMS'!J12 -> 2433 | D23: =' Other A.M.Drugs BY AMS'!B11 -> 0 | E23: =D23+C23 -> 2433 | G23: =' Other A.M.Drugs BY AMS'!U10 -> 0 | H23: =' Other A.M.Drugs BY AMS'!Q11 -> 0 | I23: =G23+H23 -> 0 | K23: =E23+I23 -> 2433

Sheet ACT-RDT-PQ BY AMS
A1: ACTs, RDTs AND PRIMAQUINE - STOCK AND PROCUREMENT SUMMARY OF NDoH MEDICAL SUPPLIES BRANCH AND RAM
A3: STOCK ON HAND IN PNG AS OF 3RD OF OCTOBER 2025 | J3: RDTs and ACTS ON ORDER AS REFLECTED BY mSUPPLY and Global Fund | S3: Total Possibly Available In the Next Six Months
A4: AMS | B4: RDTS | C4: ACT 6 | D4: ACT 12 | E4: ACT 18 | F4: ACT 24 | G4: Total ACTs | H4: Primaquine Tablet | J4: AMS | K4: RDTS | L4: ACT 6 | M4: ACT 12 | N4: ACT 18 | O4: ACT 24 | P4: Total ACTs | Q4: Primaquine Tablet | S4: AMS | T4: RDTS | U4: ACT 6 | V4: ACT 12 | W4: ACT 18 | X4: ACT 24 | Y4: Total ACTs | Z4: Primaquine Tablet | AA4: ACT6s Equivalents
A5: Badili | B5: 344200 | C5: 131460 | D5: 24960 | E5: 27570 | F5: 0 | G5: =C5+D5+E5+F5 -> 183990 | H5: 434600 | J5: Badili | K5: ='NDoH Outstanding Orders'!E58 -> 0 | L5: ='NDoH Outstanding Orders'!F58 -> 0 | M5: ='NDoH Outstanding Orders'!G58 -> 0 | N5: ='NDoH Outstanding Orders'!H58 -> 2160 | O5: ='NDoH Outstanding Orders'!I58 -> 2160 | P5: =L5+M5+N5+O5 -> 4320 | Q5: ='NDoH Outstanding Orders'!K58 -> 0 | S5: Badili | T5: =B5+K5 -> 344200 | U5: =C5+L5 -> 131460 | V5: =D5+M5 -> 24960 | W5: =E5+N5 -> 29730 | X5: =F5+O5 -> 2160 | Y5: =G5+P5 -> 188310 | Z5: =H5+Q5 -> 434600 | AA5: =U5+(V5*2)+(W5*3)+(X5*4) -> 279210
A6: Hagen | B6: 254625 | C6: 3090 | D6: 16230 | E6: 14010 | F6: 14940 | G6: =C6+D6+E6+F6 -> 48270 | H6: 70700 | J6: Hagen | K6: ='NDoH Outstanding Orders'!E100 -> 0 | L6: ='NDoH Outstanding Orders'!F100 -> 0 | M6: ='NDoH Outstanding Orders'!G100 -> 0 | N6: ='NDoH Outstanding Orders'!H100 -> 0 | O6: ='NDoH Outstanding Orders'!I100 -> 0 | P6: =L6+M6+N6+O6 -> 0 | Q6: ='NDoH Outstanding Orders'!K100 -> 167400 | S6: Hagen | T6: =B6+K6 -> 254625 | U6: =C6+L6 -> 3090 | V6: =D6+M6 -> 16230 | W6: =E6+N6 -> 14010 | X6: =F6+O6 -> 14940 | Y6: =G6+P6 -> 48270 | Z6: =H6+Q6 -> 238100 | AA6: =U6+(V6*2)+(W6*3)+(X6*4) -> 137340
A7: Kokopo | B7: 263750 | C7: 17490 | D7: 18030 | E7: 19410 | F7: 24060 | G7: =C7+D7+E7+F7 -> 78990 | H7: 15000 | J7: Kokopo | K7: ='NDoH Outstanding Orders'!E137 -> 0 | L7: ='NDoH Outstanding Orders'!F137 -> 0 | M7: ='NDoH Outstanding Orders'!G137 -> 0 | N7: ='NDoH Outstanding Orders'!H137 -> 0 | O7: ='NDoH Outstanding Orders'!I137 -> 0 | P7: =L7+M7+N7+O7 -> 0 | Q7: ='NDoH Outstanding Orders'!K137 -> 1100 | S7: Kokopo | T7: =B7+K7 -> 263750 | U7: =C7+L7 -> 17490 | V7: =D7+M7 -> 18030 | W7: =E7+N7 -> 19410 | X7: =F7+O7 -> 24060 | Y7: =G7+P7 -> 78990 | Z7: =H7+Q7 -> 16100 | AA7: =U7+(V7*2)+(W7*3)+(X7*4) -> 208020
A8: Lae | B8: 380875 | C8: 9720 | D8: 9360 | E8: 12000 | F8: 3000 | G8: =C8+D8+E8+F8 -> 34080 | H8: 1200000 | J8: Lae | K8: ='NDoH Outstanding Orders'!E185 -> 0 | L8: ='NDoH Outstanding Orders'!F185 -> 105000 | M8: ='NDoH Outstanding Orders'!G185 -> 96000 | N8: ='NDoH Outstanding Orders'!H185 -> 0 | O8: ='NDoH Outstanding Orders'!I185 -> 0 | P8: =L8+M8+N8+O8 -> 201000 | Q8: ='NDoH Outstanding Orders'!K185 -> 0 | S8: Lae | T8: =B8+K8 -> 380875 | U8: =C8+L8 -> 114720 | V8: =D8+M8 -> 105360 | W8: =E8+N8 -> 12000 | X8: =F8+O8 -> 3000 | Y8: =G8+P8 -> 235080 | Z8: 80000 | AA8: =U8+(V8*2)+(W8*3)+(X8*4) -> 373440
A9: Wewak | B9: 250025 | C9: 7530 | D9: 11520 | E9: 37230 | F9: 13050 | G9: =C9+D9+E9+F9 -> 69330 | H9: 146000 | J9: Wewak | K9: ='NDoH Outstanding Orders'!E242 -> 58825 | L9: ='NDoH Outstanding Orders'!F242 -> 3000 | M9: ='NDoH Outstanding Orders'!G242 -> 0 | N9: ='NDoH Outstanding Orders'!H242 -> 0 | O9: ='NDoH Outstanding Orders'!I242 -> 120 | P9: =L9+M9+N9+O9 -> 3120 | Q9: ='NDoH Outstanding Orders'!K242 -> 0 | S9: Wewak | T9: =B9+K9 -> 308850 | U9: =C9+L9 -> 10530 | V9: =D9+M9 -> 11520 | W9: =E9+N9 -> 37230 | X9: =F9+O9 -> 13170 | Y9: =G9+P9 -> 72450 | Z9: =H9+Q9 -> 146000 | AA9: =U9+(V9*2)+(W9*3)+(X9*4) -> 197940
A10: Total NDoH | B10: =SUM(B5:B9) -> 1493475 | C10: =SUM(C5:C9) -> 169290 | D10: =SUM(D5:D9) -> 80100 | E10: =SUM(E5:E9) -> 110220 | F10: =SUM(F5:F9) -> 55050 | G10: =SUM(G5:G9) -> 414660 | H10: =SUM(H5:H9) -> 1866300 | J10: Total NDoH | K10: =SUM(K5:K9) -> 58825 | L10: =SUM(L5:L9) -> 108000 | M10: =SUM(M5:M9) -> 96000 | N10: =SUM(N5:N9) -> 2160 | O10: =SUM(O5:O9) -> 2280 | P10: =L10+M10+N10+O10 -> 208440 | Q10: =SUM(Q5:Q9) -> 168500 | S10: Total NDoH | T10: =B10+K10 -> 1552300 | U10: =C10+L10 -> 277290 | V10: =D10+M10 -> 176100 | W10: =E10+N10 -> 112380 | X10: =F10+O10 -> 57330 | Y10: =G10+P10 -> 623100 | Z10: =H10+Q10 -> 2034800 | AA10: =U10+(V10*2)+(W10*3)+(X10*4) -> 1195950
A11: RAM/GF | B11: 68275 | C11: 24480 | D11: 227880 | E11: 0 | F11: 252540 | G11: =C11+D11+E11+F11 -> 504900 | H11: 0 | J11: RAM/GF | K11: 0 | L11: ='RAM-GF_PROC.-2021 REQ.ACT-RDT'!E31 -> 0 | M11: ='RAM-GF_PROC.-2021 REQ.ACT-RDT'!F31 -> 0 | N11: ='RAM-GF_PROC.-2021 REQ.ACT-RDT'!G31 -> 0 | O11: ='RAM-GF_PROC.-2021 REQ.ACT-RDT'!H31 -> 0 | P11: =L11+M11+N11+O11 -> 0 | Q11: ='RAM-GF_PROC.-2021 REQ.ACT-RDT'!J21 -> 0 | S11: RAM | T11: =B11+K11 -> 68275 | U11: =C11+L11 -> 24480 | V11: =D11+M11 -> 227880 | W11: =E11+N11 -> 0 | X11: =F11+O11 -> 252540 | Y11: =G11+P11 -> 504900 | Z11: =H11+Q11 -> 0 | AA11: =U11+(V11*2)+(W11*3)+(X11*4) -> 1490400
A12: Total | B12: =B11+B10 -> 1561750 | C12: =C11+C10 -> 193770 | D12: =D11+D10 -> 307980 | E12: =E11+E10 -> 110220 | F12: =F11+F10 -> 307590 | G12: =G11+G10 -> 919560 | H12: =(H11+H10) -> 1866300 | J12: Total | K12: =K11+K10 -> 58825 | L12: =L11+L10 -> 108000 | M12: =M11+M10 -> 96000 | N12: =N11+N10 -> 2160 | O12: =O11+O10 -> 2280 | P12: =L12+M12+N12+O12 -> 208440 | Q12: =Q11+Q10 -> 168500 | S12: Total | T12: =B12+K12 -> 1620575 | U12: =C12+L12 -> 301770 | V12: =D12+M12 -> 403980 | W12: =E12+N12 -> 112380 | X12: =F12+O12 -> 309870 | Y12: =G12+P12 -> 1128000 | Z12: =H12+Q12 -> 2034800 | AA12: =U12+(V12*2)+(W12*3)+(X12*4) -> 2686350
T13: =T12/T17 -> 4.861725 | Z13: =Z12/Z17 -> 1.4621317 | AA13: =AA12/AA17 -> 4.7406176
C15: MONTHS OF STOCK ON HAND | L15: MONTHS OF STOCK ON ORDER
B16: RDT | C16: ACT (Total ACT 6 Equivalence) | H16: PQ | K16: RDT | L16: ACT (Total ACT 6 Equivalence) | Q16: PQ | S16: Estimated Annual Consumption | T16: 4000000 | Z16: 16700000 | AA16: 6800000
A17: TOTAL QTY | B17: =B12 -> 1561750 | C17: =(C12)+(D12*2)+(E12*3)+(F12*4) -> 2370750 | H17: =H12 -> 1866300 | J17: TOTAL QTY | K17: =K12 -> 58825 | L17: =(L12)+(M12*2)+(N12*3)+(O12*4) -> 315600 | Q17: =Q12 -> 168500 | S17: Estimated Monthly Consumptioin | T17: =T16/12 -> 333333.33 | Z17: =Z16/12 -> 1391666.7 | AA17: =AA16/12 -> 566666.67
A18: EQUIVALENCE IN MONTHS OF STOCK | B18: =B17/T17 -> 4.68525 | C18: =C17/AA17 -> 4.1836765 | H18: =H17/Z17 -> 1.3410539 | J18: EQUIVALENCE IN MONTHS OF STOCK | K18: =K17/T17 -> 0.176475 | L18: =L17/AA17 -> 0.55694118 | Q18: =Q17/Z17 -> 0.12107784 | S18: Thresholds For New Orders | T18: =T17*10 -> 3333333.3 | Z18: =Z17*10 -> 13916667 | AA18: =AA17*10 -> 5666666.7
A19: NDoH | B19: =B10/T17 -> 4.480425 | C19: =(C10+(D10*2)+(E10*3)+(F10*4))/AA17 -> 1.5535588 | H19: =H10/Z17 -> 1.3410539 | J19: NDoH | K19: =K10/T17 -> 0.176475 | L19: =(L10+(M10*2)+(N10*3)+(O10*4))/AA17 -> 0.55694118 | Q19: =Q10/Z17 -> 0.12107784
A20: RAM/GF | B20: =B11/T17 -> 0.204825 | C20: =(C11+(D11*2)+(E11*3)+(F11*4))/AA17 -> 2.6301176 | H20: =H11/Z17 -> 0 | J20: RAM/GF | K20: =K11/T17 -> 0 | L20: =(L11+(M11*2)+(N11*3)+(O11*4))/AA17 -> 0 | Q20: 0 | AC20: 19000000
AC21: =AC20/Z17 -> 13.652695
A22: Actual Ratio of ACTs | C22: =C12/$G12*100 -> 21.072034 | D22: =D12/$G12*100 -> 33.492105 | E22: =E12/$G12*100 -> 11.986167 | F22: =F12/$G12*100 -> 33.449693
A23: Desired Ratio of ACTs | C23: 14.637358 | D23: 26.487692 | E23: 16.729454 | F23: 42.145496
A26: PREVIOUS UPDATE
A27: STOCK ON HAND IN PNG AS OF 19th of September 2025 | J27: RDTs and ACTS ON ORDER AS REFLECTED BY mSUPPLY and Global Fund | S27: Total Possibly Available In the Next Six Months
A28: AMS | B28: RDTS | C28: ACT 6 | D28: ACT 12 | E28: ACT 18 | F28: ACT 24 | G28: Total ACTs | H28: Primaquine Tablet | J28: AMS | K28: RDTS | L28: ACT 6 | M28: ACT 12 | N28: ACT 18 | O28: ACT 24 | P28: Total ACTs | Q28: Primaquine Tablet | S28: AMS | T28: RDTS | U28: ACT 6 | V28: ACT 12 | W28: ACT 18 | X28: ACT 24 | Y28: Total ACTs | Z28: Primaquine Tablet | AA28: ACT6s Equivalents
A29: Badili | B29: 502675 | C29: 141270 | D29: 39780 | E29: 41190 | F29: 0 | G29: =C29+D29+E29+F29 -> 222240 | H29: 761000 | J29: Badili | K29: 0 | L29: 0 | M29: 0 | N29: 2160 | O29: 2160 | P29: =L29+M29+N29+O29 -> 4320 | Q29: 0 | S29: Badili | T29: 653450 | U29: 142320 | V29: 39780 | W29: 44580 | X29: 3900 | Y29: 230580 | Z29: 1061000 | AA29: 487560
A30: Hagen | B30: 322950 | C30: 3900 | D30: 20040 | E30: 27240 | F30: 22260 | G30: =C30+D30+E30+F30 -> 73440 | H30: 296200 | J30: Hagen | K30: 0 | L30: 0 | M30: 0 | N30: 0 | O30: 0 | P30: =L30+M30+N30+O30 -> 0 | Q30: 167400 | S30: Hagen | T30: 463000 | U30: 31320 | V30: 27660 | W30: 51900 | X30: 25830 | Y30: 136710 | Z30: 609600 | AA30: 349710
A31: Kokopo | B31: 276250 | C31: 19590 | D31: 20010 | E31: 20010 | F31: 30240 | G31: =C31+D31+E31+F31 -> 89850 | H31: 48000 | J31: Kokopo | K31: 0 | L31: 0 | M31: 0 | N31: 0 | O31: 0 | P31: =L31+M31+N31+O31 -> 0 | Q31: 1100 | S31: Kokopo | T31: 427500 | U31: 23610 | V31: 24030 | W31: 25710 | X31: 31680 | Y31: 105030 | Z31: 99100 | AA31: 297840
A32: Lae | B32: 386525 | C32: 720 | D32: 4170 | E32: 0 | F32: 30 | G32: =C32+D32+E32+F32 -> 4920 | H32: 200000 | J32: Lae | K32: 0 | L32: 105000 | M32: 96000 | N32: 0 | O32: 0 | P32: =L32+M32+N32+O32 -> 201000 | Q32: 1000000 | S32: Lae | T32: 505275 | U32: 120210 | V32: 115440 | W32: 10650 | X32: 1740 | Y32: 248040 | Z32: 80000 | AA32: 372000
A33: Wewak | B33: 156800 | C33: 8550 | D33: 10020 | E33: 34650 | F33: 24930 | G33: =C33+D33+E33+F33 -> 78150 | H33: 233000 | J33: Wewak | K33: 58825 | L33: 3000 | M33: 0 | N33: 0 | O33: 120 | P33: =L33+M33+N33+O33 -> 3120 | Q33: 0 | S33: Wewak | T33: 249925 | U33: 16350 | V33: 14700 | W33: 40170 | X33: 30180 | Y33: 101400 | Z33: 548380 | AA33: 455550
A34: Total NDoH | B34: =SUM(B29:B33) -> 1645200 | C34: =SUM(C29:C33) -> 174030 | D34: =SUM(D29:D33) -> 94020 | E34: =SUM(E29:E33) -> 123090 | F34: =SUM(F29:F33) -> 77460 | G34: =SUM(G29:G33) -> 468600 | H34: =SUM(H29:H33) -> 1538200 | J34: Total NDoH | K34: =SUM(K29:K33) -> 58825 | L34: =SUM(L29:L33) -> 108000 | M34: =SUM(M29:M33) -> 96000 | N34: =SUM(N29:N33) -> 2160 | O34: =SUM(O29:O33) -> 2280 | P34: =SUM(P29:P33) -> 208440 | Q34: =SUM(Q29:Q33) -> 1168500 | S34: Total NDoH | T34: =B34+K34 -> 1704025 | U34: =C34+L34 -> 282030 | V34: =D34+M34 -> 190020 | W34: =E34+N34 -> 125250 | X34: =F34+O34 -> 79740 | Y34: =G34+P34 -> 677040 | Z34: =H34+Q34 -> 2706700 | AA34: =U34+(V34*2)+(W34*3)+(X34*4) -> 1356780
A35: RAM/GF | B35: 68275 | C35: 29700 | D35: 238170 | E35: 720 | F35: 317850 | G35: =C35+D35+E35+F35 -> 586440 | H35: 0 | J35: RAM/GF | K35: 0 | L35: ='RAM-GF_PROC.-2021 REQ.ACT-RDT'!E54 -> 0 | M35: ='RAM-GF_PROC.-2021 REQ.ACT-RDT'!F54 -> 0 | N35: ='RAM-GF_PROC.-2021 REQ.ACT-RDT'!G54 -> 0 | O35: ='RAM-GF_PROC.-2021 REQ.ACT-RDT'!H54 -> 0 | P35: =L35+M35+N35+O35 -> 0 | Q35: ='RAM-GF_PROC.-2021 REQ.ACT-RDT'!J44 -> 0 | S35: RAM | T35: 106375 | U35: 39540 | V35: 254850 | W35: 720 | X35: 387990 | Y35: 683100 | Z35: 0 | AA35: =U35+(V35*2)+(W35*3)+(X35*4) -> 2103360
A36: Total | B36: =B35+B34 -> 1713475 | C36: =C35+C34 -> 203730 | D36: =D35+D34 -> 332190 | E36: =E35+E34 -> 123810 | F36: =F35+F34 -> 395310 | G36: =G35+G34 -> 1055040 | H36: =(H35+H34) -> 1538200 | J36: Total | K36: =K35+K34 -> 58825 | L36: =L35+L34 -> 108000 | M36: =M35+M34 -> 96000 | N36: =N35+N34 -> 2160 | O36: =O35+O34 -> 2280 | P36: =L36+M36+N36+O36 -> 208440 | Q36: =Q35+Q34 -> 1168500 | S36: Total | T36: =B36+K36 -> 1772300 | U36: =C36+L36 -> 311730 | V36: =D36+M36 -> 428190 | W36: =E36+N36 -> 125970 | X36: =F36+O36 -> 397590 | Y36: =G36+P36 -> 1263480 | Z36: =H36+Q36 -> 2706700 | AA36: =U36+(V36*2)+(W36*3)+(X36*4) -> 3136380
T37: =T36/T40 -> 5.3169 | Z37: =Z36/Z40 -> 1.9449341 | AA37: =AA36/AA40 -> 5.5347882
C38: MONTHS OF STOCK ON HAND | L38: MONTHS OF STOCK ON ORDER
B39: RDT | C39: ACT (Total ACT 6 Equivalence) | H39: PQ | K39: RDT | L39: ACT (Total ACT 6 Equivalence) | Q39: PQ | S39: Estimated Annual Consumption | T39: 4000000 | Z39: 16700000 | AA39: 6800000
A40: TOTAL QTY | B40: =B36 -> 1713475 | C40: =(C36)+(D36*2)+(E36*3)+(F36*4) -> 2820780 | H40: =H36 -> 1538200 | J40: TOTAL QTY | K40: =K36 -> 58825 | L40: =(L36)+(M36*2)+(N36*3)+(O36*4) -> 315600 | Q40: =Q36 -> 1168500 | S40: Estimated Monthly Consumptioin | T40: =T39/12 -> 333333.33 | Z40: =Z39/12 -> 1391666.7 | AA40: =AA39/12 -> 566666.67
A41: EQUIVALENCE IN MONTHS OF STOCK | B41: =B40/T40 -> 5.140425 | C41: =C40/AA40 -> 4.9778471 | H41: =H40/Z40 -> 1.1052934 | J41: EQUIVALENCE IN MONTHS OF STOCK | K41: =K40/T40 -> 0.176475 | L41: =L40/AA40 -> 0.55694118 | Q41: =Q40/Z40 -> 0.83964072 | S41: Thresholds For New Orders | T41: =T40*10 -> 3333333.3 | Z41: =Z40*10 -> 13916667 | AA41: =AA40*10 -> 5666666.7
A42: NDoH | B42: =B34/T40 -> 4.9356 | C42: =(C34+(D34*2)+(E34*3)+(F34*4))/AA40 -> 1.8373765 | H42: =H34/Z40 -> 1.1052934 | J42: NDoH | K42: =K34/T40 -> 0.176475 | L42: =(L34+(M34*2)+(N34*3)+(O34*4))/AA40 -> 0.55694118 | Q42: =Q34/Z40 -> 0.83964072
A43: RAM/GF | B43: =B35/T40 -> 0.204825 | C43: =(C35+(D35*2)+(E35*3)+(F35*4))/AA40 -> 3.1404706 | H43: =H35/Z40 -> 0 | J43: RAM/GF | K43: =K35/T40 -> 0 | L43: =(L35+(M35*2)+(N35*3)+(O35*4))/AA40 -> 0 | Q43: =Q35/Z40 -> 0
A45: Actual Ratio of ACTs | C45: 13.188685 | D45: 27.071592 | E45: 19.779842 | F45: 39.959881
A46: Desired Ratio of ACTs | C46: 14.637358 | D46: 26.487692 | E46: 16.729454 | F46: 42.145496

Sheet  Other A.M.Drugs BY AMS
A1: OTHER ANTIMALARIALS - STOCK AND PROCUREMENT SUMMARY OF NDoH MEDICAL SUPPLIES BRANCH
A3: STOCK ON HAND IN PNG AS OF 3RD of OCTOBER 2025 | L3: ON ORDER AS REFLECTED BY mSUPPLY | W3: Total Possibly Available In The Next Six Months
A4: AMS | B4: SP (Sulphadoxine 500mg + Pyrimethamine 25mg Tab) | C4: Artemether Injection 80mg/ml (Amp) | D4: Artemether Injection 40mg/ml (Amp) | E4: Artesunate Injection 60mg Vial | F4: Quinine Injection 600mg Vial | G4: Quinine 300mg Tablet | H4: ARTESUNATE SUPPOSITORY (200MG) | I4: ARTESUNATE SUPPOSITORY (50MG) | J4: DP (Dihydroartemisinin 40mg + Piperaquine 340mg Tab) | L4: AMS | M4: SP (Sulphadoxine 500mg + Pyrimethamine 25mg Tab) | N4: Artemether Injection 80mg/ml (Amp) | O4: Artemether Injection 40mg/ml (Amp) | P4: Artesunate Injection 60mg Vial | Q4: Quinine Injection 600mg Vial | R4: Quinine 300mg Tablet | S4: ARTESUNATE SUPPOSITORY (200MG) | T4: ARTESUNATE SUPPOSITORY (50MG) | U4: DP (Dihydroartemisinin 40mg + Piperaquine 340mg Tab) | X4: SP (Sulphadoxine 500mg + Pyrimethamine 25mg Tab) | Y4: Artemether Injection 80mg/ml (Amp) | Z4: Artemether Injection 40mg/ml (Amp) | AA4: Artesunate Injection 60mg Vial | AB4: Quinine Injection 600mg Vial | AC4: Quinine 300mg Tablet | AD4: DP (Dihydroartemisinin 40mg + Piperaquine 340mg Tab)
A5: Badili | B5: =260400+20000 -> 280400 | C5: 4284 | D5: 24214 | E5: 17205 | F5: 1760 | G5: 0 | H5: 0 | I5: 0 | J5: 1509 | L5: Badili | M5: ='NDoH Outstanding Orders'!L58 -> 0 | N5: ='NDoH Outstanding Orders'!M58 -> 0 | O5: ='NDoH Outstanding Orders'!N58 -> 0 | P5: ='NDoH Outstanding Orders'!O58 -> 0 | Q5: ='NDoH Outstanding Orders'!P58 -> 0 | R5: ='NDoH Outstanding Orders'!Q58 -> 0 | S5: ='NDoH Outstanding Orders'!R58 -> 0 | T5: ='NDoH Outstanding Orders'!S58 -> 0 | U5: ='NDoH Outstanding Orders'!T58 -> 0 | W5: Badili | X5: =B5+M5 -> 280400 | Y5: =C5+N5 -> 4284 | Z5: =D5+O5 -> 24214 | AA5: =E5+P5 -> 17205 | AB5: =F5+Q5 -> 1760 | AC5: =G5+R5 -> 0 | AD5: =J5+U5 -> 1509
A6: Hagen | B6: 0 | C6: 0 | D6: 12600 | E6: 5130 | F6: 0 | G6: 2000 | H6: 0 | I6: 0 | J6: 0 | L6: Hagen | M6: ='NDoH Outstanding Orders'!L100 -> 0 | N6: ='NDoH Outstanding Orders'!M100 -> 2000 | O6: ='NDoH Outstanding Orders'!N100 -> 0 | P6: ='NDoH Outstanding Orders'!O100 -> 0 | Q6: ='NDoH Outstanding Orders'!P100 -> 0 | R6: ='NDoH Outstanding Orders'!Q100 -> 0 | S6: ='NDoH Outstanding Orders'!R100 -> 0 | T6: ='NDoH Outstanding Orders'!S100 -> 0 | U6: ='NDoH Outstanding Orders'!T100 -> 0 | W6: Hagen | X6: =B6+M6 -> 0 | Y6: =C6+N6 -> 2000 | Z6: =D6+O6 -> 12600 | AA6: =E6+P6 -> 5130 | AB6: =F6+Q6 -> 0 | AC6: =G6+R6 -> 2000 | AD6: =J6+U6 -> 0
A7: Kokopo | B7: 0 | C7: 7476 | D7: 12156 | E7: 0 | F7: =22-22 -> 0 | G7: 47000 | H7: 0 | I7: 0 | J7: 0 | L7: Kokopo | M7: ='NDoH Outstanding Orders'!L137 -> 0 | N7: ='NDoH Outstanding Orders'!M137 -> 20000 | O7: ='NDoH Outstanding Orders'!N137 -> 0 | P7: ='NDoH Outstanding Orders'!O137 -> 0 | Q7: ='NDoH Outstanding Orders'!P137 -> 0 | R7: ='NDoH Outstanding Orders'!Q137 -> 0 | S7: ='NDoH Outstanding Orders'!R137 -> 0 | T7: ='NDoH Outstanding Orders'!S137 -> 0 | U7: ='NDoH Outstanding Orders'!T137 -> 0 | W7: Kokopo | X7: =B7+M7 -> 0 | Y7: =C7+N7 -> 27476 | Z7: =D7+O7 -> 12156 | AA7: =E7+P7 -> 0 | AB7: =F7+Q7 -> 0 | AC7: =G7+R7 -> 47000 | AD7: =J7+U7 -> 0
A8: Lae | B8: 0 | C8: 0 | D8: 1990 | E8: 0 | F8: 0 | G8: 0 | H8: 0 | I8: 0 | J8: 0 | L8: Lae | M8: ='NDoH Outstanding Orders'!L185 -> 0 | N8: ='NDoH Outstanding Orders'!M185 -> 0 | O8: ='NDoH Outstanding Orders'!N185 -> 10000 | P8: ='NDoH Outstanding Orders'!O185 -> 0 | Q8: ='NDoH Outstanding Orders'!P185 -> 0 | R8: ='NDoH Outstanding Orders'!Q185 -> 0 | S8: ='NDoH Outstanding Orders'!R185 -> 0 | T8: ='NDoH Outstanding Orders'!S185 -> 0 | U8: ='NDoH Outstanding Orders'!T185 -> 0 | W8: Lae | X8: =B8+M8 -> 0 | Y8: =C8+N8 -> 0 | Z8: =D8+O8 -> 11990 | AA8: =E8+P8 -> 0 | AB8: =F8+Q8 -> 0 | AC8: =G8+R8 -> 0 | AD8: =J8+U8 -> 0
A9: Wewak | B9: 0 | C9: 42204 | D9: 14346 | E9: 335 | F9: 0 | G9: 50200 | H9: 0 | I9: 0 | J9: 924 | L9: Wewak | M9: ='NDoH Outstanding Orders'!L242 -> 0 | N9: ='NDoH Outstanding Orders'!M242 -> 0 | O9: ='NDoH Outstanding Orders'!N242 -> 0 | P9: ='NDoH Outstanding Orders'!O242 -> 0 | Q9: ='NDoH Outstanding Orders'!P242 -> 0 | R9: ='NDoH Outstanding Orders'!Q242 -> 0 | S9: ='NDoH Outstanding Orders'!R242 -> 0 | T9: ='NDoH Outstanding Orders'!S242 -> 0 | U9: ='NDoH Outstanding Orders'!T242 -> 0 | W9: Wewak | X9: =B9+M9 -> 0 | Y9: =C9+N9 -> 42204 | Z9: =D9+O9 -> 14346 | AA9: =E9+P9 -> 335 | AB9: =F9+Q9 -> 0 | AC9: =G9+R9 -> 50200 | AD9: =J9+U9 -> 924
A10: Total NDoH | B10: =SUM(B5:B9) -> 280400 | C10: =SUM(C5:C9) -> 53964 | D10: =SUM(D5:D9) -> 65306 | E10: =SUM(E5:E9) -> 22670 | F10: =SUM(F5:F9) -> 1760 | G10: =SUM(G5:G9) -> 99200 | H10: 0 | I10: 0 | J10: =SUM(J5:J9) -> 2433 | L10: Total NDoH | M10: =SUM(M5:M9) -> 0 | N10: =SUM(N5:N9) -> 22000 | O10: =SUM(O5:O9) -> 10000 | P10: =SUM(P5:P9) -> 0 | Q10: =SUM(Q5:Q9) -> 0 | R10: =SUM(R5:R9) -> 0 | S10: =SUM(S5:S9) -> 0 | T10: =SUM(T5:T9) -> 0 | U10: =SUM(U5:U9) -> 0 | W10: Total NDoH | X10: =B10+M10 -> 280400 | Y10: =C10+N10 -> 75964 | Z10: =D10+O10 -> 75306 | AA10: =E10+P10 -> 22670 | AB10: =F10+Q10 -> 1760 | AC10: =G10+R10 -> 99200 | AD10: =J10+U10 -> 2433
A11: RAM | B11: 0 | C11: 0 | D11: 0 | E11: 0 | F11: 0 | G11: 0 | H11: 0 | I11: 0 | J11: 0 | L11: RAM | M11: 0 | N11: 0 | O11: 0 | P11: 0 | Q11: 0 | R11: 0 | S11: 0 | T11: 0 | U11: 0 | W11: RAM | X11: =B11+M11 -> 0 | Y11: =C11+N11 -> 0 | Z11: =D11+O11 -> 0 | AA11: =E11+P11 -> 0 | AB11: =F11+Q11 -> 0 | AC11: =G11+R11 -> 0 | AD11: =H11+S11 -> 0
A12: Total | B12: =B11+B10 -> 280400 | C12: =C11+C10 -> 53964 | D12: =D11+D10 -> 65306 | E12: =E11+E10 -> 22670 | F12: =F11+F10 -> 1760 | G12: =G11+G10 -> 99200 | H12: =H11+H10 -> 0 | I12: =I11+I10 -> 0 | J12: =J11+J10 -> 2433 | L12: Total | M12: =M10+M11 -> 0 | N12: =N10+N11 -> 22000 | O12: =O10+O11 -> 10000 | P12: =P10+P11 -> 0 | Q12: =Q10+Q11 -> 0 | R12: =R10+R11 -> 0 | S12: =S10+S11 -> 0 | T12: =T10+T11 -> 0 | U12: =U10+U11 -> 0 | W12: Total | X12: =X10+X11 -> 280400 | Y12: =Y10+Y11 -> 75964 | Z12: =Z10+Z11 -> 75306 | AA12: =AA10+AA11 -> 22670 | AB12: =AB10+AB11 -> 1760 | AC12: =AC10+AC11 -> 99200 | AD12: =AD10+AD11 -> 2433
A16: PREVIOUS UPDATE
A17: STOCK ON HAND IN PNG AS OF 5th of Septmenber 2025 | L17: ON ORDER AS REFLECTED BY mSUPPLY | W17: Total Possibly Available In The Next Six Months
A18: AMS | B18: SP (Sulphadoxine 500mg + Pyrimethamine 25mg Tab) | C18: Artemether Injection 80mg/ml (Amp) | D18: Artemether Injection 40mg/ml (Amp) | E18: Artesunate Injection 60mg Vial | F18: Quinine Injection 600mg Vial | G18: Quinine 300mg Tablet | H18: ARTESUNATE SUPPOSITORY (200MG) | I18: ARTESUNATE SUPPOSITORY (50MG) | J18: DP (Dihydroartemisinin 40mg + Piperaquine 340mg Tab) | L18: AMS | M18: SP (Sulphadoxine 500mg + Pyrimethamine 25mg Tab) | N18: Artemether Injection 80mg/ml (Amp) | O18: Artemether Injection 40mg/ml (Amp) | P18: Artesunate Injection 60mg Vial | Q18: Quinine Injection 600mg Vial | R18: Quinine 300mg Tablet | S18: ARTESUNATE SUPPOSITORY (200MG) | T18: ARTESUNATE SUPPOSITORY (50MG) | U18: DP (Dihydroartemisinin 40mg + Piperaquine 340mg Tab) | X18: SP (Sulphadoxine 500mg + Pyrimethamine 25mg Tab) | Y18: Artemether Injection 80mg/ml (Amp) | Z18: Artemether Injection 40mg/ml (Amp) | AA18: Artesunate Injection 60mg Vial | AB18: Quinine Injection 600mg Vial | AC18: Quinine 300mg Tablet | AD18: DP (Dihydroartemisinin 40mg + Piperaquine 340mg Tab)
A19: Badili | B19: =260400+20000 -> 280400 | C19: 4284 | D19: 24214 | E19: 17205 | F19: 1760 | G19: 0 | H19: 0 | I19: 0 | J19: =259+1250 -> 1509 | L19: Badili | M19: 0 | N19: 0 | O19: 0 | P19: 0 | Q19: 0 | R19: 0 | S19: 0 | T19: 0 | U19: 0 | W19: Badili | X19: 280400 | Y19: 4284 | Z19: 24214 | AA19: 17205 | AB19: 1760 | AC19: 0 | AD19: 1509
A20: Hagen | B20: 0 | C20: 0 | D20: 12600 | E20: 5130 | F20: 0 | G20: 2000 | H20: 0 | I20: 0 | J20: 0 | L20: Hagen | M20: 0 | N20: 20000 | O20: 0 | P20: 0 | Q20: 0 | R20: 0 | S20: 0 | T20: 0 | U20: 0 | W20: Hagen | X20: 0 | Y20: 20515 | Z20: 16300 | AA20: 5130 | AB20: 0 | AC20: 2000 | AD20: 0
A21: Kokopo | B21: 0 | C21: 17280 | D21: 17478 | E21: 0 | F21: =22-22 -> 0 | G21: 47000 | H21: 0 | I21: 0 | J21: 0 | L21: Kokopo | M21: 0 | N21: 20000 | O21: 0 | P21: 0 | Q21: 0 | R21: 0 | S21: 0 | T21: 0 | U21: 0 | W21: Kokopo | X21: 0 | Y21: 20800 | Z21: 20000 | AA21: 0 | AB21: 0 | AC21: 72000 | AD21: 0
A22: Lae | B22: 0 | C22: 0 | D22: 5360 | E22: 0 | F22: 0 | G22: 0 | H22: 0 | I22: 0 | J22: 0 | L22: Lae | M22: 0 | N22: 0 | O22: 10000 | P22: 0 | Q22: 0 | R22: 0 | S22: 0 | T22: 0 | U22: 0 | W22: Lae | X22: 0 | Y22: 7830 | Z22: 30150 | AA22: 0 | AB22: 0 | AC22: 0 | AD22: 0
A23: Wewak | B23: 0 | C23: 42204 | D23: 14346 | E23: 1635 | F23: 0 | G23: 50200 | H23: 0 | I23: 0 | J23: 924 | L23: Wewak | M23: 0 | N23: 0 | O23: 0 | P23: 0 | Q23: 0 | R23: 0 | S23: 0 | T23: 0 | U23: 0 | W23: Wewak | X23: 0 | Y23: 48112 | Z23: 1468 | AA23: 1635 | AB23: 0 | AC23: 127500 | AD23: 924
A24: Total NDoH | B24: =SUM(B19:B23) -> 280400 | C24: =SUM(C19:C23) -> 63768 | D24: =SUM(D19:D23) -> 73998 | E24: =SUM(E19:E23) -> 23970 | F24: =SUM(F19:F23) -> 1760 | G24: =SUM(G19:G23) -> 99200 | H24: 0 | I24: 0 | J24: =SUM(J19:J23) -> 2433 | L24: Total NDoH | M24: =SUM(M19:M23) -> 0 | N24: 40000 | O24: 10000 | P24: =SUM(P19:P23) -> 0 | Q24: =SUM(Q19:Q23) -> 0 | R24: =SUM(R19:R23) -> 0 | S24: =SUM(S19:S23) -> 0 | T24: =SUM(T19:T23) -> 0 | U24: =SUM(U19:U23) -> 0 | W24: Total NDoH | X24: =B24+M24 -> 280400 | Y24: =C24+N24 -> 103768 | Z24: =D24+O24 -> 83998 | AA24: =E24+P24 -> 23970 | AB24: =F24+Q24 -> 1760 | AC24: =G24+R24 -> 99200 | AD24: =J24+U24 -> 2433
A25: RAM | B25: 0 | C25: 0 | D25: 0 | E25: 0 | F25: 0 | G25: 0 | H25: 0 | I25: 0 | J25: 0 | L25: RAM | M25: 0 | N25: 0 | O25: 0 | P25: 0 | Q25: 0 | R25: 0 | S25: 0 | T25: 0 | U25: 0 | W25: RAM | X25: =B25+M25 -> 0 | Y25: =C25+N25 -> 0 | Z25: =D25+O25 -> 0 | AA25: =E25+P25 -> 0 | AB25: =F25+Q25 -> 0 | AC25: =G25+R25 -> 0 | AD25: =H25+S25 -> 0
A26: Total | B26: =B25+B24 -> 280400 | C26: =C25+C24 -> 63768 | D26: =D25+D24 -> 73998 | E26: =E25+E24 -> 23970 | F26: =F25+F24 -> 1760 | G26: =G25+G24 -> 99200 | H26: =H25+H24 -> 0 | I26: =I25+I24 -> 0 | J26: =J25+J24 -> 2433 | L26: Total | M26: =M24+M25 -> 0 | N26: =N24+N25 -> 40000 | O26: =O24+O25 -> 10000 | P26: =P24+P25 -> 0 | Q26: =Q24+Q25 -> 0 | R26: =R24+R25 -> 0 | S26: =S24+S25 -> 0 | T26: =T24+T25 -> 0 | U26: =U24+U25 -> 0 | W26: Total | X26: =X24+X25 -> 280400 | Y26: =Y24+Y25 -> 103768 | Z26: =Z24+Z25 -> 83998 | AA26: =AA24+AA25 -> 23970 | AB26: =AB24+AB25 -> 1760 | AC26: =AC24+AC25 -> 99200 | AD26: =AD24+AD25 -> 2433

Sheet RAM-GF_PROC.-2021 REQ.ACT-RDT
B2: RAM / GLOBAL FUND ORDERS TO DATE
E4: 14.637358 | F4: 26.487692 | G4: 16.729454 | H4: 42.145496
A5: REQUISITION NUMBER | B5: PURCHASE ORDER # | C5: FUNDING SOURCE | D5: RDT | E5: ACT6 | F5: ACT12 | G5: ACT18 | H5: ACT24 | I5: TOTAL ACT | J5: PRIMAQUINE | K5: DATE | L5: ARRIVAL | M5: COMMENTS
K6: ORDERD | L6: DATE
A7: 1206 | B7: 4227 | C7: PNGSDP | D7: 212500 | E7: 0 | F7: 0 | G7: 0 | H7: 0 | I7: =SUM(E7:H7) -> 0 | J7: 0 | K7: 44197 | L7: 44409 | M7: Received; 09.09.21
A8: 12087 | B8: 4159 | C8: PNGSDP | D8: 0 | E8: 16650 | F8: 22500 | G8: 19800 | H8: 49500 | I8: =SUM(E8:H8) -> 108450 | J8: 0
A9: 11402 | B9: 4107 | C9: GF | D9: 0 | E9: 0 | F9: 0 | G9: 0 | H9: 0 | I9: =SUM(E9:H9) -> 0 | J9: 8000000 | M9: Received 29.05.21.
A10: 12227 | B10: 4385 | C10: GF | D10: 800000 | E10: 0 | F10: 0 | G10: 0 | H10: 0 | I10: =SUM(E10:H10) -> 0 | J10: 0 | K10: 44228 | L10: 44470 | M10: Arrived 17.10.21 and received into stock.
A11: 12260 | B11: 4327 | C11: GF | D11: 0 | E11: 21000 | F11: 72000 | G11: 30000 | H11: 261000 | I11: =SUM(E11:H11) -> 384000 | J11: 0 | K11: 44228 | L11: 44440 | M11: ACT delivered at AMS on the 17.09.21.
A12: 12719 | B12: 4899 | C12: GF | D12: 800000 | E12: 0 | F12: 0 | G12: 0 | H12: 0 | I12: =SUM(E12:H12) -> 0 | J12: 0 | K12: 44378 | L12: 44531 | M12: Received 25.04.2022
A13: 13964 | B13: 4898 | C13: GF | D13: 0 | E13: 0 | F13: 0 | G13: 0 | H13: 0 | I13: =SUM(E13:H13) -> 0 | J13: 9000000 | K13: 44378 | L13: 44531 | M13: PQ delivered in December, 2021
A14: 13965 | B14: 4897 | C14: GF | D14: 0 | E14: 78000 | F14: 120000 | G14: 75000 | H14: 180000 | I14: =SUM(E14:H14) -> 453000 | J14: 0 | K14: 44378 | L14: 44531 | M14: ACT delivered in December 2021
A15: 15627 | C15: GF | D15: 0 | E15: 81000 | F15: 126000 | G15: 102000 | H15: 126000 | I15: =SUM(E15:H15) -> 435000 | J15: 0 | K15: 44470 | L15: 44621 | M15: Received 30.05.22 | P15: =425000/25 -> 17000
A16: 15628 | C16: GF | D16: 900000 | E16: 0 | F16: 0 | G16: 0 | H16: 0 | I16: =SUM(E16:H16) -> 0 | J16: 0 | K16: 44470 | L16: 44621 | M16: Received 11.05.22
A17: 15629 | C17: GF | D17: 840000 | E17: 0 | F17: 0 | G17: 0 | H17: 0 | I17: =SUM(E17:H17) -> 0 | J17: 0 | K17: 44470 | L17: 44743 | M17: Received 01.06.22.
A18: 15784 | C18: GF | D18: 0 | E18: 72000 | F18: 138000 | G18: 78000 | H18: 141000 | I18: =SUM(E18:H18) -> 429000 | J18: 0 | K18: 44470 | L18: 44743 | M18: Arrived on the 08.07.22, and received on 20.07.22
E19: 72000 | F19: 137700 | G19: 77190 | H19: 140730 | I19: =SUM(E19:H19) -> 427620 | K19: Qty received.
A20: 15789 | B20: 6557 | C20: GF | D20: 900000 | E20: 0 | F20: 0 | G20: 0 | H20: 0 | I20: =SUM(E20:H20) -> 0 | J20: 0 | K20: 44621 | L20: 44835 | M20: RDTs DELIVERED AT AMS ON THE 16th, 17th & 21st NOV. 2022
A21: 17800 | B21: 6478 | C21: GF | D21: 0 | E21: 13200 | F21: 99000 | G21: 51000 | H21: 159000 | I21: =SUM(E21:H21) -> 322200 | J21: 0 | K21: 44621 | L21: 44835 | M21: ACTs Delivered at AMS on 02.11.22
A22: 17800 | B22: 6478 | C22: GF | D22: 0 | E22: 0 | F22: 0 | G22: 0 | H22: 0 | I22: =SUM(E22:H22) -> 0 | J22: 7500000 | K22: 44621 | L22: 44835 | M22: PQ Received on the 27.10.22
A23: 17802 | C23: GF | D23: - | E23: 0 | F23: 0 | G23: 0 | H23: 0 | I23: =SUM(E23:H23) -> 0 | J23: 900000 | K23: 44682 | L23: 44927 | M23: 900,000 FULLY RECEIVED ON 30.12.22
A24: 18464 | C24: GF | E24: 72000 | F24: 90000 | G24: 39000 | H24: 198000 | I24: =SUM(E24:H24) -> 399000 | K24: 44682 | L24: 44969 | M24: 2023 Order; Fully supplied - received on 21.02.23
A25: 20156 | B25: 7313 | C25: GF | E25: 147000 | F25: 262800 | G25: 206100 | H25: 578400 | I25: =SUM(E25:H25) -> 1194300 | K25: 44853 | L25: 45077 | M25: Fully supplied on 15.05 - 19.05.2023
A26: 20040 | B26: 7341 | C26: GF | D26: 1218750 | K26: 44853 | L26: 45047 | M26: Fully supplied on 15.05 - 19.05.2023
A27: 23273 | B27: 9747 | C27: GF | E27: 0 | F27: 120000 | G27: 108000 | H27: 522000 | I27: =SUM(E27:H27) -> 750000 | K27: 45253 | L27: 45473 | M27: Fully received in July 2024
A28: 24360 | B28: 9017 | C28: GF | D28: 750000 | E28: 0 | F28: 0 | G28: 0 | H28: 0 | I28: 0 | J28: 0 | K28: 45280 | L28: 45535 | M28: Fully received in August 2024
A29: 24591 | B29: 9370 | C29: GF | E29: 33300 | F29: 45000 | G29: 39600 | H29: 99000 | I29: =SUM(E29:H29) -> 216900 | K29: 45391 | L29: 45565 | M29: Recived fully on October 2024 (SDP-confirmed by Munir from RAM-ADP Agreement Letter) | O29: =E29+F29+G29+H29 -> 216900 | P29: =D28/25 -> 30000
A30: 25442 | B30: 9411 | C30: GF | E30: 30000 | F30: 171000 | G30: 33000 | H30: 282000 | I30: =SUM(E30:H30) -> 516000 | K30: 45398 | L30: 45565 | M30: Fully received in August 2024 | O30: =O29/30 -> 7230
A31: 25441 | B31: 9540 | C31: GF | D31: 425000 | E31: 0 | F31: 0 | G31: 0 | H31: 0 | I31: =SUM(E31:H31) -> 0 | K31: 45499 | L31: 45626 | M31: Outstanding GF RDT received (49 pallets) from SDP-confirmed by Munir
E32: 102000 | F32: 330000 | G32: 120000 | H32: 381000 | I32: =SUM(E32:H32) -> 933000 | L32: 45627 | M32: All received on the 18th of Nov 2024 | O32: =I27/30 -> 25000
C33: Price GF (US$) | E33: 0.32 | F33: 0.51 | G33: 0.7 | H33: 0.94
B35: PO 9017 | D35: RDT -Months of stock | E35: ACT (Total ACT 6 Equivalence) | I35: Months of stock | J35: PQ | L35: =3600*30 -> 108000 | M35: =11000*30 -> 330000
D36: =D28/'ACT-RDT-PQ BY AMS'!T17 -> 2.25 | E36: =(E27)+(F27*2)+(G27*3)+(H27*4) -> 2652000 | I36: =E36/'ACT-RDT-PQ BY AMS'!AA17 -> 4.68 | J36: =J23/'ACT-RDT-PQ BY AMS'!Z17 -> 0.64670659
A37: RDT: 2024 | D37: =D26/'ACT-RDT-PQ BY AMS'!T17 -> 3.65625 | E37: =(E29)+(F29*2)+(G29*3)+(H29*4) -> 638100 | I37: =E37/'ACT-RDT-PQ BY AMS'!AA17 -> 1.1260588 | M37: =333333*4 -> 1333332
A38: =D28+D31 -> 1175000 | D38: =D20/'ACT-RDT-PQ BY AMS'!T17 -> 2.7 | E38: =E30+(F30*2)+(G30*3)+(H30*4) -> 1599000 | I38: =E38/'ACT-RDT-PQ BY AMS'!AA17 -> 2.8217647 | M38: =M37/25 -> 53333.28
A39: =A38/25 -> 47000 | B39: =A39*9 -> 423000 | D39: =D25/'ACT-RDT-PQ BY AMS'!T17 -> 0 | E39: =E32+(F32*2)+(G32*3)+(H32*4) -> 2646000 | I39: =E39/'ACT-RDT-PQ BY AMS'!AA17 -> 4.6694118 | M39: 54000
D40: =D31/333333 -> 1.2750013 | G40: total in Mos | I40: =SUM(I36:I39) -> 13.297235 | M40: =M39*25 -> 1350000
C41: =D28/25 -> 30000
C42: =D31/25 -> 17000
C43: =SUM(C41:C42) -> 47000

Sheet NDoH Outstanding Orders
V1: NDoH ORDERS TO DATE
E2: RDT, ACT, & PRIMAQUINE | L2: OTHER ANTIMALARIAL DRUGS | V2: RDT, ACT, & PRIMAQUINE | AC2: OTHER ANTIMALARIAL DRUGS
A4: AMS | B4: PURCHASE ORDER # | C4: DATE | D4: ARRIVAL | E4: RDT | F4: ACT6 | G4: ACT12 | H4: ACT18 | I4: ACT24 | J4: TOTAL ACT | K4: PRIMAQUINE | L4: SP TABLETS | M4: ARTEMETHER INJ. 80MG/ML | N4: ARTEMETHER INJ. 40MG/ML | O4: ARTESUNATE INJ. 60MG/3ML | P4: QUININE INJ. 600MG | Q4: QUININE TABS. 300MG | R4: ARTESUNATE SUPPOSITORY 200MG | S4: ARTESUNATE SUPPOSITORY 50MG | T4: DP TABLETS | V4: RDT | W4: ACT6 | X4: ACT12 | Y4: ACT18 | Z4: ACT24 | AA4: TOTAL ACT | AB4: PRIMAQUINE | AC4: SP TABLETS | AD4: ARTEMETHER INJ. 80MG/ML | AE4: ARTEMETHER INJ. 40MG/ML | AF4: ARTESUNATE INJ. 60MG/3ML | AG4: QUININE INJ. 600MG | AH4: QUININE TABS. 300MG | AI4: ARTESUNATE SUPPOSITORY 200MG | AJ4: ARTESUNATE SUPPOSITORY 50MG | AK4: DP TABLETS | AL4: QTY | AM4: QTY | AN4: COMMENTS
C5: ORDERD | D5: DATE | AL5: RECEIVED | AM5: OUTSTANDING
A6: BADILI | B6: 1520 | C6: 44287 | D6: 44348 | F6: 0 | G6: 0 | H6: 0 | I6: 0 | J6: =SUM(F6:I6) -> 0 | K6: 0 | L6: 0 | M6: 0 | N6: =AE6-AL6 -> 0 | O6: 0 | P6: 0 | Q6: 0 | T6: 0 | V6: 0 | W6: 0 | X6: 0 | Y6: 0 | Z6: 0 | AA6: =SUM(W6:Z6) -> 0 | AB6: 0 | AC6: 0 | AD6: 0 | AE6: 30000 | AF6: 0 | AG6: 0 | AH6: 0 | AK6: 0 | AL6: =15000+15000 -> 30000 | AM6: =(V6+W6+X6+Y6+Z6+AB6+AC6+AD6+AE6+AF6+AG6+AH6+AI6+AJ6+AK6)-AL6 -> 0 | AN6: 15,000 received on 08.10.21; Outstanding 15000 Fully received on date yet to confirm
A7: BADILI | B7: 1720 | C7: 30/06/22 | D7: 30/10/22 | F7: 0 | G7: 0 | H7: 0 | I7: 0 | J7: =SUM(F7:I7) -> 0 | K7: 0 | L7: 0 | M7: 0 | N7: 0 | O7: =AF7-AL7 -> 0 | P7: 0 | Q7: 0 | R7: 0 | S7: 0 | T7: 0 | V7: 0 | W7: 0 | X7: 0 | Y7: 0 | Z7: 0 | AA7: =SUM(W7:Z7) -> 0 | AB7: 0 | AC7: 0 | AD7: 0 | AE7: 0 | AF7: 4470 | AG7: 0 | AH7: 0 | AI7: 0 | AJ7: 0 | AK7: 0 | AL7: 4470 | AM7: =(V7+W7+X7+Y7+Z7+AB7+AC7+AD7+AE7+AF7+AG7+AH7+AI7+AJ7+AK7)-AL7 -> 0 | AN7: Fully received on the 08.09.2024
A8: BADILI | B8: 1720 | C8: 30/06/22 | D8: 30/10/22 | F8: 0 | G8: 0 | H8: 0 | I8: 0 | J8: =SUM(F8:I8) -> 0 | K8: =AB8-AL8 -> 0 | L8: 0 | M8: 0 | N8: 0 | O8: 0 | P8: 0 | Q8: 0 | R8: 0 | S8: 0 | T8: 0 | V8: 0 | W8: 0 | X8: 0 | Y8: 0 | Z8: 0 | AA8: =SUM(W8:Z8) -> 0 | AB8: 619500 | AC8: 0 | AD8: 0 | AE8: 0 | AF8: 0 | AG8: 0 | AH8: 0 | AI8: 0 | AJ8: 0 | AK8: 0 | AL8: =80800+538700 -> 619500 | AM8: =(V8+W8+X8+Y8+Z8+AB8+AC8+AD8+AE8+AF8+AG8+AH8+AI8+AJ8+AK8)-AL8 -> 0 | AN8: 80,800 received on 13.10.22; 538,700 fully received on 12.05.2023
A9: BADILI | B9: 1810 | C9: 04/10/22 | D9: 30/03/2023 | F9: 0 | G9: 0 | H9: 0 | I9: 0 | J9: =SUM(F9:I9) -> 0 | K9: 0 | L9: 0 | M9: 0 | N9: 0 | O9: =AF9-AL9 -> 0 | AF9: 7450 | AL9: 7450 | AM9: =(V9+W9+X9+Y9+Z9+AB9+AC9+AD9+AE9+AF9+AG9+AH9+AI9+AJ9+AK9)-AL9 -> 0 | AN9: fully received Art Inj 60mg on date: 08th of May 2024
A10: BADILI | B10: 1811 | C10: 04/10/22 | D10: 30/03/2023 | F10: 0 | G10: 0 | H10: 0 | I10: 0 | J10: =SUM(F10:I10) -> 0 | T10: =AK10-AL10 -> 0 | AA10: =SUM(W10:Z10) -> 0 | AK10: 16200 | AL10: 16200 | AM10: =(V10+W10+X10+Y10+Z10+AB10+AC10+AD10+AE10+AF10+AG10+AH10+AI10+AJ10+AK10)-AL10 -> 0 | AN10: WV finalised at 19.12.2024 altough not received in mSupply
A11: BADILI | B11: 1811 | C11: 04/10/22 | D11: 30/03/2023 | F11: 0 | G11: 0 | H11: 0 | I11: 0 | J11: =SUM(F11:I11) -> 0 | K11: 0 | T11: =AK11-AL11 -> 0 | AA11: =SUM(W11:Z11) -> 0 | AK11: 6084 | AL11: =4224+1860 -> 6084 | AM11: =(V11+W11+X11+Y11+Z11+AB11+AC11+AD11+AE11+AF11+AG11+AH11+AI11+AJ11+AK11)-AL11 -> 0 | AN11: PO#1811 DP: 4224 Partially received on: 17.08.2023; WV finalised at 19.12.2024 altough 1860 balance not received in mSupply
A12: BADILI | B12: 1811 | C12: 04/10/22 | D12: 30/03/2023 | F12: 0 | G12: 0 | H12: 0 | I12: 0 | J12: =SUM(F12:I12) -> 0 | Q12: =AH12-AL12 -> 0 | AA12: =SUM(W12:Z12) -> 0 | AH12: 96400 | AL12: =96300+100 -> 96400 | AM12: =(V12+W12+X12+Y12+Z12+AB12+AC12+AD12+AE12+AF12+AG12+AH12+AI12+AJ12+AK12)-AL12 -> 0 | AN12: PO#1811 Quinine Tabs: 96,300 partially received on: 17.08.23; 100 tabs not received in the system; WV finalised at 19.12.2024 altough 100tabs balance not received in mSupply
A13: BADILI | B13: 1812 | C13: 04/10/22 | D13: 30/03/2023 | F13: 0 | G13: 0 | H13: 0 | I13: 0 | J13: =SUM(F13:I13) -> 0 | K13: 0 | L13: =AC13-AL13 -> 0 | AA13: =SUM(W13:Z13) -> 0 | AC13: 411400 | AL13: =72000+339400 -> 411400 | AM13: =(V13+W13+X13+Y13+Z13+AB13+AC13+AD13+AE13+AF13+AG13+AH13+AI13+AJ13+AK13)-AL13 -> 0 | AN13: 72,000 received on 23.05.2023' ; balance fully received on the 03.04.2024
A14: BADILI | B14: 1813 | C14: 44873 | D14: 30/12/2022 | G14: 0 | J14: =SUM(F14:I14) -> 0 | X14: 6500 | AA14: =SUM(W14:Z14) -> 6500 | AL14: =6400+100 -> 6500 | AM14: =(V14+W14+X14+Y14+Z14+AB14+AC14+AD14+AE14+AF14+AG14+AH14+AI14+AJ14+AK14)-AL14 -> 0 | AN14: 6,400 received on 12.11.22.; 100 outstanding fully received on date yet to confirm in msupply
A15: BADILI | B15: 1813 | C15: 44873 | D15: 31/12/2022 | F15: 0 | J15: =SUM(F15:I15) -> 0 | W15: 6500 | AA15: =SUM(W15:Z15) -> 6500 | AL15: =6470+30 -> 6500 | AM15: =(V15+W15+X15+Y15+Z15+AB15+AC15+AD15+AE15+AF15+AG15+AH15+AI15+AJ15+AK15)-AL15 -> 0 | AN15: 6,470 received on 12.11.22; 30 outstanding fully received on date yet to confirm in msupply
A16: BADILI | B16: 167772255 | C16: 26/06/23 | D16: 30/10/23 | F16: =W16-AK16 -> 0 | J16: =SUM(F16:I16) -> 0 | O16: =AF16-AL16 -> 0 | AA16: =SUM(W16:Z16) -> 0 | AF16: 9879 | AL16: 9879 | AM16: =(V16+W16+X16+Y16+Z16+AB16+AC16+AD16+AE16+AF16+AG16+AH16+AI16+AJ16+AK16)-AL16 -> 0 | AN16: Fully received on the 08.09.2024
A17: BADILI | B17: 167772255 | C17: 26/06/23 | D17: 30/10/23 | F17: =W17-AK17 -> 0 | J17: =SUM(F17:I17) -> 0 | K17: =AB17-AL17 -> 0 | AA17: =SUM(W17:Z17) -> 0 | AB17: 2478100 | AL17: 2478100 | AM17: =(V17+W17+X17+Y17+Z17+AB17+AC17+AD17+AE17+AF17+AG17+AH17+AI17+AJ17+AK17)-AL17 -> 0 | AN17: fully received on the 04.04.2024
A18: BADILI | B18: 167772268 | C18: 03/07/23 | D18: 30/07/23 | F18: =W18-AK18 -> 0 | O18: =AF18-AL18 -> 0 | AA18: =SUM(W18:Z18) -> 0 | AF18: 520 | AL18: 520 | AM18: =(V18+W18+X18+Y18+Z18+AB18+AC18+AD18+AE18+AF18+AG18+AH18+AI18+AJ18+AK18)-AL18 -> 0 | AN18: fully received on 08.09.2024
A19: BADILI | B19: 167772268 | C19: 03/07/23 | D19: 30/07/23 | F19: =W19-AK19 -> 0 | J19: =SUM(F19:I19) -> 0 | K19: =AB19-AL19 -> 0 | AA19: =SUM(W19:Z19) -> 0 | AB19: 548900 | AL19: 548900 | AM19: =(V19+W19+X19+Y19+Z19+AB19+AC19+AD19+AE19+AF19+AG19+AH19+AI19+AJ19+AK19)-AL19 -> 0 | AN19: 548,900 fully received on the 19.04.2024
A20: BADILI | B20: 167772268 | C20: 03/07/23 | D20: 30/07/23 | F20: =W20-AL20 -> 0 | G20: 0 | H20: 0 | I20: 0 | J20: =SUM(F20:I20) -> 0 | K20: 0 | O20: 0 | W20: 120000 | AA20: =SUM(W20:Z20) -> 120000 | AL20: 120000 | AM20: =(V20+W20+X20+Y20+Z20+AB20+AC20+AD20+AE20+AF20+AG20+AH20+AI20+AJ20+AK20)-AL20 -> 0 | AN20: Fully received on the 24th of July 2024 from Borneo
A21: BADILI | B21: 167772268 | C21: 03/07/23 | D21: 30/07/23 | F21: =W21-AK21 -> 0 | G21: =X21-AL21 -> 0 | H21: 0 | I21: 0 | J21: =SUM(F21:I21) -> 0 | K21: 0 | O21: 0 | X21: 90000 | AA21: =SUM(W21:Z21) -> 90000 | AL21: 90000 | AM21: =(V21+W21+X21+Y21+Z21+AB21+AC21+AD21+AE21+AF21+AG21+AH21+AI21+AJ21+AK21)-AL21 -> 0 | AN21: Fully received on the 24th of July 2024 from Borneo
A22: BADILI | B22: 167772269 | C22: 03/07/23 | D22: 30/07/23 | F22: =W22-AK22 -> 0 | G22: 0 | H22: =Y22-AL22 -> 0 | I22: 0 | J22: =SUM(F22:I22) -> 0 | K22: 0 | O22: 0 | Y22: 75000 | AA22: =SUM(W22:Z22) -> 75000 | AL22: 75000 | AM22: =(V22+W22+X22+Y22+Z22+AB22+AC22+AD22+AE22+AF22+AG22+AH22+AI22+AJ22+AK22)-AL22 -> 0 | AN22: Fully received on the 24th of July 2024 from Borneo
A23: BADILI | B23: 167772269 | C23: 03/07/23 | D23: 30/07/23 | F23: =W23-AK23 -> 0 | I23: =Z23-AL23 -> 0 | J23: =SUM(F23:I23) -> 0 | O23: 0 | Z23: 63000 | AA23: =SUM(W23:Z23) -> 63000 | AL23: 63000 | AM23: =(V23+W23+X23+Y23+Z23+AB23+AC23+AD23+AE23+AF23+AG23+AH23+AI23+AJ23+AK23)-AL23 -> 0 | AN23: Fully received on the 24th of July 2024 from Borneo
A24: BADILI | B24: 167772248 | C24: 45072 | D24: 45229 | E24: =V24-AL24 -> 0 | V24: 262500 | AL24: =230000+32500 -> 262500 | AM24: =(V24+W24+X24+Y24+Z24+AB24+AC24+AD24+AE24+AF24+AG24+AH24+AI24+AJ24+AK24)-AL24 -> 0 | AN24: Renewal of RFQ_26.05.23; 230,000/265,500 received on 05.12.2023; balance fully supplied on the 15.03.2024
A25: BADILI | B25: 167772303 | C25: 21/09/23 | D25: 30/11/23 | E25: =V25-AJ25 -> 0 | K25: =AB25-AL25 -> 0 | AB25: 871600 | AL25: 871600 | AM25: =(V25+W25+X25+Y25+Z25+AB25+AC25+AD25+AE25+AF25+AG25+AH25+AI25+AJ25+AK25)-AL25 -> 0 | AN25: Fully received on the 20.02.2024
A26: BADILI | B26: 167772289 | C26: 11/09/23 | D26: 19/09/23 | E26: =V26-AJ26 -> 0 | K26: =AB26-AL26 -> 0 | AB26: 175000 | AL26: 175000 | AM26: =(V26+W26+X26+Y26+Z26+AB26+AC26+AD26+AE26+AF26+AG26+AH26+AI26+AJ26+AK26)-AL26 -> 0 | AN26: PQ Fully supplied from Borneo on the 04.04.2024
A27: BADILI | B27: 167772292 | C27: 11/09/23 | D27: 30/11/23 | E27: =V27-AJ27 -> 0 | K27: =AB27-AL27 -> 0 | AB27: 200000 | AL27: 200000 | AM27: =(V27+W27+X27+Y27+Z27+AB27+AC27+AD27+AE27+AF27+AG27+AH27+AI27+AJ27+AK27)-AL27 -> 0 | AN27: Fully received on the 20.02.2024
A28: BADILI | B28: 167772292 | C28: 11/09/23 | D28: 30/11/23 | E28: =V28-AJ28 -> 0 | K28: 0 | Q28: =AH28-AL28 -> 0 | AH28: 200000 | AL28: 200000 | AM28: =(V28+W28+X28+Y28+Z28+AB28+AC28+AD28+AE28+AF28+AG28+AH28+AI28+AJ28+AK28)-AL28 -> 0 | AN28: Fully received on the 23.04.2024
A29: BADILI | B29: 167772294 | C29: 21/09/23 | D29: 45381 | E29: =V29-AL29 -> 0 | V29: 250000 | AL29: =90000+160000 -> 250000 | AM29: =(V29+W29+X29+Y29+Z29+AB29+AC29+AD29+AE29+AF29+AG29+AH29+AI29+AJ29+AK29)-AL29 -> 0 | AN29: 90000/250000 received on 05.12.2023; balance fully supplied on the 15.03.2024
A30: BADILI | B30: 167772305 | C30: 26/09/23 | D30: 30/11/23 | L30: =AC30-AL30 -> 0 | AC30: 450000 | AL30: 450000 | AM30: =(V30+W30+X30+Y30+Z30+AB30+AC30+AD30+AE30+AF30+AG30+AH30+AI30+AJ30+AK30)-AL30 -> 0 | AN30: fully received on date: 09.05.2024
A31: BADILI | B31: 167772329 | C31: 14/11/23 | D31: 30/03/24 | E31: =V31-AL31 -> 0 | V31: 250000 | AL31: 250000 | AM31: =(V31+W31+X31+Y31+Z31+AB31+AC31+AD31+AE31+AF31+AG31+AH31+AI31+AJ31+AK31)-AL31 -> 0 | AN31: Fully received on the 03.04.2024
A32: BADILI | B32: 167772332 | C32: 45279 | D32: 45381 | K32: =AB32-AL32 -> 0 | AB32: 2500000 | AL32: =300000+2200000 -> 2500000 | AM32: =(V32+W32+X32+Y32+Z32+AB32+AC32+AD32+AE32+AF32+AG32+AH32+AI32+AJ32+AK32)-AL32 -> 0 | AN32: Partially received some PQ on the 12.06.2024; fully received on the 18.09.2024
A33: BADILI | B33: 167772350 | C33: 45322 | D33: 45412 | K33: =AB33-AL33 -> 0 | AB33: 1000000 | AL33: =98300+901700 -> 1000000 | AM33: =(V33+W33+X33+Y33+Z33+AB33+AC33+AD33+AE33+AF33+AG33+AH33+AI33+AJ33+AK33)-AL33 -> 0 | AN33: 98,000 PQ Partially received on the 11.03.2024 from Supreme Pharma; fully supplied on the 28.05.2024
A34: BADILI | B34: 167772352 | C34: 45323 | D34: 45412 | K34: =AB34-AL34 -> 0 | AB34: 1000000 | AL34: =573000+427000 -> 1000000 | AM34: =(V34+W34+X34+Y34+Z34+AB34+AC34+AD34+AE34+AF34+AG34+AH34+AI34+AJ34+AK34)-AL34 -> 0 | AN34: 573000/1,000,000 partially received on: 14.05.2024; remainder fully supplied on 28.05.2024
A35: BADILI | B35: 167772357 | C35: 09/04/24 | D35: 30/05/24 | K35: =AB35-AL35 -> 0 | AB35: 98300 | AL35: 98300 | AM35: =(V35+W35+X35+Y35+Z35+AB35+AC35+AD35+AE35+AF35+AG35+AH35+AI35+AJ35+AK35)-AL35 -> 0 | AN35: PQ from Supreme; Fully received on the 28.05.2024
A36: BADILI | B36: 167772365 | C36: 16/04/24 | D36: 30/05/24 | K36: =AB36-AL36 -> 0 | AA36: =SUM(W36:Z36) -> 0 | AB36: 495700 | AL36: 495700 | AM36: =(V36+W36+X36+Y36+Z36+AB36+AC36+AD36+AE36+AF36+AG36+AH36+AI36+AJ36+AK36)-AL36 -> 0 | AN36: PQ from Borneo; Partially receiveid on the 16.05.2024
A37: BADILI | B37: 167772377 | C37: 28/04/24 | D37: 30/06/24 | F37: =W37-AL37 -> 0 | J37: =SUM(F37:I37) -> 0 | W37: 10800 | AA37: =SUM(W37:Z37) -> 10800 | AL37: =3600+7200 -> 10800 | AM37: =(V37+W37+X37+Y37+Z37+AB37+AC37+AD37+AE37+AF37+AG37+AH37+AI37+AJ37+AK37)-AL37 -> 0 | AN37: AL6 from Modern 2024; partially received on the 21.06.2024 & 26.06.2024; From exstock #23; outstanding fully received on the 21.10.2024
A38: BADILI | B38: 167772377 | C38: 28/04/24 | D38: 30/06/24 | G38: =X38-AL38 -> 0 | J38: =SUM(F38:I38) -> 0 | X38: 14700 | AA38: =SUM(W38:Z38) -> 14700 | AL38: =3600+11100 -> 14700 | AM38: =(V38+W38+X38+Y38+Z38+AB38+AC38+AD38+AE38+AF38+AG38+AH38+AI38+AJ38+AK38)-AL38 -> 0 | AN38: AL12 from Modern 2024; partially received on the 21.06.2024 & 26.06.2024; outstanding fully received on the 21.10.2024
A39: BADILI | B39: 167772377 | C39: 28/04/24 | D39: 30/06/24 | H39: =Y39-AL39 -> 2160 | J39: =SUM(F39:I39) -> 2160 | Y39: 16710 | AA39: =SUM(W39:Z39) -> 16710 | AL39: =1440+13110 -> 14550 | AM39: =(V39+W39+X39+Y39+Z39+AB39+AC39+AD39+AE39+AF39+AG39+AH39+AI39+AJ39+AK39)-AL39 -> 2160 | AN39: Al18 from Modern 2024; partially received on the 21.06.2024 & 26.06.2024; 13,110 partially recieced on 21.10.25
A40: BADILI | B40: 167772377 | C40: 28/04/24 | D40: 30/06/24 | I40: =Z40-AL40 -> 2160 | J40: =SUM(F40:I40) -> 2160 | Z40: 21180 | AA40: =SUM(W40:Z40) -> 21180 | AL40: =1440+16200+1380 -> 19020 | AM40: =(V40+W40+X40+Y40+Z40+AB40+AC40+AD40+AE40+AF40+AG40+AH40+AI40+AJ40+AK40)-AL40 -> 2160 | AN40: AL24 from Modern 2024; partially received on the 21.06.2024 & 26.06.2024; 16,200 partially received on the 24.07.24 from Modern Pharma; 1,380 partially delivered on 21.10.24
A41: BADILI | B41: 167772381 | C41: 30/04/24 | D41: 30/07/24 | J41: =SUM(F41:I41) -> 0 | K41: =AB41-AL41 -> 0 | AA41: =SUM(W41:Z41) -> 0 | AB41: 157400 | AL41: 157400 | AM41: =(V41+W41+X41+Y41+Z41+AB41+AC41+AD41+AE41+AF41+AG41+AH41+AI41+AJ41+AK41)-AL41 -> 0 | AN41: PQ from Modern 2024; Fully received on the 25.06.2024
A42: BADILI | B42: 167772411 | C42: 04/08/24 | D42: 30/03/25 | E42: =V42-AL42 -> 0 | J42: =SUM(F42:I42) -> 0 | V42: 212500 | AL42: =20000+625+191875 -> 212500 | AM42: =(V42+W42+X42+Y42+Z42+AB42+AC42+AD42+AE42+AF42+AG42+AH42+AI42+AJ42+AK42)-AL42 -> 0 | AN42: 08.2024 order from Modern; partly received on the 20.08.2024; outstanding (191875) fully recived on the 03.12.2024
A43: BADILI | B43: 167772410 | C43: 04/08/24 | D43: 30/10/24 | J43: =SUM(F43:I43) -> 0 | M43: =AD43-AL43 -> 0 | AD43: 40000 | AL43: 40000 | AM43: =(V43+W43+X43+Y43+Z43+AB43+AC43+AD43+AE43+AF43+AG43+AH43+AI43+AJ43+AK43)-AL43 -> 0 | AN43: 08.2024 order from Borneo; Fully received on the 17.10.2024
A44: BADILI | B44: 167772410 | C44: 04/08/24 | D44: 30/10/24 | J44: =SUM(F44:I44) -> 0 | N44: =AE44-AL44 -> 0 | AE44: 20000 | AL44: 20000 | AM44: =(V44+W44+X44+Y44+Z44+AB44+AC44+AD44+AE44+AF44+AG44+AH44+AI44+AJ44+AK44)-AL44 -> 0 | AN44: 08.2024 order from Borneo; Fully received on the 17.10.2024
A45: BADILI | B45: 167772409 | C45: 04/08/24 | D45: 30/10/24 | I45: =Z45-AL45 -> 0 | J45: =SUM(F45:I45) -> 0 | Z45: 34530 | AL45: 34530 | AM45: =(V45+W45+X45+Y45+Z45+AB45+AC45+AD45+AE45+AF45+AG45+AH45+AI45+AJ45+AK45)-AL45 -> 0 | AN45: 08.2024 order from Borneo; Fully received on the 11.06.2025
A46: BADILI | B46: 167772409 | C46: 04/08/24 | D46: 30/10/24 | H46: =Y46-AL46 -> 0 | J46: =SUM(F46:I46) -> 0 | Y46: 33120 | AL46: 33120 | AM46: =(V46+W46+X46+Y46+Z46+AB46+AC46+AD46+AE46+AF46+AG46+AH46+AI46+AJ46+AK46)-AL46 -> 0 | AN46: 08.2024 order from Borneo; Fully received on the 11.06.2025
A47: BADILI | B47: 167772409 | C47: 04/08/24 | D47: 30/10/24 | G47: =X47-AL47 -> 0 | J47: =SUM(F47:I47) -> 0 | X47: 36000 | AL47: 36000 | AM47: =(V47+W47+X47+Y47+Z47+AB47+AC47+AD47+AE47+AF47+AG47+AH47+AI47+AJ47+AK47)-AL47 -> 0 | AN47: 08.2024 order from Borneo; Fully received on the 11.06.2025
A48: BADILI | B48: 167772409 | C48: 04/08/24 | D48: 30/10/24 | F48: =W48-AL48 -> 0 | J48: =SUM(F48:I48) -> 0 | W48: 51750 | AA48: =SUM(W48:Z48) -> 51750 | AL48: 51750 | AM48: =(V48+W48+X48+Y48+Z48+AB48+AC48+AD48+AE48+AF48+AG48+AH48+AI48+AJ48+AK48)-AL48 -> 0 | AN48: 08.2024 order from Borneo; Fully received on the 11.06.2025
A49: BADILI | B49: 167772188 | C49: 03/12/24 | D49: 30/06/25 | E49: =V49-AL49 -> 0 | V49: 250000 | AL49: 250000 | AM49: =(V49+W49+X49+Y49+Z49+AB49+AC49+AD49+AE49+AF49+AG49+AH49+AI49+AJ49+AK49)-AL49 -> 0 | AN49: new order for yr 2025; Fully received on the 14.05.2025 from Modern Pharm. Exp Date: 28.02.2027
A50: BADILI | B50: 167772249 | C50: 10/12/24 | D50: 30/03/25 | AD50: 20000 | AL50: 20000 | AM50: =(V50+W50+X50+Y50+Z50+AB50+AC50+AD50+AE50+AF50+AG50+AH50+AI50+AJ50+AK50)-AL50 -> 0 | AN50: new order for yr 2025; Fully received on the 20.02.25
A51: BADILI | B51: 167772250 | C51: 11/12/24 | D51: 30/03/25 | N51: =AE51-AL51 -> 0 | AE51: 30000 | AL51: =22000+8000 -> 30000 | AM51: =(V51+W51+X51+Y51+Z51+AB51+AC51+AD51+AE51+AF51+AG51+AH51+AI51+AJ51+AK51)-AL51 -> 0 | AN51: new order for yr 2025; 22000/30000 received on the 04.04.2025; outstanding 8000 fully received on 06.06.25
A52: BADILI | B52: 167772386 | C52: 45701 | D52: 45960 | E52: =V52-AL52 -> 0 | V52: 250000 | AL52: 250000 | AM52: =(V52+W52+X52+Y52+Z52+AB52+AC52+AD52+AE52+AF52+AG52+AH52+AI52+AJ52+AK52)-AL52 -> 0 | AN52: New13.02.25 from Modern for year 2025; Fully received on the 01.07.2025
A53: BADILI | B53: 167772400 | C53: 16/03/25 | D53: 30/03/25 | L53: =AC53-AL53 -> 0 | AC53: 260400 | AL53: 260400 | AM53: =(V53+W53+X53+Y53+Z53+AB53+AC53+AD53+AE53+AF53+AG53+AH53+AI53+AJ53+AK53)-AL53 -> 0 | AN53: 260,400 fully supplied on the 24.03.25
A54: BADILI | B54: 167772397 | C54: 16/03/25 | D54: 30/03/25 | N54: =AE54-AL54 -> 0 | AE54: 20000 | AL54: 20000 | AM54: =(V54+W54+X54+Y54+Z54+AB54+AC54+AD54+AE54+AF54+AG54+AH54+AI54+AJ54+AK54)-AL54 -> 0 | AN54: Fully supplied on the 12.03.25 from Borneo
A55: BADILI | B55: 167772397 | C55: 16/03/25 | D55: 30/03/25 | P55: =AG55-AL55 -> 0 | AG55: 1760 | AL55: 1760 | AM55: =(V55+W55+X55+Y55+Z55+AB55+AC55+AD55+AE55+AF55+AG55+AH55+AI55+AJ55+AK55)-AL55 -> 0 | AN55: Fully received on the 12th of April 2025
A56: BADILI | B56: 167772407 | C56: 02/04/25 | D56: 30/04/25 | K56: =AB56-AL56 -> 0 | AB56: 1000000 | AL56: 1000000 | AM56: =(V56+W56+X56+Y56+Z56+AB56+AC56+AD56+AE56+AF56+AG56+AH56+AI56+AJ56+AK56)-AL56 -> 0 | AN56: Fully received on the 16.04.2025 from Modern Pharmacy
A57: BADILI | B57: 167772427 | C57: 10/04/25 | D57: 30/06/25 | M57: =AD57-AL57 -> 0 | AD57: 20000 | AL57: 20000 | AM57: =(V57+W57+X57+Y57+Z57+AB57+AC57+AD57+AE57+AF57+AG57+AH57+AI57+AJ57+AK57)-AL57 -> 0 | AN57: Fully received on the 24.04.25 from Savimeds
B58: TOTAL | E58: =SUM(E6:E57) -> 0 | F58: =SUM(F6:F55) -> 0 | G58: =SUM(G6:G55) -> 0 | H58: =SUM(H6:H55) -> 2160 | I58: =SUM(I6:I55) -> 2160 | J58: =SUM(J6:J55) -> 4320 | K58: =SUM(K56) -> 0 | L58: =SUM(L6:L55) -> 0 | M58: =SUM(M6:M57) -> 0 | N58: =SUM(N6:N55) -> 0 | O58: =SUM(O6:O55) -> 0 | P58: =SUM(P6:P55) -> 0 | Q58: =SUM(Q6:Q55) -> 0 | R58: =SUM(R6:R55) -> 0 | S58: =SUM(S6:S55) -> 0 | T58: =SUM(T6:T55) -> 0 | V58: =SUM(V6:V55) -> 1475000 | W58: =SUM(W6:W55) -> 189050 | X58: =SUM(X6:X55) -> 147200 | Y58: =SUM(Y6:Y55) -> 124830 | Z58: =SUM(Z6:Z55) -> 118710 | AA58: =SUM(AA6:AA55) -> 476140 | AB58: =SUM(AB6:AB56) -> 11144500 | AC58: =SUM(AC6:AC55) -> 1121800 | AD58: =SUM(AD6:AD57) -> 80000 | AE58: =SUM(AE6:AE55) -> 100000 | AF58: =SUM(AF6:AF55) -> 22319 | AG58: =SUM(AG6:AG55) -> 1760 | AH58: =SUM(AH6:AH55) -> 296400 | AI58: =SUM(AI6:AI55) -> 0 | AJ58: =SUM(AJ6:AJ55) -> 0 | AK58: =SUM(AK6:AK55) -> 22284 | AM58: =SUM(AM6:AM57) -> 4320
A59: HAGEN | B59: 935 | C59: 30/06/22 | D59: 30/10/22 | E59: 0 | F59: 0 | G59: 0 | H59: 0 | I59: 0 | J59: =SUM(F59:I59) -> 0 | K59: 0 | L59: 0 | M59: 0 | N59: 0 | P59: 0 | Q59: 0 | R59: 0 | S59: 0 | T59: 0 | V59: 0 | W59: 0 | X59: 0 | Y59: 0 | Z59: 0 | AA59: =SUM(W59:Z59) -> 0 | AB59: 0 | AC59: 0 | AD59: 0 | AE59: 0 | AF59: 3575 | AG59: 0 | AH59: 0 | AI59: 0 | AJ59: 0 | AK59: 0 | AL59: 3575 | AM59: =(V59+W59+X59+Y59+Z59+AB59+AC59+AD59+AE59+AF59+AG59+AH59+AI59+AJ59+AK59)-AL59 -> 0 | AN59: WV finalised at 19.12.2024 altough not received in mSupply
A60: HAGEN | B60: 1000 | C60: 4/10/2022 | D60: 30/03/2023 | J60: =SUM(F60:I60) -> 0 | O60: =AF60-AL60 -> 0 | AA60: =SUM(W60:Z60) -> 0 | AF60: 5960 | AL60: 5960 | AM60: =(V60+W60+X60+Y60+Z60+AB60+AC60+AD60+AE60+AF60+AG60+AH60+AI60+AJ60+AK60)-AL60 -> 0 | AN60: fully received on date: 14.05.2024
A61: HAGEN | B61: 1001 | C61: 4/10/2022 | D61: 30/03/2023 | J61: =SUM(F61:I61) -> 0 | T61: =AK61-AL61 -> 0 | AA61: =SUM(W61:Z61) -> 0 | AK61: 4860 | AL61: 4860 | AM61: =(V61+W61+X61+Y61+Z61+AB61+AC61+AD61+AE61+AF61+AG61+AH61+AI61+AJ61+AK61)-AL61 -> 0 | AN61: WV finalised at 19.12.2024 altough not received in mSupply
A62: HAGEN | B62: 1001 | C62: 4/10/2022 | D62: 30/03/2023 | J62: =SUM(F62:I62) -> 0 | Q62: =AH62-AL62 -> 0 | AA62: =SUM(W62:Z62) -> 0 | AH62: 77100 | AL62: 77100 | AM62: =(V62+W62+X62+Y62+Z62+AB62+AC62+AD62+AE62+AF62+AG62+AH62+AI62+AJ62+AK62)-AL62 -> 0 | AN62: WV finalised at 19.12.2024 altough not received in mSupply
A63: HAGEN | B63: 1024 | C63: 28.11.2022 | D63: 30.03.23 | E63: =V63-AL63 -> 0 | F63: 0 | G63: 0 | H63: =Y63-AO192 -> 0 | I63: =Z63-AP192 -> 0 | J63: =SUM(F63:I63) -> 0 | K63: =AB63-AR192 -> 0 | V63: 187500 | AA63: =SUM(W63:Z63) -> 0 | AL63: =120000+48750+15000+3750 -> 187500 | AM63: =(V63+W63+X63+Y63+Z63+AB63+AC63+AD63+AE63+AF63+AG63+AH63+AI63+AJ63+AK63)-AL63 -> 0 | AN63: Partly Received 120,000 on 13.03.2023; 48,750 received in mSupply on; 15,000 received on 16.04.2024; Final parts received on 01.10.24
A64: HAGEN | B64: 3212 | C64: 08/05/23 | D64: 30/07/23 | E64: 0 | F64: 0 | G64: =X64-AL64 -> 0 | H64: =Y64-AO194 -> 0 | I64: =Z64-AP194 -> 0 | J64: =SUM(F64:I64) -> 0 | K64: =AB64-AR194 -> 0 | X64: 11700 | AA64: =SUM(W64:Z64) -> 11700 | AL64: 11700 | AM64: =(V64+W64+X64+Y64+Z64+AB64+AC64+AD64+AE64+AF64+AG64+AH64+AI64+AJ64+AK64)-AL64 -> 0 | AN64: Fully received on the 30.05.2024
A65: HAGEN | B65: 3212 | C65: 08/05/23 | D65: 30/07/23 | E65: 0 | F65: 0 | G65: 0 | H65: =Y65-AL65 -> 0 | J65: =SUM(F65:I65) -> 0 | Y65: 21240 | AA65: =SUM(W65:Z65) -> 21240 | AL65: 21240 | AM65: =(V65+W65+X65+Y65+Z65+AB65+AC65+AD65+AE65+AF65+AG65+AH65+AI65+AJ65+AK65)-AL65 -> 0 | AN65: Fully received on the 14&15 of March 2024
A66: HAGEN | B66: 3212 | C66: 08/05/23 | D66: 30/07/23 | E66: 0 | F66: 0 | G66: 0 | H66: =Y66-AL66 -> 0 | J66: =SUM(F66:I66) -> 0 | K66: =AB66-AR195 -> 0 | Y66: 21240 | Z66: 0 | AA66: =SUM(W66:Z66) -> 21240 | AL66: =13530+7710 -> 21240 | AM66: =(V66+W66+X66+Y66+Z66+AB66+AC66+AD66+AE66+AF66+AG66+AH66+AI66+AJ66+AK66)-AL66 -> 0 | AN66: AL18 Partially received on the 14.03.2024; Fully supplied on the 30.05.2024
A67: HAGEN | B67: 3235 | C67: 08/05/23 | D67: 30/07/23 | E67: 0 | F67: 0 | G67: 0 | H67: =Y67-AO196 -> 0 | I67: =Z67-AL67 -> 0 | J67: =SUM(F67:I67) -> 0 | K67: =AB67-AR194 -> 0 | Z67: 21240 | AA67: =SUM(W67:Z67) -> 21240 | AL67: 21240 | AM67: =(V67+W67+X67+Y67+Z67+AB67+AC67+AD67+AE67+AF67+AG67+AH67+AI67+AJ67+AK67)-AL67 -> 0 | AN67: Fully received on the 14.03.2024 AL24
A68: HAGEN | B68: 3235 | C68: 12/06/23 | D68: 30/10/23 | E68: 0 | F68: 0 | G68: 0 | H68: =Y68-AL68 -> 0 | I68: =Z68-AP198 -> 0 | J68: =SUM(F68:I68) -> 0 | K68: =AB68-AR196 -> 0 | Y68: 7710 | AA68: =SUM(W68:Z68) -> 7710 | AL68: 7710 | AM68: =(V68+W68+X68+Y68+Z68+AB68+AC68+AD68+AE68+AF68+AG68+AH68+AI68+AJ68+AK68)-AL68 -> 0 | AN68: Fully received on the 14.03.2024 AL18
A69: HAGEN | B69: 3235 | C69: 12/06/23 | D69: 30/10/23 | E69: 0 | F69: 0 | G69: =X69-AL69 -> 0 | H69: =Y69-AO197 -> 0 | I69: =Z69-AP197 -> 0 | J69: =SUM(F69:I69) -> 0 | K69: =AB69-AR197 -> 0 | X69: 11700 | AA69: =SUM(W69:Z69) -> 11700 | AL69: 11700 | AM69: =(V69+W69+X69+Y69+Z69+AB69+AC69+AD69+AE69+AF69+AG69+AH69+AI69+AJ69+AK69)-AL69 -> 0 | AN69: Fully received on the 14.03.2024 AL12
A70: HAGEN | B70: 3266 | C70: 31/07/23 | D70: 30/10/23 | J70: =SUM(F70:I70) -> 0 | K70: =AB70-AL70 -> 0 | AA70: =SUM(W70:Z70) -> 0 | AB70: 500000 | AL70: 500000 | AM70: =(V70+W70+X70+Y70+Z70+AB70+AC70+AD70+AE70+AF70+AG70+AH70+AI70+AJ70+AK70)-AL70 -> 0 | AN70: Fully received on the 17.04.2024
A71: HAGEN | B71: 3266 | C71: 31/07/23 | D71: 30/10/23 | F71: =W71-AL71 -> 0 | J71: =SUM(F71:I71) -> 0 | K71: 0 | W71: 25500 | AA71: =SUM(W71:Z71) -> 25500 | AL71: 25500 | AM71: =(V71+W71+X71+Y71+Z71+AB71+AC71+AD71+AE71+AF71+AG71+AH71+AI71+AJ71+AK71)-AL71 -> 0 | AN71: ACT6 Fully received on 02.08.2024;
A72: HAGEN | B72: 3266 | C72: 31/07/23 | D72: 30/10/23 | G72: =X72-AL72 -> 0 | J72: =SUM(F72:I72) -> 0 | K72: 0 | X72: 24000 | AA72: =SUM(W72:Z72) -> 24000 | AL72: 24000 | AM72: =(V72+W72+X72+Y72+Z72+AB72+AC72+AD72+AE72+AF72+AG72+AH72+AI72+AJ72+AK72)-AL72 -> 0 | AN72: ACT12 Fully received on 02.08.2024;
A73: HAGEN | B73: 3266 | C73: 31/07/23 | D73: 30/10/23 | H73: =Y73-AL73 -> 0 | J73: =SUM(F73:I73) -> 0 | K73: 0 | Y73: 15000 | AA73: =SUM(W73:Z73) -> 15000 | AL73: 15000 | AM73: =(V73+W73+X73+Y73+Z73+AB73+AC73+AD73+AE73+AF73+AG73+AH73+AI73+AJ73+AK73)-AL73 -> 0 | AN73: ACT18 Fully received on 02.08.2024;
A74: HAGEN | B74: 3266 | C74: 31/07/23 | D74: 30/10/23 | I74: =Z74-AL74 -> 0 | J74: =SUM(F74:I74) -> 0 | K74: 0 | Z74: 13500 | AA74: =SUM(W74:Z74) -> 13500 | AL74: 13500 | AM74: =(V74+W74+X74+Y74+Z74+AB74+AC74+AD74+AE74+AF74+AG74+AH74+AI74+AJ74+AK74)-AL74 -> 0 | AN74: ACT24 Fully received on 02.08.2024;
A75: HAGEN | B75: 3273 | C75: 11/09/23 | D75: 19/09/23 | K75: =AB75-AL75 -> 0 | AB75: 175000 | AL75: 175000 | AM75: =(V75+W75+X75+Y75+Z75+AB75+AC75+AD75+AE75+AF75+AG75+AH75+AI75+AJ75+AK75)-AL75 -> 0 | AN75: fully received on the 02.04.2024
A76: HAGEN | B76: 3276 | C76: 11/09/23 | D76: 30/11/23 | K76: =AB76-AL76 -> 0 | AB76: 200000 | AL76: 200000 | AM76: =(V76+W76+X76+Y76+Z76+AB76+AC76+AD76+AE76+AF76+AG76+AH76+AI76+AJ76+AK76)-AL76 -> 0 | AN76: PQ Fully received on the 26.01.2024
A77: HAGEN | B77: 3278 | C77: 21/09/23 | D77: 30/11/23 | E77: =V77-AL77 -> 0 | K77: 0 | V77: 212500 | AL77: 212500 | AM77: =(V77+W77+X77+Y77+Z77+AB77+AC77+AD77+AE77+AF77+AG77+AH77+AI77+AJ77+AK77)-AL77 -> 0 | AN77: RDT Fully received on the 28.03.2024 from Modern
A78: HAGEN | B78: 3278 | C78: 21/09/23 | D78: 30/11/23 | K78: =AB78-AL78 -> 0 | AB78: 435800 | AL78: 435800 | AM78: =(V78+W78+X78+Y78+Z78+AB78+AC78+AD78+AE78+AF78+AG78+AH78+AI78+AJ78+AK78)-AL78 -> 0 | AN78: PQ 435,800 fully received on 26.01.2024
A79: HAGEN | B79: 3279 | C79: 26/09/23 | D79: 30/11/23 | K79: 0 | L79: =AC79-AL79 -> 0 | AC79: 300000 | AL79: 300000 | AM79: =(V79+W79+X79+Y79+Z79+AB79+AC79+AD79+AE79+AF79+AG79+AH79+AI79+AJ79+AK79)-AL79 -> 0 | AN79: SP Fully received on the 14.03.2024 from Modern
A80: HAGEN | B80: 3305 | C80: 45322 | D80: 45412 | J80: =SUM(F80:I80) -> 0 | K80: =AB80-AL80 -> 0 | AB80: 500000 | AL80: 500000 | AM80: =(V80+W80+X80+Y80+Z80+AB80+AC80+AD80+AE80+AF80+AG80+AH80+AI80+AJ80+AK80)-AL80 -> 0 | AN80: Fully received from Supreme Pharma on 16.08.2024
A81: HAGEN | B81: 3325 | C81: 28/04/24 | D81: 30/06/24 | F81: =W81-AL81 -> 0 | J81: =SUM(F81:I81) -> 0 | W81: 7500 | AL81: =4320+2880+300 -> 7500 | AM81: =(V81+W81+X81+Y81+Z81+AB81+AC81+AD81+AE81+AF81+AG81+AH81+AI81+AJ81+AK81)-AL81 -> 0 | AN81: Modern; partially received on the 18.09.2024; outstaning 2880 received on 05.11.2024; outstanding 300 finally fully received on the 04.04.25
A82: HAGEN | B82: 3325 | C82: 28/04/24 | D82: 30/06/24 | G82: =X82-AL82 -> 0 | J82: =SUM(F82:I82) -> 0 | X82: 8550 | AL82: =5670+2880 -> 8550 | AM82: =(V82+W82+X82+Y82+Z82+AB82+AC82+AD82+AE82+AF82+AG82+AH82+AI82+AJ82+AK82)-AL82 -> 0 | AN82: Modern; partially received on the 18.09.2024; Outstanding 2880 received on the 05.11.2024
A83: HAGEN | B83: 3325 | C83: 28/04/24 | D83: 30/06/24 | H83: =Y83-AL83 -> 0 | J83: =SUM(F83:I83) -> 0 | Y83: 10050 | AL83: 10050 | AM83: =(V83+W83+X83+Y83+Z83+AB83+AC83+AD83+AE83+AF83+AG83+AH83+AI83+AJ83+AK83)-AL83 -> 0 | AN83: Modern 720 first received on the 05.11.24; 9330 later received on the 02.12.24
A84: HAGEN | B84: 3325 | C84: 28/04/24 | D84: 30/06/24 | I84: =Z84-AL84 -> 0 | J84: =SUM(F84:I84) -> 0 | Z84: 10950 | AL84: =7650+3300 -> 10950 | AM84: =(V84+W84+X84+Y84+Z84+AB84+AC84+AD84+AE84+AF84+AG84+AH84+AI84+AJ84+AK84)-AL84 -> 0 | AN84: Modern; partially received on the 18.09.2024; Outstanding 3300 received on the 05.11.2024
A85: HAGEN | B85: 3345 | C85: 04/08/24 | D85: 30/10/24 | F85: - | J85: =SUM(F85:I85) -> 0 | W85: 6000 | AL85: 6000 | AM85: =(V85+W85+X85+Y85+Z85+AB85+AC85+AD85+AE85+AF85+AG85+AH85+AI85+AJ85+AK85)-AL85 -> 0 | AN85: New 08.2024 orders from Borneo; Fully received on the 26.06.25
A86: HAGEN | B86: 3345 | C86: 04/08/24 | D86: 30/10/24 | G86: =X86-AL86 -> 0 | J86: =SUM(F86:I86) -> 0 | X86: 10500 | AL86: 10500 | AM86: =(V86+W86+X86+Y86+Z86+AB86+AC86+AD86+AE86+AF86+AG86+AH86+AI86+AJ86+AK86)-AL86 -> 0 | AN86: New 08.2024 orders from Borneo; Fully received on the 26.06.25
A87: HAGEN | B87: 3345 | C87: 04/08/24 | D87: 30/10/24 | H87: - | J87: =SUM(F87:I87) -> 0 | Y87: 7500 | AL87: 7500 | AM87: =(V87+W87+X87+Y87+Z87+AB87+AC87+AD87+AE87+AF87+AG87+AH87+AI87+AJ87+AK87)-AL87 -> 0 | AN87: New 08.2024 orders from Borneo; Fully received on the 26.06.25
A88: HAGEN | B88: 3345 | C88: 04/08/24 | D88: 30/10/24 | I88: =Z88-AL88 -> 0 | J88: =SUM(F88:I88) -> 0 | Z88: 9300 | AL88: 9300 | AM88: =(V88+W88+X88+Y88+Z88+AB88+AC88+AD88+AE88+AF88+AG88+AH88+AI88+AJ88+AK88)-AL88 -> 0 | AN88: New 08.2024 orders from Borneo; Fully received on the 26.06.25
A89: HAGEN | B89: 3346 | C89: 04/08/24 | D89: 30/10/24 | J89: =SUM(F89:I89) -> 0 | M89: =AD89-AL89 -> 0 | AD89: 20000 | AL89: 20000 | AM89: =(V89+W89+X89+Y89+Z89+AB89+AC89+AD89+AE89+AF89+AG89+AH89+AI89+AJ89+AK89)-AL89 -> 0 | AN89: New 08.2024 orders from Borneo; Fully received on the 12.11.2024
A90: HAGEN | B90: 3346 | C90: 04/08/24 | D90: 30/10/24 | J90: =SUM(F90:I90) -> 0 | N90: =AE90-AL90 -> 0 | AE90: 20000 | AL90: 20000 | AM90: =(V90+W90+X90+Y90+Z90+AB90+AC90+AD90+AE90+AF90+AG90+AH90+AI90+AJ90+AK90)-AL90 -> 0 | AN90: New 08.2024 orders from Borneo; Fully received on the 12.11.2024
A91: HAGEN | B91: 3347 | C91: 04/08/24 | D91: 30/03/25 | E91: =V91-AL91 -> 0 | J91: =SUM(F91:I91) -> 0 | V91: 125000 | AL91: 125000 | AM91: =(V91+W91+X91+Y91+Z91+AB91+AC91+AD91+AE91+AF91+AG91+AH91+AI91+AJ91+AK91)-AL91 -> 0 | AN91: New 08.2024 orders from Modern; Fully received on the 25.02.25
A92: HAGEN | B92: 3352 | C92: 20/08/24 | D92: 30/08/24 | I92: =Z92-AL92 -> 0 | J92: =SUM(F92:I92) -> 0 | Z92: 28950 | AL92: =28800+150 -> 28950 | AM92: =(V92+W92+X92+Y92+Z92+AB92+AC92+AD92+AE92+AF92+AG92+AH92+AI92+AJ92+AK92)-AL92 -> 0 | AN92: New 08.2024 orders from Modern; 28,800 partly received on the 19/11/24; Fully received from Modern on 09.04.25
A93: HAGEN | B93: 970 | C93: 03/12/24 | D93: 30/08/25 | E93: =V93-AL93 -> 0 | V93: 250000 | AL93: =19500+230500 -> 250000 | AM93: =(V93+W93+X93+Y93+Z93+AB93+AC93+AD93+AE93+AF93+AG93+AH93+AI93+AJ93+AK93)-AL93 -> 0 | AN93: New 03.12.2024 from Modern for year 2025; 19,500/250,000 received on the 17.02.25; 230,000 fully received on 27.05.2025
A94: HAGEN | B94: 3377 | C94: 11/12/24 | D94: 30/03/25 | M94: =AD94-AL94 -> 0 | AD94: 20000 | AL94: 20000 | AM94: =(V94+W94+X94+Y94+Z94+AB94+AC94+AD94+AE94+AF94+AG94+AH94+AI94+AJ94+AK94)-AL94 -> 0 | AN94: New 2025 Order; Fully received on the 01.07.2025
A95: HAGEN | B95: 3374 | C95: 10/12/24 | D95: 30/03/25 | N95: =AE95-AL95 -> 0 | AE95: 20000 | AL95: 20000 | AM95: =(V95+W95+X95+Y95+Z95+AB95+AC95+AD95+AE95+AF95+AG95+AH95+AI95+AJ95+AK95)-AL95 -> 0 | AN95: RFQ#Q24.011 EX STOCK SUPPLIES; fully received on the 06.02.25
A96: HAGEN | B96: 3387 | C96: 13/02/25 | D96: 30/10/25 | E96: =V96-AL96 -> 0 | V96: 250000 | AL96: =94500+155500 -> 250000 | AM96: =(V96+W96+X96+Y96+Z96+AB96+AC96+AD96+AE96+AF96+AG96+AH96+AI96+AJ96+AK96)-AL96 -> 0 | AN96: New13.02.25 from Modern for year 2025; 94,500/250,000 partially received on the 29.05.2025; Outstanding 155,500 RDTs received
A97: HAGEN | B97: 3400 | C97: 02/04/25 | D97: 30/04/25 | K97: =AB97-AL97 -> 167400 | AB97: 1000000 | AL97: =300000+532600 -> 832600 | AM97: =(V97+W97+X97+Y97+Z97+AB97+AC97+AD97+AE97+AF97+AG97+AH97+AI97+AJ97+AK97)-AL97 -> 167400 | AN97: Modern; 300,000 / 1000,000 received on the 27.05.2025; 532600 received on the 01.08.2025
A98: HAGEN | B98: 3401 | C98: 02/04/25 | D98: 30/04/25 | K98: =AB98-AL98 -> 0 | AB98: 1000000 | AL98: =955500+44500 -> 1000000 | AM98: =(V98+W98+X98+Y98+Z98+AB98+AC98+AD98+AE98+AF98+AG98+AH98+AI98+AJ98+AK98)-AL98 -> 0 | AN98: Borneo; 955,500/1000,000 received on the 14.05.25; otsg 44,500 fully received on 27.05.2025
A99: HAGEN | B99: 3408 | C99: 10/04/25 | D99: 30/06/25 | M99: =AD99-AL99 -> 2000 | AD99: 20000 | AL99: 18000 | AM99: =(V99+W99+X99+Y99+Z99+AB99+AC99+AD99+AE99+AF99+AG99+AH99+AI99+AJ99+AK99)-AL99 -> 2000 | AN99: 18000/20000 received on the 20th of August 2025
A100: HAGEN | B100: TOTAL | E100: =SUM(E59:E96) -> 0 | F100: =SUM(F59:F95) -> 0 | G100: =SUM(G59:G95) -> 0 | H100: =SUM(H59:H95) -> 0 | I100: =SUM(I59:I95) -> 0 | J100: =SUM(J59:J95) -> 0 | K100: =SUM(K59:K98) -> 167400 | L100: =SUM(L59:L95) -> 0 | M100: =SUM(M59:M99) -> 2000 | N100: =SUM(N59:N95) -> 0 | O100: =SUM(O59:O95) -> 0 | P100: =SUM(P59:P95) -> 0 | Q100: =SUM(Q59:Q95) -> 0 | R100: =SUM(R59:R95) -> 0 | S100: =SUM(S59:S95) -> 0 | T100: =SUM(T59:T95) -> 0 | V100: =SUM(V59:V96) -> 1025000 | W100: =SUM(W59:W95) -> 39000 | X100: =SUM(X59:X95) -> 66450 | Y100: =SUM(Y59:Y95) -> 82740 | Z100: =SUM(Z59:Z95) -> 83940 | AA100: =SUM(AA59:AA95) -> 172830 | AB100: =SUM(AB59:AB98) -> 3810800 | AC100: =SUM(AC59:AC95) -> 300000 | AD100: =SUM(AD59:AD99) -> 60000 | AE100: =SUM(AE59:AE95) -> 40000 | AF100: =SUM(AF59:AF95) -> 9535 | AG100: =SUM(AG59:AG95) -> 0 | AH100: =SUM(AH59:AH95) -> 77100 | AI100: =SUM(AI59:AI95) -> 0 | AJ100: =SUM(AJ59:AJ95) -> 0 | AK100: =SUM(AK59:AK98) -> 4860 | AM100: =SUM(AM59:AM99) -> 169400
A101: KOKOPO | B101: 3989 | C101: 30/06/22 | D101: 30/10/22 | E101: 0 | F101: 0 | G101: 0 | H101: 0 | I101: =Z101-AL101 -> 0 | J101: =SUM(F101:I101) -> 0 | K101: 0 | L101: 0 | M101: 0 | N101: 0 | O101: 0 | P101: 0 | Q101: 0 | R101: 0 | S101: 0 | T101: 0 | V101: 0 | W101: 0 | X101: 0 | Y101: 0 | Z101: 15930 | AA101: =SUM(W101:Z101) -> 15930 | AB101: 0 | AC101: 0 | AD101: 0 | AE101: 0 | AF101: 0 | AG101: 0 | AH101: 0 | AI101: 0 | AJ101: 0 | AK101: 0 | AL101: =2160+13050+720 -> 15930 | AM101: =(V101+W101+X101+Y101+Z101+AB101+AC101+AD101+AE101+AF101+AG101+AH101+AI101+AJ101+AK101)-AL101 -> 0 | AN101: 2,160 received on 01.11.22; 13,050 was received on the 08.03.23; 720 outstanding fully received on date yet to confirm in mSupply
...

Sheet EXP.DATES For ACT-RDT-PQ
A1: CODE | B1: ITEM | C1: BATCH # | D1: EXPIRY DATE | E1: PACK SIZE | F1: QUANTITY | G1: QUANTITY IN INDIVIDUAL UNIT | H1: SOURCE | I1: LOCATION
A2: MALARIA CENTRAL STORE
A3: 10570030 | B3: Artemether + Lumefantrine Tab., 20+120mg, blister, 6x1 | C3: NAD2484C | D3: 30/06/2028 | E3: 30 | F3: 816 | G3: =E3*F3 -> 24480 | H3: GLOBAL FUND | I3: R08
A4: 10570040 | B4: Artemether + Lumefantrine Tab., 20+120mg, blister, 12x1 | C4: NAD2487A | D4: 30/06/2028 | E4: 30 | F4: 1714 | G4: =E4*F4 -> 51420 | H4: GLOBAL FUND | I4: R16
A5: 10570040 | B5: Artemether + Lumefantrine Tab., 20+120mg, blister, 12x1 | C5: NAD2490A | D5: 30/06/2028 | E5: 30 | F5: 172 | G5: =E5*F5 -> 5160 | H5: GLOBAL FUND | I5: P22-RAM STORE
A6: 10570040 | B6: Artemether + Lumefantrine Tab., 20+120mg, blister, 12x1 | C6: NAD2486A | D6: 30/06/2028 | E6: 30 | F6: 1822 | G6: =E6*F6 -> 54660 | H6: GLOBAL FUND | I6: P25-RAM STORE
A7: 10570040 | B7: Artemether + Lumefantrine Tab., 20+120mg, blister, 12x1 | C7: NAD2488A | D7: 30/06/2028 | E7: 30 | F7: 1944 | G7: =E7*F7 -> 58320 | H7: GLOBAL FUND | I7: P23-RAM STORE
A8: 10570040 | B8: Artemether + Lumefantrine Tab., 20+120mg, blister, 12x1 | C8: NAD2489A | D8: 30/06/2028 | E8: 30 | F8: 1944 | G8: =E8*F8 -> 58320 | H8: GLOBAL FUND | I8: P26-RAM STORE
A9: 10570050 | B9: Artemether 20 mg+Lumefantrine 120mg Tablets, 24-34kg, blister 18x1 | C9: NAA24344A | D9: 30/06/2028 | E9: 30 | F9: 24 | G9: =E9*F9 -> 720 | H9: GLOBAL FUND | I9: P35_-_RAM_CR
A10: 10570060 | B10: Artemether + Lumefantrine Tab., 20+120mg, blister, 24x1 | C10: NAA24134A | D10: 28/02/2028 | E10: 30 | F10: 1123 | G10: =E10*F10 -> 33690 | H10: GLOBAL FUND | I10: R18
A11: 10570060 | B11: Artemether + Lumefantrine Tab., 20+120mg, blister, 24x1 | C11: NAA24345A | D11: 30/08/2028 | E11: 30 | F11: 1350 | G11: =E11*F11 -> 40500 | H11: GLOBAL FUND | I11: R17
A12: 10570060 | B12: Artemether + Lumefantrine Tab., 20+120mg, blister, 24x1 | C12: NAA24346A | D12: 30/06/2028 | E12: 30 | F12: 1346 | G12: =E12*F12 -> 40380 | H12: GLOBAL FUND | I12: R13
A13: 10570060 | B13: Artemether + Lumefantrine Tab., 20+120mg, blister, 24x1 | C13: NAA24348A | D13: 30/06/2028 | E13: 30 | F13: 1339 | G13: =E13*F13 -> 40170 | H13: GLOBAL FUND | I13: R11
A14: 10570060 | B14: Artemether + Lumefantrine Tab., 20+120mg, blister, 24x1 | C14: NAA24343A | D14: 30/06/2028 | E14: 30 | F14: 1342 | G14: =E14*F14 -> 40260 | H14: GLOBAL FUND | I14: R15
A15: 10570060 | B15: Artemether + Lumefantrine Tab., 20+120mg, blister, 24x1 | C15: NAA24350A | D15: 30/06/2028 | E15: 30 | F15: 1345 | G15: =E15*F15 -> 40350 | H15: GLOBAL FUND | I15: R09
A16: 10570060 | B16: Artemether + Lumefantrine Tab., 20+120mg, blister, 24x1 | C16: NAA24349A | D16: 30/06/2028 | E16: 30 | F16: 573 | G16: =E16*F16 -> 17190 | H16: GLOBAL FUND
A17: 40240100 | B17: Pf/Pan Rapid Diagnostic Test for Malaria | C17: 101694 | D17: 30/06/2026 | E17: 25 | F17: 331 | G17: =E17*F17 -> 8275 | H17: GLOBAL FUND | I17: P39_-_RAM_CR
A18: 40240100 | B18: Pf/Pan Rapid Diagnostic Test for Malaria | C18: 101694 | D18: 30/06/2026 | E18: 25 | F18: 800 | G18: =E18*F18 -> 20000 | H18: GLOBAL FUND | I18: P38_-_RAM_CR
A19: 40240100 | B19: Pf/Pan Rapid Diagnostic Test for Malaria | C19: 101693 | D19: 30/06/2026 | E19: 25 | F19: 800 | G19: =E19*F19 -> 20000 | H19: GLOBAL FUND | I19: P33 - RAM Cr
A20: 40240100 | B20: Pf/Pan Rapid Diagnostic Test for Malaria | C20: 101695 | D20: 30/06/2026 | E20: 25 | F20: 800 | G20: =E20*F20 -> 20000 | H20: GLOBAL FUND | I20: P45 - RAM CR
A22: AREA MEDICAL STORE, BADILI
A23: 10570030 | B23: Artemether 20 mg+Lumefantrine 120mg Tablets, 25-34kg, blister 6x1 | C23: HWE084156 | D23: 46692 | E23: 30 | F23: 1725 | G23: =E23*F23 -> 51750 | H23: GoPNG | I23: BADILI
A24: 10570030 | B24: Artemether 20 mg+Lumefantrine 120mg Tablets, 25-34kg, blister 6x1 | C24: HWE084001 | D24: 46017 | E24: 30 | F24: 3019 | G24: =E24*F24 -> 90570 | H24: GoPNG | I24: BADILI
A25: 10570040 | B25: Artemether 20 mg+Lumefantrine 120mg Tablets, 15-24kg, blister 12x1 | C25: HWE094156 | D25: 46692 | E25: 30 | F25: 875 | G25: =E25*F25 -> 26250 | H25: GoPNG | I25: BADILI
A26: 10570040 | B26: Artemether 20 mg+Lumefantrine 120mg Tablets, 15-24kg, blister 12x1 | C26: HWE094015 | D26: 46388 | E26: 30 | F26: 451 | G26: =E26*F26 -> 13530 | H26: GoPNG | I26: BADILI
A27: 10570050 | B27: Artemether 20 mg+Lumefantrine 120mg Tablets, 25-34kg, blister 18x1 | C27: HWE104156 | D27: 45988 | E27: 30 | F27: 418 | G27: =E27*F27 -> 12540 | H27: GoPNG | I27: BADILI
A28: 10570050 | B28: Artemether 20 mg+Lumefantrine 120mg Tablets, 25-34kg, blister 18x1 | C28: HWE104157 | D28: 46018 | E28: 30 | F28: 576 | G28: =E28*F28 -> 17280 | H28: GoPNG | I28: BADILI
A29: 10570050 | B29: Artemether 20 mg+Lumefantrine 120mg Tablets, 25-34kg, blister 18x1 | C29: HWE104004 | D29: 46017 | E29: 30 | F29: 384 | G29: =E29*F29 -> 11520 | H29: GoPNG | I29: BADILI
A30: 10570050 | B30: Artemether 20 mg+Lumefantrine 120mg Tablets, 25-34kg, blister 18x1 | C30: HWE10415 | D30: 45988 | E30: 30 | F30: 36 | G30: =E30*F30 -> 1080 | H30: GoPNG | I30: BADILI
A31: 10570060 | B31: Artemether 20 mg+Lumefantrine 120mg Tablets, 35+kg, blister 24x1 | C31: HWE114180 | D31: 46692 | E31: 30 | F31: 58 | G31: =E31*F31 -> 1740 | H31: GoPNG | I31: BADILI
A32: 10570130 | B32: Primaquine Tab., 7.5mg | C32: 060324 | D32: 46419 | E32: 100 | F32: 32 | G32: =E32*F32 -> 3200 | H32: GoPNG | I32: BADILI
A33: 10570130 | B33: Primaquine Tab., 7.5mg | C33: T35805 | D33: 46388 | E33: 100 | F33: 1580 | G33: =E33*F33 -> 158000 | H33: GoPNG | I33: BADILI
A34: 10570130 | B34: Primaquine Tab., 7.5mg | C34: KE24147 | D34: 46419 | E34: 100 | F34: 8998 | G34: =E34*F34 -> 899800 | H34: GoPNG | I34: BADILI
A35: 40240100 | B35: Rapid Diagnostic Test (RDT) for Malaria, Pack/25 | C35: H006001D | D35: 46023 | E35: 25 | F35: 2400 | G35: =E35*F35 -> 60000 | H35: GoPNG | I35: BADILI
A36: 40240100 | B36: Rapid Diagnostic Test (RDT) for Malaria, Pack/25 | C36: H006D004D | D36: 46266 | E36: 25 | F36: 2750 | G36: =E36*F36 -> 68750 | H36: GoPNG | I36: BADILI
A37: 40240100 | B37: Rapid Diagnostic Test (RDT) for Malaria, Pack/25 | C37: H006E001D | D37: 46388 | E37: 25 | F37: 8288 | G37: =E37*F37 -> 207200 | H37: GoPNG | I37: BADILI
A38: 40240100 | B38: Rapid Diagnostic Test (RDT) for Malaria, Pack/25 | C38: H006E003D | D38: 46478 | E38: 25 | F38: 9600 | G38: =E38*F38 -> 240000 | H38: GoPNG | I38: BADILI
A39: 40240100 | B39: Rapid Diagnostic Test (RDT) for Malaria, Pack/25 | C39: HOO6E001D | D39: 31/07/2025 | E39: 25 | F39: 3100 | G39: =E39*F39 -> 77500 | H39: GoPNG | I39: BADILI
A41: AREA MEDICAL STORE, HAGEN | G41: =E41*F41 -> 0
A42: 10570030 | B42: Artemether 20 mg+Lumefantrine 120mg Tablets, 25-34kg, blister 6x1 | C42: 3E02047 | D42: 31/12/2025 | E42: 30 | F42: 21 | G42: =E42*F42 -> 630 | H42: GoPNG | I42: HAGEN
A43: 10570030 | B43: Artemether 20 mg+Lumefantrine 120mg Tablets, 25-34kg, blister 6x1 | C43: HWE084001 | D43: 31/12/2026 | E43: 30 | F43: =739+68 -> 807 | G43: =E43*F43 -> 24210 | H43: GoPNG | I43: HAGEN
A44: 10570030 | B44: Artemether 20 mg+Lumefantrine 120mg Tablets, 25-34kg, blister 6x1 | C44: DIAPH002 | D44: 30/04/2027 | E44: 30 | F44: 140 | G44: =E44*F44 -> 4200 | H44: GoPNG | I44: HAGEN
A45: 10570030 | B45: Artemether 20 mg+Lumefantrine 120mg Tablets, 25-34kg, blister 6x1 | C45: 3EO1O46 | D45: 31/12/2025 | E45: 30 | F45: 76 | G45: =E45*F45 -> 2280 | H45: GoPNG | I45: HAGEN
A46: 10570040 | B46: Artemether 20 mg+Lumefantrine 120mg Tablets, 25-34kg, blister 12x1 | C46: HWE094015 | D46: 31/01/2027 | E46: 30 | F46: 491 | G46: =E46*F46 -> 14730 | H46: GoPNG | I46: HAGEN
A47: 10570040 | B47: Artemether 20 mg+Lumefantrine 120mg Tablets, 25-34kg, blister 12x1 | C47: D1APH002 | D47: 30/04/2027 | E47: 30 | F47: =62+21 -> 83 | G47: =E47*F47 -> 2490 | H47: GoPNG | I47: HAGEN
A48: 10570040 | B48: Artemether 20 mg+Lumefantrine 120mg Tablets, 25-34kg, blister 12x1 | C48: HWE094156 | D48: 30/11/2027 | E48: 30 | F48: 348 | G48: =E48*F48 -> 10440 | H48: GoPNG | I48: HAGEN
A49: 10570050 | B49: Artemether 20 mg+Lumefantrine 120mg Tablets, 25-34kg, blister 18x1 | C49: B1APH016 | D49: 30/11/2025 | E49: 30 | F49: 30 | G49: =E49*F49 -> 900 | H49: GoPNG | I49: HAGEN
A50: 10570050 | B50: Artemether 20 mg+Lumefantrine 120mg Tablets, 25-34kg, blister 18x1 | C50: B1APH005 | D50: 31/10/2025 | E50: 30 | F50: 1 | G50: =E50*F50 -> 30 | H50: GoPNG | I50: HAGEN
A51: 10570050 | B51: Artemether 20 mg+Lumefantrine 120mg Tablets, 25-34kg, blister 18x1 | C51: CIAPH002 | D51: 31/10/2026 | E51: 30 | F51: 403 | G51: =E51*F51 -> 12090 | H51: GoPNG | I51: HAGEN
A52: 10570050 | B52: Artemether 20 mg+Lumefantrine 120mg Tablets, 25-34kg, blister 18x1 | C52: CIAPH001 | D52: 30/06/2026 | E52: 30 | F52: 13 | G52: =E52*F52 -> 390 | H52: GoPNG | I52: HAGEN
A53: 10570050 | B53: Artemether 20 mg+Lumefantrine 120mg Tablets, 25-34kg, blister 18x1 | C53: CIAPH002 | D53: 31/10/2026 | E53: 30 | F53: 137 | G53: =E53*F53 -> 4110 | H53: GoPNG | I53: HAGEN
A54: 10570050 | B54: Artemether 20 mg+Lumefantrine 120mg Tablets, 25-34kg, blister 18x1 | C54: HWE104004 | D54: 31/12/2026 | E54: 30 | F54: 500 | G54: =E54*F54 -> 15000 | H54: GoPNG | I54: HAGEN
A55: 10570050 | B55: Artemether 20 mg+Lumefantrine 120mg Tablets, 25-34kg, blister 18x1 | C55: BIAPH003 | D55: 30/04/2027 | E55: 30 | F55: 312 | G55: =E55*F55 -> 9360 | H55: GoPNG | I55: HAGEN
A56: 10570050 | B56: Artemether 20 mg+Lumefantrine 120mg Tablets, 25-34kg, blister 18x1 | C56: BIAPH015 | D56: 30/11/2025 | E56: 30 | F56: 86 | G56: =E56*F56 -> 2580 | H56: GoPNG | I56: HAGEN
A57: 10570050 | B57: Artemether 20 mg+Lumefantrine 120mg Tablets, 25-34kg, blister 18x1 | C57: HWE104157 | D57: 30/11/2027 | E57: 30 | F57: 248 | G57: =E57*F57 -> 7440 | H57: GoPNG | I57: HAGEN
A58: 10570060 | B58: Artemether 20 mg+Lumefantrine 120mg Tablets, 25-34kg, blister 24x1 | C58: BIAPH002 | D58: 30/04/2027 | E58: 30 | F58: 24 | G58: =E58*F58 -> 720 | H58: GoPNG | I58: HAGEN
A59: 10570060 | B59: Artemether 20 mg+Lumefantrine 120mg Tablets, 25-34kg, blister 24x1 | C59: HWE114003 | D59: 31/12/2026 | E59: 30 | F59: 223 | G59: =E59*F59 -> 6690 | H59: GoPNG | I59: HAGEN
A60: 10570060 | B60: Artemether 20 mg+Lumefantrine 120mg Tablets, 25-34kg, blister 24x1 | C60: D1APH005 | D60: 30/04/2027 | E60: 30 | F60: 225 | G60: =E60*F60 -> 6750 | H60: GoPNG | I60: HAGEN
A61: 10570060 | B61: Artemether 20 mg+Lumefantrine 120mg Tablets, 25-34kg, blister 24x1 | C61: DIAPH002 | D61: 30/04/2027 | E61: 30 | F61: 79 | G61: =E61*F61 -> 2370 | H61: GoPNG | I61: HAGEN
A62: 10570060 | B62: Artemether 20 mg+Lumefantrine 120mg Tablets, 25-34kg, blister 24x1 | C62: HWE114157 | D62: 30/11/2027 | E62: 30 | F62: 310 | G62: =E62*F62 -> 9300 | H62: GoPNG | I62: HAGEN
A63: 10570130 | B63: Primaquine Tab., 7.5mg | C63: T35810 | D63: 31/03/2028 | E63: 100 | F63: 4422 | G63: =E63*F63 -> 442200 | H63: GoPNG | I63: HAGEN
A64: 40240100 | B64: Rapid Diagnostic Test (RDT) for Malaria, Pack/25 | C64: H006E002 | D64: 28/02/2027 | E64: 25 | F64: 6220 | G64: =E64*F64 -> 155500 | H64: GoPNG | I64: HAGEN
A65: 40240100 | B65: Rapid Diagnostic Test (RDT) for Malaria, Pack/25 | C65: 75K13245 | D65: 31/10/2026 | E65: 25 | F65: 50 | G65: =E65*F65 -> 1250 | H65: GoPNG | I65: HAGEN
A66: 40240100 | B66: Rapid Diagnostic Test (RDT) for Malaria, Pack/25 | C66: H006C0070 | D66: 31/05/2025 | E66: 25 | F66: 50 | G66: =E66*F66 -> 1250 | H66: GoPNG | I66: HAGEN
A67: 40240100 | B67: Rapid Diagnostic Test (RDT) for Malaria, Pack/25 | C67: H006E001D | D67: 31/01/2027 | E67: 25 | F67: 9220 | G67: =E67*F67 -> 230500 | H67: GoPNG | I67: HAGEN
A68: 40240100 | B68: Rapid Diagnostic Test (RDT) for Malaria, Pack/25 | C68: H006E001D | D68: 31/01/2027 | E68: 25 | F68: 2980 | G68: =E68*F68 -> 74500 | H68: GoPNG | I68: HAGEN
A70: AREA MEDICAL STORE, KOKOPO | G70: =E70*F70 -> 0
A71: 10570030 | B71: Artemether 20 mg+Lumefantrine 120mg Tablets, 25-34kg, blister 6x1 | C71: HWE084156 | D71: 46721 | E71: 30 | F71: 787 | G71: =E71*F71 -> 23610 | H71: GoPNG | I71: KOKOPO
A72: 10570040 | B72: Artemether 20 mg+Lumefantrine 120mg Tablets, 25-34kg, blister 12x1 | C72: HWE094156 | D72: 46418 | E72: 30 | F72: 801 | G72: =E72*F72 -> 24030 | H72: GoPNG | I72: KOKOPO
A73: 10570050 | B73: Artemether 20 mg+Lumefantrine 120mg Tablets, 25-34kg, blister 18x1 | C73: HWE104156 | D73: 46721 | E73: 30 | F73: =411+380 -> 791 | G73: =E73*F73 -> 23730 | H73: GoPNG | I73: KOKOPO
A74: 10570050 | B74: Artemether 20 mg+Lumefantrine 120mg Tablets, 25-34kg, blister 18x1 | C74: TIAPH001 | D74: 46843 | E74: 30 | F74: 18 | G74: =E74*F74 -> 540 | H74: GoPNG | I74: KOKOPO
A75: 10570060 | B75: Artemether 20 mg+Lumefantrine 120mg Tablets, 25-34kg, blister 24x1 | C75: HWE114180 | D75: 46721 | E75: 30 | F75: 1056 | G75: =E75*F75 -> 31680 | H75: GoPNG | I75: KOKOPO
A76: 10570130 | B76: Primaquine Tablet, 7.5mg | C76: 70324 | D76: 46446 | E76: 100 | F76: 450 | G76: =E76*F76 -> 45000 | H76: GoPNG | I76: KOKOPO
A77: 10570030 | B77: Primaquine Tablet, 7.5mg | C77: 80324 | D77: 46446 | E77: 100 | F77: 530 | G77: =E77*F77 -> 53000 | H77: GoPNG | I77: KOKOPO
A78: 40240100 | B78: Rapid Diagnostic Test (RDT) for Malaria, Pack/25 | C78: H006E002D | D78: 46418 | E78: 25 | F78: 5000 | G78: =E78*F78 -> 125000 | H78: GoPNG | I78: KOKOPO
A79: 40240100 | B79: Rapid Diagnostic Test (RDT) for Malaria, Pack/25 | C79: H006E003D | D79: 46507 | E79: 25 | F79: 7100 | G79: =E79*F79 -> 177500 | H79: GoPNG | I79: KOKOPO
A81: AREA MEDICAL STORE, LAE
A82: 10570030 | B82: Artemether 20 mg+Lumefantrine 120mg Tablets, 25-34kg, blister 6x1 | C82: D1APH002 | D82: 30/04/2027 | E82: 30 | F82: 51 | G82: =E82*F82 -> 1530 | H82: GoPNG | I82: LAE
A83: 10570030 | B83: Artemether 20 mg+Lumefantrine 120mg Tablets, 25-34kg, blister 6x1 | C83: HWE084001 | D83: 31/12/2026 | E83: 30 | F83: 456 | G83: =E83*F83 -> 13680 | H83: GoPNG | I83: LAE
A84: 10570040 | B84: Artemether 20 mg+Lumefantrine 120mg Tablets, 25-34kg, blister 12x1 | C84: HWE104005 | D84: 31/12/2026 | E84: 30 | F84: 480 | G84: =E84*F84 -> 14400 | H84: GoPNG | I84: LAE
A85: 10570040 | B85: Artemether 20 mg+Lumefantrine 120mg Tablets, 25-34kg, blister 12x1 | C85: TIAPH001 | D85: 46904 | E85: 30 | F85: 57 | G85: =E85*F85 -> 1710 | H85: GoPNG | I85: LAE
A86: 10570040 | B86: Artemether 20 mg+Lumefantrine 120mg Tablets, 25-34kg, blister 12x1 | C86: D1APH007 | D86: 30/11/2027 | E86: 30 | F86: 168 | G86: =E86*F86 -> 5040 | H86: GoPNG | I86: LAE
A87: 10570050 | B87: Artemether 20 mg+Lumefantrine 120mg Tablets, 25-34kg, blister 18x1 | C87: HWE104006 | D87: 31/12/2026 | E87: 30 | F87: 155 | G87: =E87*F87 -> 4650 | H87: GoPNG | I87: LAE
A88: 10570050 | B88: Artemether 20 mg+Lumefantrine 120mg Tablets, 25-34kg, blister 18x1 | C88: HWE104157 | D88: 46721 | E88: 30 | F88: 200 | G88: =E88*F88 -> 6000 | H88: GoPNG | I88: LAE
A89: 10570060 | B89: Artemether 20 mg+Lumefantrine 120mg Tablets, 25-34kg, blister 24x1 | C89: C1APH006 | D89: 31/08/2026 | E89: 30 | F89: 57 | G89: =E89*F89 -> 1710 | H89: GoPNG | I89: LAE
A90: 10570130 | B90: Primaquine Tablet, 7.5mg | C90: 90324 | D90: 28/02/2027 | E90: 100 | F90: 3000 | G90: =E90*F90 -> 300000 | H90: GoPNG | I90: LAE
A91: 10570130 | B91: Primaquine Tablet, 7.5mg | C91: 50324 | D91: 28/02/2027 | E91: 100 | F91: 0 | G91: =E91*F91 -> 0 | H91: GoPNG | I91: LAE
A92: 10570130 | B92: Primaquine Tablet, 7.5mg | C92: KE24147 | D92: 28/02/2027 | E92: 100 | F92: 2000 | G92: =E92*F92 -> 200000 | H92: GoPNG | I92: LAE
A93: 40240100 | B93: Rapid Diagnostic Test (RDT) for Malaria, Pack/25 | C93: HOO6E003D | D93: 30/04/2027 | E93: 25 | F93: 10000 | G93: =E93*F93 -> 250000 | H93: GoPNG | I93: LAE
A94: 40240100 | B94: Rapid Diagnostic Test (RDT) for Malaria, Pack/25 | C94: 75K13245 | D94: 31/10/2026 | E94: 25 | F94: 211 | G94: =E94*F94 -> 5275 | H94: GoPNG | I94: LAE
A95: 40240100 | B95: Rapid Diagnostic Test (RDT) for Malaria, Pack/25 | C95: H006E002D | D95: 28/02/2027 | E95: 25 | F95: 10000 | G95: =E95*F95 -> 250000 | H95: GoPNG | I95: LAE
A97: AREA MEDICAL STORE, WEWAK
A98: 10570030 | B98: Artemether 20 mg+Lumefantrine 120mg Tablets, 25-34kg, blister 6x1 | C98: DIAPH002 | D98: 46507 | E98: 30 | F98: 445 | G98: =E98*F98 -> 13350 | H98: GoPNG | I98: WEWAK
A99: 10570040 | B99: Artemether 20 mg+Lumefantrine 120mg Tablets, 25-34kg, blister 12x1 | C99: C1APH001 | D99: 46203 | E99: 30 | F99: 490 | G99: =E99*F99 -> 14700 | H99: GoPNG | I99: WEWAK
A100: 10570050 | B100: Artemether 20 mg+Lumefantrine 120mg Tablets, 25-34kg, blister 18x1 | C100: D1APH003 | D100: 31/04/2027 | E100: 30 | F100: 1339 | G100: 2670 | H100: GoPNG | I100: WEWAK
A101: 10570060 | B101: Artemether 20 mg+Lumefantrine 120mg Tablets, 25-34kg, blister 24x1 | C101: DIAPH005 | D101: 46507 | E101: 30 | F101: 1002 | G101: =E101*F101 -> 30060 | H101: GoPNG | I101: WEWAK
A102: 10570130 | B102: Primaquine Tab., 7.5mg | C102: T35805 | D102: 46390 | E102: 100 | F102: 5484 | G102: =E102*F102 -> 548400 | H102: GoPNG | I102: WEWAK
A103: 40240100 | B103: Rapid Diagnostic Test (RDT) for Malaria, Pack/25 | C103: H006C001D | D103: 46325 | E103: 25 | F103: 7644 | G103: =E103*F103 -> 191100 | H103: GoPNG | I103: WEWAK

Sheet Table of Summary
A1: A. ACTs, RDT, & PRIMAQUINE
A3: 1. Stock on Hand | F3: 2. Stock in Pipeline
B5: RDT | C5: ACTs (Total) | D5: Primaquine | G5: RDT | H5: ACTs (Total) | I5: Primaquine
A6: NDoH | B6: ='ACT-RDT-PQ BY AMS'!B10 -> 1493475 | C6: ='ACT-RDT-PQ BY AMS'!G10 -> 414660 | D6: ='ACT-RDT-PQ BY AMS'!H10 -> 1866300 | F6: Total NDoH | G6: ='ACT-RDT-PQ BY AMS'!K10 -> 58825 | H6: ='ACT-RDT-PQ BY AMS'!P10 -> 208440 | I6: ='ACT-RDT-PQ BY AMS'!Q10 -> 168500
A7: SOH in Months | B7: ='ACT-RDT-PQ BY AMS'!B19 -> 4.480425 | C7: ='ACT-RDT-PQ BY AMS'!C19 -> 1.5535588 | D7: ='ACT-RDT-PQ BY AMS'!H19 -> 1.3410539 | F7: Stock in Months | G7: ='ACT-RDT-PQ BY AMS'!K19 -> 0.176475 | H7: ='ACT-RDT-PQ BY AMS'!L19 -> 0.55694118 | I7: ='ACT-RDT-PQ BY AMS'!Q19 -> 0.12107784
A8: Global Fund/RAM | B8: ='ACT-RDT-PQ BY AMS'!B11 -> 68275 | C8: ='ACT-RDT-PQ BY AMS'!G11 -> 504900 | D8: ='ACT-RDT-PQ BY AMS'!H11 -> 0 | F8: Global Fund/RAM | G8: ='ACT-RDT-PQ BY AMS'!K11 -> 0 | H8: ='ACT-RDT-PQ BY AMS'!P11 -> 0 | I8: ='ACT-RDT-PQ BY AMS'!Q11 -> 0
A9: SOH in Months | B9: ='ACT-RDT-PQ BY AMS'!B20 -> 0.204825 | C9: ='ACT-RDT-PQ BY AMS'!C20 -> 2.6301176 | D9: ='ACT-RDT-PQ BY AMS'!H20 -> 0 | F9: Stock in Months | G9: ='ACT-RDT-PQ BY AMS'!K20 -> 0 | H9: ='ACT-RDT-PQ BY AMS'!L20 -> 0 | I9: ='ACT-RDT-PQ BY AMS'!Q20 -> 0
A10: Total | B10: =B6+B8 -> 1561750 | C10: =C6+C8 -> 919560 | D10: =D6+D8 -> 1866300 | F10: Total | G10: =G8+G6 -> 58825 | H10: =H8+H6 -> 208440 | I10: =I8+I6 -> 168500
A11: SOH in Months | B11: =B7+B9 -> 4.68525 | C11: =C7+C9 -> 4.1836765 | D11: =D7+D9 -> 1.3410539 | F11: Total stock in Months | G11: =G7+G9 -> 0.176475 | H11: =H7+H9 -> 0.55694118 | I11: =I7+I9 -> 0.12107784
J12: B. OTHER ANTI-MALARIALs (NDoH Procurement)
J13: ITEM | K13: STOCK ON HAND | L13: STOCK ON ORDER | M13: EXPECTED STOCK POSSIBLY IN THE NEXT SIX MONTHS
J14: SULFADOXINE 500MG + PYRIMETHAMINE 25MG (SP) (TABLET) | K14: =' Other A.M.Drugs BY AMS'!B12 -> 280400 | L14: =' Other A.M.Drugs BY AMS'!M12 -> 0 | M14: =K14+L14 -> 280400
J15: ARTEMETHER INJ. 80MG (AMPOULE) | K15: =' Other A.M.Drugs BY AMS'!C12 -> 53964 | L15: =' Other A.M.Drugs BY AMS'!N12 -> 22000 | M15: =K15+L15 -> 75964
J16: ARTEMETHER INJ. 40MG (AMPOULE) | K16: =' Other A.M.Drugs BY AMS'!D12 -> 65306 | L16: =' Other A.M.Drugs BY AMS'!O12 -> 10000 | M16: =K16+L16 -> 75306
J17: ARTESUNATE INJECTION 60MG (VIAL) | K17: =' Other A.M.Drugs BY AMS'!E12 -> 22670 | L17: =' Other A.M.Drugs BY AMS'!P12 -> 0 | M17: =K17+L17 -> 22670
J18: QUININE INJ. 600MG (VIAL) | K18: =' Other A.M.Drugs BY AMS'!F12 -> 1760 | L18: =' Other A.M.Drugs BY AMS'!Q12 -> 0 | M18: =K18+L18 -> 1760
J19: QUININE TABLET 300MG | K19: =' Other A.M.Drugs BY AMS'!G12 -> 99200 | L19: =' Other A.M.Drugs BY AMS'!R12 -> 0 | M19: =K19+L19 -> 99200
J20: DIHYDROARTEMISININ 40MG + PIPERAQUINE 340mg (TAB) | K20: =' Other A.M.Drugs BY AMS'!J12 -> 2433 | L20: =' Other A.M.Drugs BY AMS'!U12 -> 0 | M20: =K20+L20 -> 2433

Sheet LLIN SOH
B1: SOH OF LLINS IN PNG
B2: Container Numbers | C2: Funded By | D2: Yoorkool for RAM origional (XL) | E2: ANC SDP NETS | F2: MAGNETS FOR DISTRIBUTION | G2: MAGNETS in Lae | H2: Yahe Nets | I2: ANC Yahe Nets Lae | J2: Stock sheet status | K2: Comments
B3: TCKU 2415060 | C3: RAM Origional | D3: 11100 | E3: 0 | F3: 0 | G3: 0 | H3: 0 | I3: 0 | J3: same | K3: Ram Origional Nets | L3: For Positive Patients
B4: TCKU 1510925 | C4: Global Fund | D4: 0 | E4: 0 | F4: 0 | G4: =243*50 -> 12150 | H4: 0 | I4: 0 | J4: Same | K4: EFM Lae | L4: Morobe Nets
B5: TCKU 1603946 | C5: Global Fund | D5: 0 | E5: 0 | F5: 0 | G5: 12150 | H5: 0 | I5: 0 | J5: Same | K5: EFM Lae | L5: Morobe Nets
B6: TCKU 1893260 | C6: Global Fund | D6: 0 | E6: 0 | F6: 0 | G6: =241*50 -> 12050 | H6: 0 | I6: 0 | J6: Same | K6: EFM Lae | L6: Morobe Nets
B7: TCKU 1915414 | C7: Global Fund | D7: 0 | E7: 0 | F7: 0 | G7: =243*50 -> 12150 | H7: 0 | I7: 0 | J7: Same | K7: EFM Lae | L7: Morobe Nets
B8: TCKU 2789692 | C8: Global Fund | D8: 0 | E8: 0 | F8: 0 | G8: 7850 | H8: 0 | I8: 0 | J8: Same | K8: EFM Lae | L8: Removed from Oro Container
B9: CBHU 4047501 | C9: Global Fund | D9: 0 | E9: 0 | F9: 9240 | G9: 0 | H9: 0 | I9: 0 | J9: same | K9: GFS POM | L9: Central Province nets
B10: MSUU 2140809 | C10: Global Fund | D10: 0 | E10: 0 | F10: 0 | G10: 0 | H10: 0 | I10: 0 | J10: same | K10: GFS POM | L10: Central Province nets
B11: GATU 0494263 | C11: Global Fund | D11: 0 | E11: 0 | F11: 0 | G11: 0 | H11: 0 | I11: 0 | J11: same | K11: GFS POM | L11: Central Province nets
B12: CBHU - 5705295 | C12: SDP | D12: 0 | E12: 7000 | F12: 0 | G12: 0 | H12: 0 | I12: 0 | J12: same | K12: GFS POM | L12: ANC
B13: CBHU - 5659306 | C13: SDP | D13: 0 | E13: 12500 | F13: 0 | G13: 0 | H13: 0 | I13: 0 | J13: same | K13: GFS POM | L13: ANC
B14: FCIU - 3110233 | C14: SDP | D14: 0 | E14: 7300 | F14: 0 | G14: 0 | H14: 0 | I14: 0 | J14: same | K14: GFS POM | L14: ANC
B15: DFSU - 2027730 | C15: SDP | D15: 0 | E15: 12500 | F15: 0 | G15: 0 | H15: 0 | I15: 0 | J15: same | K15: GFS POM | L15: ANC
B16: HJLU 1351462 | C16: Global Fund | D16: 0 | E16: 0 | F16: 0 | G16: 0 | H16: =380*50 -> 19000 | I16: 0 | J16: same | K16: EFM Lae | L16: WNBP New arrivals in Lae
B17: HJLU 1353871 | C17: Global Fund | D17: 0 | E17: 0 | F17: 0 | G17: 0 | H17: =380*50 -> 19000 | I17: 0 | J17: same | K17: EFM Lae | L17: WNBP New arrivals in Lae
B18: HJLU 1356905 | C18: Global Fund | D18: 0 | E18: 0 | F18: 0 | G18: 0 | H18: =380*50 -> 19000 | I18: 0 | J18: same | K18: EFM Lae | L18: WNBP New arrivals in Lae
B19: HJLU 1379618 | C19: Global Fund | D19: 0 | E19: 0 | F19: 0 | G19: 0 | H19: =380*50 -> 19000 | I19: 0 | J19: same | K19: EFM Lae | L19: WNBP New arrivals in Lae
B20: HJLU 1390181 | C20: Global Fund | D20: 0 | E20: 0 | F20: 0 | G20: 0 | H20: =380*50 -> 19000 | I20: 0 | J20: same | K20: EFM Lae | L20: WNBP New arrivals in Lae
B21: HJLU 1396209 | C21: Global Fund | D21: 0 | E21: 0 | F21: 0 | G21: 0 | H21: =380*50 -> 19000 | I21: 0 | J21: same | K21: EFM Lae | L21: WNBP New arrivals in Lae
B22: TEMU 4471010 | C22: Global Fund | D22: 0 | E22: 0 | F22: 0 | G22: 0 | H22: =380*50 -> 19000 | I22: 0 | J22: same | K22: EFM Lae | L22: WNBP New arrivals in Lae
B23: TGHU 0454865 | C23: Global Fund | D23: 0 | E23: 0 | F23: 0 | G23: 0 | H23: =380*50 -> 19000 | I23: 0 | J23: same | K23: EFM Lae | L23: WNBP New arrivals in Lae
B24: TGHU 1097490 | C24: Global Fund | D24: 0 | E24: 0 | F24: 0 | G24: 0 | H24: =380*50 -> 19000 | I24: 0 | J24: same | K24: EFM Lae | L24: WNBP New arrivals in Lae
B25: TGHU 1692174 | C25: Global Fund | D25: 0 | E25: 0 | F25: 0 | G25: 0 | H25: =380*50 -> 19000 | I25: 0 | J25: same | K25: EFM Lae | L25: WNBP New arrivals in Lae
B26: TGHU 1752205 | C26: Global Fund | D26: 0 | E26: 0 | F26: 0 | G26: 0 | H26: =380*50 -> 19000 | I26: 0 | J26: same | K26: EFM Lae | L26: WNBP New arrivals in Lae
B27: TGHU 1840414 | C27: Global Fund | D27: 0 | E27: 0 | F27: 0 | G27: 0 | H27: =380*50 -> 19000 | I27: 0 | J27: same | K27: EFM Lae | L27: WNBP New arrivals in Lae
B28: GATU 1369100 | C28: Global Fund | D28: 0 | E28: 0 | F28: 0 | G28: 0 | H28: 0 | I28: 16650 | J28: same | K28: EFM Lae | L28: ANC New Arrivals
B29: TEMU 2987136 | C29: Global Fund | D29: 0 | E29: 0 | F29: 0 | G29: 0 | H29: 0 | I29: 16650 | J29: same | K29: EFM Lae | L29: ANC New Arrivals
B30: TEXU 16088313 | C30: Global Fund | D30: 0 | E30: 0 | F30: 0 | G30: 0 | H30: 0 | I30: 16650 | J30: same | K30: EFM Lae | L30: ANC New Arrivals
B31: TGHU 0154750 | C31: Global Fund | D31: 0 | E31: 0 | F31: 0 | G31: 0 | H31: 0 | I31: 16700 | J31: same | K31: EFM Lae | L31: ANC New Arrivals
B32: TGHU 0426610 | C32: Global Fund | D32: 0 | E32: 0 | F32: 0 | G32: 0 | H32: 0 | I32: 16700 | J32: same | K32: EFM Lae | L32: ANC New Arrivals
B33: TGHU 0441180 | C33: Global Fund | D33: 0 | E33: 0 | F33: 0 | G33: 0 | H33: 0 | I33: 16700 | J33: same | K33: EFM Lae | L33: ANC New Arrivals
B34: CLHU 3722945 | C34: Global Fund | D34: 0 | E34: 0 | F34: 0 | G34: 0 | H34: =380*50 -> 19000 | I34: 0 | J34: same | K34: EFM Lae-ETA 14.10.25 | L34: East New Britain Nets - New Arrivals
B35: CLHU 3834689 | C35: Global Fund | D35: 0 | E35: 0 | F35: 0 | G35: 0 | H35: =380*50 -> 19000 | I35: 0 | J35: same | K35: EFM Lae-ETA 14.10.25 | L35: East New Britain Nets - New Arrivals
B36: GATU 1285859 | C36: Global Fund | D36: 0 | E36: 0 | F36: 0 | G36: 0 | H36: =380*50 -> 19000 | I36: 0 | J36: same | K36: EFM Lae-ETA 14.10.25 | L36: East New Britain Nets - New Arrivals
B37: TEMU 2999564 | C37: Global Fund | D37: 0 | E37: 0 | F37: 0 | G37: 0 | H37: =380*50 -> 19000 | I37: 0 | J37: same | K37: EFM Lae-ETA 14.10.25 | L37: East New Britain Nets - New Arrivals
B38: TEMU 3325448 | C38: Global Fund | D38: 0 | E38: 0 | F38: 0 | G38: 0 | H38: =380*50 -> 19000 | I38: 0 | J38: same | K38: EFM Lae-ETA 14.10.25 | L38: East New Britain Nets - New Arrivals
B39: TGHU 0320280 | C39: Global Fund | D39: 0 | E39: 0 | F39: 0 | G39: 0 | H39: =380*50 -> 19000 | I39: 0 | J39: same | K39: EFM Lae-ETA 14.10.25 | L39: East New Britain Nets - New Arrivals
B40: TGHU 1016837 | C40: Global Fund | D40: 0 | E40: 0 | F40: 0 | G40: 0 | H40: =380*50 -> 19000 | I40: 0 | J40: same | K40: EFM Lae-ETA 14.10.25 | L40: East New Britain Nets - New Arrivals
B41: TGHU 1548613 | C41: Global Fund | D41: 0 | E41: 0 | F41: 0 | G41: 0 | H41: =380*50 -> 19000 | I41: 0 | J41: same | K41: EFM Lae-ETA 14.10.25 | L41: East New Britain Nets - New Arrivals
B42: TGHU 1548613 | C42: Global Fund | D42: 0 | E42: 0 | F42: 0 | G42: 0 | H42: =380*50 -> 19000 | I42: 0 | J42: same | K42: EFM Lae-ETA 14.10.25 | L42: East New Britain Nets - New Arrivals
B43: TGHU 3952331 | C43: Global Fund | D43: 0 | E43: 0 | F43: 0 | G43: 0 | H43: =380*50 -> 19000 | I43: 0 | J43: same | K43: EFM Lae-ETA 14.10.25 | L43: East New Britain Nets - New Arrivals
B44: TGHU 3953169 | C44: Global Fund | D44: 0 | E44: 0 | F44: 0 | G44: 0 | H44: =380*50 -> 19000 | I44: 0 | J44: same | K44: EFM Lae-ETA 14.10.25 | L44: East New Britain Nets - New Arrivals
B45: XINU 1295102 | C45: Global Fund | D45: 0 | E45: 0 | F45: 0 | G45: 0 | H45: =380*50 -> 19000 | I45: 0 | J45: same | K45: EFM Lae-ETA 14.10.25 | L45: East New Britain Nets - New Arrivals
B46: CLHU 3863603 | C46: Global Fund | D46: 0 | E46: 0 | F46: 0 | G46: 0 | H46: 0 | I46: 12500 | J46: same | K46: GFS POM | L46: New arrivals ANC
B47: AMFU 3238531 | C47: Global Fund | D47: 0 | E47: 0 | F47: 0 | G47: 0 | H47: 0 | I47: 12500 | J47: same | K47: GFS POM | L47: New arrivals ANC
B48: CLHU 3833759 | C48: Global Fund | D48: 0 | E48: 0 | F48: 0 | G48: 0 | H48: =380*50 -> 19000 | I48: 0 | J48: Same | K48: EFM Lae-ETA 14.10.25 | L48: AROB Nets - New Arrivals
B49: CLHU 3876365 | C49: Global Fund | D49: 0 | E49: 0 | F49: 0 | G49: 0 | H49: =380*50 -> 19000 | I49: 0 | J49: Same | K49: EFM Lae-ETA 14.10.25 | L49: AROB Nets - New Arrivals
B50: TEMU 4110125 | C50: Global Fund | D50: 0 | E50: 0 | F50: 0 | G50: 0 | H50: =380*50 -> 19000 | I50: 0 | J50: Same | K50: EFM Lae-ETA 14.10.25 | L50: AROB Nets - New Arrivals
B51: TGHU 0144216 | C51: Global Fund | D51: 0 | E51: 0 | F51: 0 | G51: 0 | H51: =380*50 -> 19000 | I51: 0 | J51: Same | K51: EFM Lae-ETA 14.10.25 | L51: AROB Nets - New Arrivals
B52: TGHU 0575229 | C52: Global Fund | D52: 0 | E52: 0 | F52: 0 | G52: 0 | H52: =380*50 -> 19000 | I52: 0 | J52: Same | K52: EFM Lae-ETA 14.10.25 | L52: AROB Nets - New Arrivals
B53: TGHU 0594785 | C53: Global Fund | D53: 0 | E53: 0 | F53: 0 | G53: 0 | H53: =380*50 -> 19000 | I53: 0 | J53: Same | K53: EFM Lae-ETA 14.10.25 | L53: AROB Nets - New Arrivals
B54: TGHU 0676754 | C54: Global Fund | D54: 0 | E54: 0 | F54: 0 | G54: 0 | H54: =380*50 -> 19000 | I54: 0 | J54: Same | K54: EFM Lae-ETA 14.10.25 | L54: AROB Nets - New Arrivals
B55: TGHU 0906332 | C55: Global Fund | D55: 0 | E55: 0 | F55: 0 | G55: 0 | H55: =380*50 -> 19000 | I55: 0 | J55: Same | K55: EFM Lae-ETA 14.10.25 | L55: AROB Nets - New Arrivals
B56: TGHU 1201270 | C56: Global Fund | D56: 0 | E56: 0 | F56: 0 | G56: 0 | H56: =380*50 -> 19000 | I56: 0 | J56: Same | K56: EFM Lae-ETA 14.10.25 | L56: AROB Nets - New Arrivals
B57: TGHU 30901442 | C57: Global Fund | D57: 0 | E57: 0 | F57: 0 | G57: 0 | H57: =380*50 -> 19000 | I57: 0 | J57: Same | K57: EFM Lae-ETA 14.10.25 | L57: AROB Nets - New Arrivals
B58: TGHU 3903450 | C58: Global Fund | D58: 0 | E58: 0 | F58: 0 | G58: 0 | H58: =380*50 -> 19000 | I58: 0 | J58: Same | K58: EFM Lae-ETA 14.10.25 | L58: AROB Nets - New Arrivals
B59: TOTAL | D59: =SUM(D3:D33) -> 11100 | E59: 39300 | F59: 9240 | G59: =SUM(G4:G33) -> 56350 | H59: =SUM(H3:H58) -> 665000 | I59: 125050
B61: CURRENT STOCK | C61: MAGNETS HH DiSTributiON | D61: YAHE HH DISTRIBUTION | E61: ANC NETS FOR SDP | F61: YAHE NETS FOR ANC | G61: RAM ORIGIONAL NETS
B62: GFS POM | C62: 9240 | D62: 0 | E62: 39300 | F62: 25000 | G62: 11100
B63: EFM LAE | C63: 56350 | D63: 665000 | E63: 0 | F63: 100050 | G63: 0
B64: TOTALS | C64: =SUM(C62:C63) -> 65590 | D64: =SUM(D62:D63) -> 665000 | E64: =SUM(E62:E63) -> 39300 | F64: =SUM(F62:F63) -> 125050 | G64: =SUM(G62:G63) -> 11100
