Workbook

Sheet SUMMARY STOCK UPDATE
A1: SUMMARY - STOCK AND PROCUREMENT SUMMARY OF MEDICAL SUPPLIES BRANCH AND RAM/GF
A2: 20th of March 2026
A4: ITEM | B4: PACK SIZE | C4: STOCK ON HAND | G4: STOCK ON ORDER | K4: EXPECTED STOCK POSSIBLY IN THE NEXT SIX MONTHS | M4: EXPECTED DATES OF ARRIVAL
C5: QUANTITY | F5: IN MONTHS OF STOCK | G5: QUANTITY | J5: IN MONTHS OF STOCK | K5: QUANTITY | L5: IN MONTHS OF STOCK | M5: NDoH | N5: GF/RAM
C6: NDoH | D6: GF/RAM | E6: TOTAL | G6: NDoH | H6: GF/RAM | I6: TOTAL
A7: RDT, ACT, & PRIMAQUINE | K7: =E7+I7 -> 0
A8: ACT 6 TABS | B8: INDIVIDUAL TREATMENT COURSE | C8: ='ACT-RDT-PQ BY AMS'!C10 -> 144750 | D8: ='ACT-RDT-PQ BY AMS'!C11 -> 6450 | E8: ='ACT-RDT-PQ BY AMS'!C12 -> 151200 | F8: =E8/'ACT-RDT-PQ BY AMS'!AA17 -> 0.26682353 | G8: ='ACT-RDT-PQ BY AMS'!L10 -> 652980 | H8: ='ACT-RDT-PQ BY AMS'!L11 -> 294750 | I8: =G8+H8 -> 947730 | J8: =I8/'ACT-RDT-PQ BY AMS'!AA17 -> 1.6724647 | K8: =E8+I8 -> 1098930 | L8: =F8+J8 -> 1.9392882
A9: ACT 12 TABS | B9: INDIVIDUAL TREATMENT COURSE | C9: ='ACT-RDT-PQ BY AMS'!D10 -> 58920 | D9: ='ACT-RDT-PQ BY AMS'!D11 -> 87330 | E9: ='ACT-RDT-PQ BY AMS'!D12 -> 146250 | F9: =(E9*2)/'ACT-RDT-PQ BY AMS'!AA17 -> 0.51617647 | G9: ='ACT-RDT-PQ BY AMS'!M10 -> 486000 | H9: ='ACT-RDT-PQ BY AMS'!M11 -> 409740 | I9: =G9+H9 -> 895740 | J9: =(I9*2)/'ACT-RDT-PQ BY AMS'!AA17 -> 3.1614353 | K9: =E9+I9 -> 1041990 | L9: =F9+J9 -> 3.6776118
A10: ACT 18 TABS | B10: INDIVIDUAL TREATMENT COURSE | C10: ='ACT-RDT-PQ BY AMS'!E10 -> 57000 | D10: ='ACT-RDT-PQ BY AMS'!E11 -> 0 | E10: ='ACT-RDT-PQ BY AMS'!E12 -> 57000 | F10: =(E10*3)/'ACT-RDT-PQ BY AMS'!AA17 -> 0.30176471 | G10: ='ACT-RDT-PQ BY AMS'!N10 -> 294960 | H10: ='ACT-RDT-PQ BY AMS'!N11 -> 233880 | I10: =G10+H10 -> 528840 | J10: =(I10*3)/'ACT-RDT-PQ BY AMS'!AA17 -> 2.7997412 | K10: =E10+I10 -> 585840 | L10: =F10+J10 -> 3.1015059
A11: ACT 24 TABS | B11: INDIVIDUAL TREATMENT COURSE | C11: ='ACT-RDT-PQ BY AMS'!F10 -> 23400 | D11: ='ACT-RDT-PQ BY AMS'!F11 -> 16410 | E11: ='ACT-RDT-PQ BY AMS'!F12 -> 39810 | F11: =(E11*4)/'ACT-RDT-PQ BY AMS'!AA17 -> 0.28101176 | G11: ='ACT-RDT-PQ BY AMS'!O10 -> 303510 | H11: ='ACT-RDT-PQ BY AMS'!O11 -> 601410 | I11: =G11+H11 -> 904920 | J11: =(I11*4)/'ACT-RDT-PQ BY AMS'!AA17 -> 6.3876706 | K11: =E11+I11 -> 944730 | L11: =F11+J11 -> 6.6686824
A12: TOTAL ACTs | B12: INDIVIDUAL TREATMENT COURSE | C12: ='ACT-RDT-PQ BY AMS'!G10 -> 284070 | D12: ='ACT-RDT-PQ BY AMS'!G11 -> 110190 | E12: ='ACT-RDT-PQ BY AMS'!G12 -> 394260 | F12: ='ACT-RDT-PQ BY AMS'!C18 -> 1.3657765 | G12: ='ACT-RDT-PQ BY AMS'!P10 -> 1737450 | H12: ='ACT-RDT-PQ BY AMS'!P11 -> 1539780 | I12: ='ACT-RDT-PQ BY AMS'!P12 -> 3277230 | J12: ='ACT-RDT-PQ BY AMS'!L18 -> 14.021312 | K12: =E12+I12 -> 3671490 | L12: =F12+J12 -> 15.387088 | M12: 8 month stock expected. ETA: 30.03.26 | N12: 7 month stock expected; ETA: 5th May 2026
A13: PRIMAQUINE | B13: TABLET | C13: ='ACT-RDT-PQ BY AMS'!H10 -> 2056100 | D13: ='ACT-RDT-PQ BY AMS'!H11 -> 0 | E13: ='ACT-RDT-PQ BY AMS'!H12 -> 2056100 | F13: ='ACT-RDT-PQ BY AMS'!H18 -> 1.4774371 | G13: ='ACT-RDT-PQ BY AMS'!Q10 -> 9500400 | H13: ='ACT-RDT-PQ BY AMS'!Q11 -> 0 | I13: ='ACT-RDT-PQ BY AMS'!Q12 -> 9500400 | J13: =I13/'ACT-RDT-PQ BY AMS'!Z17 -> 6.8266347 | K13: =E13+I13 -> 11556500 | L13: =F13+J13 -> 8.3040719 | M13: 2 months stock expected ETA: 30.03.26
A14: RDT | B14: INDIVIDUAL TEST KIT | C14: ='ACT-RDT-PQ BY AMS'!B10 -> 716625 | D14: ='ACT-RDT-PQ BY AMS'!B11 -> 0 | E14: ='ACT-RDT-PQ BY AMS'!B12 -> 716625 | F14: ='ACT-RDT-PQ BY AMS'!B18 -> 2.149875 | G14: ='ACT-RDT-PQ BY AMS'!K10 -> 1313150 | H14: ='ACT-RDT-PQ BY AMS'!K11 -> 2000000 | I14: ='ACT-RDT-PQ BY AMS'!K12 -> 3313150 | J14: =I14/'ACT-RDT-PQ BY AMS'!T17 -> 9.93945 | K14: =E14+I14 -> 4029775 | L14: =F14+J14 -> 12.089325 | M14: 5 months stock expected ETA: 30.03.26 | N14: 6 month stock expected ETA: TBA
E15: 0
A16: OTHER ANTI-MALARIAL DRUGS | G16: 0.57638889
A17: SULPHADOXINE 500MG + PYRIMETHAMINE 25MG (SP) | B17: TABLET | C17: =' Other A.M.Drugs BY AMS'!B12 -> 0 | D17: =' Other A.M.Drugs BY AMS'!B11 -> 0 | E17: =D17+C17 -> 0 | G17: =' Other A.M.Drugs BY AMS'!M10 -> 624400 | H17: =' Other A.M.Drugs BY AMS'!M11 -> 0 | I17: =G17+H17 -> 624400 | K17: =E17+I17 -> 624400
A18: ARTEMETHER INJ. 80MG | B18: AMPOULE | C18: =' Other A.M.Drugs BY AMS'!C12 -> 55854 | D18: =' Other A.M.Drugs BY AMS'!B11 -> 0 | E18: =D18+C18 -> 55854 | G18: =' Other A.M.Drugs BY AMS'!N10 -> 27000 | H18: =' Other A.M.Drugs BY AMS'!N11 -> 0 | I18: =G18+H18 -> 27000 | K18: =E18+I18 -> 82854
A19: ARTEMETHER INJ. 40MG | B19: AMPOULE | C19: =' Other A.M.Drugs BY AMS'!D12 -> 19516 | D19: =' Other A.M.Drugs BY AMS'!B11 -> 0 | E19: =D19+C19 -> 19516 | G19: =' Other A.M.Drugs BY AMS'!O10 -> 16000 | H19: =' Other A.M.Drugs BY AMS'!O11 -> 0 | I19: =G19+H19 -> 16000 | K19: =E19+I19 -> 35516
A20: ARTESUNATE INJECTION 60MG | B20: VIAL | C20: =' Other A.M.Drugs BY AMS'!E12 -> 25418 | D20: =' Other A.M.Drugs BY AMS'!B11 -> 0 | E20: =D20+C20 -> 25418 | G20: =' Other A.M.Drugs BY AMS'!P10 -> 0 | H20: =' Other A.M.Drugs BY AMS'!P11 -> 0 | I20: =G20+H20 -> 0 | K20: =E20+I20 -> 25418
A21: QUININE INJ. 600 INJ. | B21: VIAL | C21: =' Other A.M.Drugs BY AMS'!F12 -> 1760 | D21: =' Other A.M.Drugs BY AMS'!B11 -> 0 | E21: =C21+D21 -> 1760 | G21: =' Other A.M.Drugs BY AMS'!Q10 -> 10000 | H21: =' Other A.M.Drugs BY AMS'!Q11 -> 0 | I21: =G21+H21 -> 10000 | K21: =E21+I21 -> 11760
A22: QUININE TAB 300MG | B22: TABLET | C22: =' Other A.M.Drugs BY AMS'!G12 -> 52200 | D22: =' Other A.M.Drugs BY AMS'!B11 -> 0 | E22: =D22+C22 -> 52200 | G22: =' Other A.M.Drugs BY AMS'!R10 -> 500000 | H22: =' Other A.M.Drugs BY AMS'!Q11 -> 0 | I22: =G22+H22 -> 500000 | K22: =E22+I22 -> 552200
A23: Dihydroartemisinin 40mg + Piperaquine 340mg Tab) | B23: TABLET | C23: =' Other A.M.Drugs BY AMS'!J12 -> 2433 | D23: =' Other A.M.Drugs BY AMS'!B11 -> 0 | E23: =D23+C23 -> 2433 | G23: =' Other A.M.Drugs BY AMS'!U10 -> 0 | H23: =' Other A.M.Drugs BY AMS'!Q11 -> 0 | I23: =G23+H23 -> 0 | K23: =E23+I23 -> 2433

Sheet ACT-RDT-PQ BY AMS
A1: ACTs, RDTs AND PRIMAQUINE - STOCK AND PROCUREMENT SUMMARY OF NDoH MEDICAL SUPPLIES BRANCH AND RAM
A3: STOCK ON HAND IN PNG AS OF 20TH OF MARCH 2026 | J3: RDTs and ACTS ON ORDER AS REFLECTED BY mSUPPLY and Global Fund | S3: Total Possibly Available In the Next Six Months
A4: AMS | B4: RDTS | C4: ACT 6 | D4: ACT 12 | E4: ACT 18 | F4: ACT 24 | G4: Total ACTs | H4: Primaquine Tablet | J4: AMS | K4: RDTS | L4: ACT 6 | M4: ACT 12 | N4: ACT 18 | O4: ACT 24 | P4: Total ACTs | Q4: Primaquine Tablet | S4: AMS | T4: RDTS | U4: ACT 6 | V4: ACT 12 | W4: ACT 18 | X4: ACT 24 | Y4: Total ACTs | Z4: Primaquine Tablet | AA4: ACT6s Equivalents
A5: Badili | B5: =77575-48225 -> 29350 | C5: 110670 | D5: 26580 | E5: =21600-4500 -> 17100 | F5: 16050 | G5: =C5+D5+E5+F5 -> 170400 | H5: 311900 | J5: Badili | K5: ='NDoH Outstanding Orders'!E26 -> 266825 | L5: ='NDoH Outstanding Orders'!F26 -> 150000 | M5: ='NDoH Outstanding Orders'!G26 -> 90000 | N5: ='NDoH Outstanding Orders'!H26 -> 92160 | O5: ='NDoH Outstanding Orders'!I26 -> 92160 | P5: =L5+M5+N5+O5 -> 424320 | Q5: ='NDoH Outstanding Orders'!K26 -> 2300000 | S5: Badili | T5: =B5+K5 -> 296175 | U5: =C5+L5 -> 260670 | V5: =D5+M5 -> 116580 | W5: =E5+N5 -> 109260 | X5: =F5+O5 -> 108210 | Y5: =G5+P5 -> 594720 | Z5: =H5+Q5 -> 2611900 | AA5: =U5+(V5*2)+(W5*3)+(X5*4) -> 1254450
A6: Hagen | B6: =7918*25 -> 197950 | C6: =83*30 -> 2490 | D6: =87*30 -> 2610 | E6: =941*30 -> 28230 | F6: =145*30 -> 4350 | G6: =C6+D6+E6+F6 -> 37680 | H6: =5690*100 -> 569000 | J6: Hagen | K6: ='NDoH Outstanding Orders'!E46 -> 125000 | L6: ='NDoH Outstanding Orders'!F46 -> 82800 | M6: ='NDoH Outstanding Orders'!G46 -> 60000 | N6: ='NDoH Outstanding Orders'!H46 -> 30000 | O6: ='NDoH Outstanding Orders'!I46 -> 52800 | P6: =L6+M6+N6+O6 -> 225600 | Q6: ='NDoH Outstanding Orders'!K46 -> 1200000 | S6: Hagen | T6: =B6+K6 -> 322950 | U6: =C6+L6 -> 85290 | V6: =D6+M6 -> 62610 | W6: =E6+N6 -> 58230 | X6: =F6+O6 -> 57150 | Y6: =G6+P6 -> 263280 | Z6: =H6+Q6 -> 1769000 | AA6: =U6+(V6*2)+(W6*3)+(X6*4) -> 613800
A7: Kokopo | B7: =1986*25 -> 49650 | C7: =183*30 -> 5490 | D7: =83*30 -> 2490 | E7: =133*30 -> 3990 | F7: 0 | G7: =C7+D7+E7+F7 -> 11970 | H7: 0 | J7: Kokopo | K7: ='NDoH Outstanding Orders'!E62 -> 412500 | L7: ='NDoH Outstanding Orders'!F62 -> 60000 | M7: ='NDoH Outstanding Orders'!G62 -> 60000 | N7: ='NDoH Outstanding Orders'!H62 -> 30000 | O7: ='NDoH Outstanding Orders'!I62 -> 30030 | P7: =L7+M7+N7+O7 -> 180030 | Q7: ='NDoH Outstanding Orders'!K62 -> 1200400 | S7: Kokopo | T7: =B7+K7 -> 462150 | U7: =C7+L7 -> 65490 | V7: =D7+M7 -> 62490 | W7: =E7+N7 -> 33990 | X7: =F7+O7 -> 30030 | Y7: =G7+P7 -> 192000 | Z7: =H7+Q7 -> 1200400 | AA7: =U7+(V7*2)+(W7*3)+(X7*4) -> 412560
A8: Lae | B8: =7340*25 -> 183500 | C8: =860*30 -> 25800 | D8: =908*30 -> 27240 | E8: 3000 | F8: 3000 | G8: =C8+D8+E8+F8 -> 59040 | H8: =(5000+500+2465+1500)*100 -> 946500 | J8: Lae | K8: ='NDoH Outstanding Orders'!E80 -> 225000 | L8: ='NDoH Outstanding Orders'!F80 -> 255000 | M8: ='NDoH Outstanding Orders'!G80 -> 186000 | N8: ='NDoH Outstanding Orders'!H80 -> 60000 | O8: ='NDoH Outstanding Orders'!I80 -> 60000 | P8: =L8+M8+N8+O8 -> 561000 | Q8: ='NDoH Outstanding Orders'!K80 -> 2200000 | S8: Lae | T8: =B8+K8 -> 408500 | U8: =C8+L8 -> 280800 | V8: =D8+M8 -> 213240 | W8: =E8+N8 -> 63000 | X8: =F8+O8 -> 63000 | Y8: =G8+P8 -> 620040 | Z8: 80000 | AA8: =U8+(V8*2)+(W8*3)+(X8*4) -> 1148280
A9: Wewak | B9: =(1600+1600+1042+1600+155+1600+1600+1050)*25 -> 256175 | C9: =10*30 -> 300 | D9: 0 | E9: =156*30 -> 4680 | F9: 0 | G9: =C9+D9+E9+F9 -> 4980 | H9: =2287*100 -> 228700 | J9: Wewak | K9: ='NDoH Outstanding Orders'!E101 -> 283825 | L9: ='NDoH Outstanding Orders'!F101 -> 105180 | M9: ='NDoH Outstanding Orders'!G101 -> 90000 | N9: ='NDoH Outstanding Orders'!H101 -> 82800 | O9: ='NDoH Outstanding Orders'!I101 -> 68520 | P9: =L9+M9+N9+O9 -> 346500 | Q9: ='NDoH Outstanding Orders'!K101 -> 2600000 | S9: Wewak | T9: =B9+K9 -> 540000 | U9: =C9+L9 -> 105480 | V9: =D9+M9 -> 90000 | W9: =E9+N9 -> 87480 | X9: =F9+O9 -> 68520 | Y9: =G9+P9 -> 351480 | Z9: =H9+Q9 -> 2828700 | AA9: =U9+(V9*2)+(W9*3)+(X9*4) -> 822000
A10: Total NDoH | B10: =SUM(B5:B9) -> 716625 | C10: =SUM(C5:C9) -> 144750 | D10: =SUM(D5:D9) -> 58920 | E10: =SUM(E5:E9) -> 57000 | F10: =SUM(F5:F9) -> 23400 | G10: =SUM(G5:G9) -> 284070 | H10: =SUM(H5:H9) -> 2056100 | J10: Total NDoH | K10: =SUM(K5:K9) -> 1313150 | L10: =SUM(L5:L9) -> 652980 | M10: =SUM(M5:M9) -> 486000 | N10: =SUM(N5:N9) -> 294960 | O10: =SUM(O5:O9) -> 303510 | P10: =L10+M10+N10+O10 -> 1737450 | Q10: =SUM(Q5:Q9) -> 9500400 | S10: Total NDoH | T10: =B10+K10 -> 2029775 | U10: =C10+L10 -> 797730 | V10: =D10+M10 -> 544920 | W10: =E10+N10 -> 351960 | X10: =F10+O10 -> 326910 | Y10: =G10+P10 -> 2021520 | Z10: =H10+Q10 -> 11556500 | AA10: =U10+(V10*2)+(W10*3)+(X10*4) -> 4251090
A11: RAM/GF | B11: 0 | C11: =10140-3690 -> 6450 | D11: =92400-5070 -> 87330 | E11: 0 | F11: =27510-11100 -> 16410 | G11: =C11+D11+E11+F11 -> 110190 | H11: 0 | J11: RAM/GF | K11: ='RAM-GF_PROC.-2021 REQ.ACT-RDT'!D34 -> 2000000 | L11: ='RAM-GF_PROC.-2021 REQ.ACT-RDT'!E33 -> 294750 | M11: ='RAM-GF_PROC.-2021 REQ.ACT-RDT'!F33 -> 409740 | N11: ='RAM-GF_PROC.-2021 REQ.ACT-RDT'!G33 -> 233880 | O11: ='RAM-GF_PROC.-2021 REQ.ACT-RDT'!H33 -> 601410 | P11: =L11+M11+N11+O11 -> 1539780 | Q11: ='RAM-GF_PROC.-2021 REQ.ACT-RDT'!J21 -> 0 | S11: RAM | T11: =B11+K11 -> 2000000 | U11: =C11+L11 -> 301200 | V11: =D11+M11 -> 497070 | W11: =E11+N11 -> 233880 | X11: =F11+O11 -> 617820 | Y11: =G11+P11 -> 1649970 | Z11: =H11+Q11 -> 0 | AA11: =U11+(V11*2)+(W11*3)+(X11*4) -> 4468260
A12: Total | B12: =B11+B10 -> 716625 | C12: =C11+C10 -> 151200 | D12: =D11+D10 -> 146250 | E12: =E11+E10 -> 57000 | F12: =F11+F10 -> 39810 | G12: =G11+G10 -> 394260 | H12: =(H11+H10) -> 2056100 | J12: Total | K12: =K11+K10 -> 3313150 | L12: =L11+L10 -> 947730 | M12: =M11+M10 -> 895740 | N12: =N11+N10 -> 528840 | O12: =O11+O10 -> 904920 | P12: =L12+M12+N12+O12 -> 3277230 | Q12: =Q11+Q10 -> 9500400 | S12: Total | T12: =B12+K12 -> 4029775 | U12: =C12+L12 -> 1098930 | V12: =D12+M12 -> 1041990 | W12: =E12+N12 -> 585840 | X12: =F12+O12 -> 944730 | Y12: =G12+P12 -> 3671490 | Z12: =H12+Q12 -> 11556500 | AA12: =U12+(V12*2)+(W12*3)+(X12*4) -> 8719350
T13: =T12/T17 -> 12.089325 | Z13: =Z12/Z17 -> 8.3040719 | AA13: =AA12/AA17 -> 15.387088
C15: MONTHS OF STOCK ON HAND | L15: MONTHS OF STOCK ON ORDER
B16: RDT | C16: ACT (Total ACT 6 Equivalence) | H16: PQ | K16: RDT | L16: ACT (Total ACT 6 Equivalence) | Q16: PQ | S16: Estimated Annual Consumption | T16: 4000000 | Z16: 16700000 | AA16: 6800000
A17: TOTAL QTY | B17: =B12 -> 716625 | C17: =(C12)+(D12*2)+(E12*3)+(F12*4) -> 773940 | H17: =H12 -> 2056100 | J17: TOTAL QTY | K17: =K12 -> 3313150 | L17: =(L12)+(M12*2)+(N12*3)+(O12*4) -> 7945410 | Q17: =Q12 -> 9500400 | S17: Estimated Monthly Consumptioin | T17: =T16/12 -> 333333.33 | Z17: =Z16/12 -> 1391666.7 | AA17: =AA16/12 -> 566666.67
A18: EQUIVALENCE IN MONTHS OF STOCK | B18: =B17/T17 -> 2.149875 | C18: =C17/AA17 -> 1.3657765 | H18: =H17/Z17 -> 1.4774371 | J18: EQUIVALENCE IN MONTHS OF STOCK | K18: =K17/T17 -> 9.93945 | L18: =L17/AA17 -> 14.021312 | Q18: =Q17/Z17 -> 6.8266347 | S18: Thresholds For New Orders | T18: =T17*10 -> 3333333.3 | Z18: =Z17*10 -> 13916667 | AA18: =AA17*10 -> 5666666.7
A19: NDoH | B19: =B10/T17 -> 2.149875 | C19: =(C10+(D10*2)+(E10*3)+(F10*4))/AA17 -> 0.93033529 | H19: =H10/Z17 -> 1.4774371 | J19: NDoH | K19: =K10/T17 -> 3.93945 | L19: =(L10+(M10*2)+(N10*3)+(O10*4))/AA17 -> 6.5715882 | Q19: =Q10/Z17 -> 6.8266347
A20: RAM/GF | B20: =B11/T17 -> 0 | C20: =(C11+(D11*2)+(E11*3)+(F11*4))/AA17 -> 0.43544118 | H20: =H11/Z17 -> 0 | J20: RAM/GF | K20: =K11/T17 -> 6 | L20: =(L11+(M11*2)+(N11*3)+(O11*4))/AA17 -> 7.4497235 | Q20: 0
A22: Actual Ratio of ACTs | C22: =C12/$G12*100 -> 38.350327 | D22: =D12/$G12*100 -> 37.094811 | E22: =E12/$G12*100 -> 14.457465 | F22: =F12/$G12*100 -> 10.097398
A23: Desired Ratio of ACTs | C23: 14.637358 | D23: 26.487692 | E23: 16.729454 | F23: 42.145496
A26: PREVIOUS UPDATE
A27: STOCK ON HAND IN PNG AS OF 6TH OF MARCH 2026 | J27: RDTs and ACTS ON ORDER AS REFLECTED BY mSUPPLY and Global Fund | S27: Total Possibly Available In the Next Six Months
A28: AMS | B28: RDTS | C28: ACT 6 | D28: ACT 12 | E28: ACT 18 | F28: ACT 24 | G28: Total ACTs | H28: Primaquine Tablet | J28: AMS | K28: RDTS | L28: ACT 6 | M28: ACT 12 | N28: ACT 18 | O28: ACT 24 | P28: Total ACTs | Q28: Primaquine Tablet | S28: AMS | T28: RDTS | U28: ACT 6 | V28: ACT 12 | W28: ACT 18 | X28: ACT 24 | Y28: Total ACTs | Z28: Primaquine Tablet | AA28: ACT6s Equivalents
A29: Badili | B29: 77575 | C29: 110670 | D29: 26580 | E29: 21600 | F29: 16050 | G29: =C29+D29+E29+F29 -> 174900 | H29: 311900 | J29: Badili | K29: 266825 | L29: 150000 | M29: 90000 | N29: 92160 | O29: 92160 | P29: =L29+M29+N29+O29 -> 424320 | Q29: 2900000 | S29: Badili | T29: =B29+K29 -> 344400 | U29: =C29+L29 -> 260670 | V29: =D29+M29 -> 116580 | W29: =E29+N29 -> 113760 | X29: =F29+O29 -> 108210 | Y29: =G29+P29 -> 599220 | Z29: =H29+Q29 -> 3211900 | AA29: =U29+(V29*2)+(W29*3)+(X29*4) -> 1267950
A30: Hagen | B30: =7918*25 -> 197950 | C30: =83*30 -> 2490 | D30: =87*30 -> 2610 | E30: =941*30 -> 28230 | F30: =145*30 -> 4350 | G30: =C30+D30+E30+F30 -> 37680 | H30: =5690*100 -> 569000 | J30: Hagen | K30: 125000 | L30: 82800 | M30: 60000 | N30: 30000 | O30: 52800 | P30: =L30+M30+N30+O30 -> 225600 | Q30: 1200000 | S30: Hagen | T30: =B30+K30 -> 322950 | U30: =C30+L30 -> 85290 | V30: =D30+M30 -> 62610 | W30: =E30+N30 -> 58230 | X30: =F30+O30 -> 57150 | Y30: =G30+P30 -> 263280 | Z30: =H30+Q30 -> 1769000 | AA30: =U30+(V30*2)+(W30*3)+(X30*4) -> 613800
A31: Kokopo | B31: =1986*25 -> 49650 | C31: =183*30 -> 5490 | D31: =83*30 -> 2490 | E31: =133*30 -> 3990 | F31: 0 | G31: =C31+D31+E31+F31 -> 11970 | H31: 0 | J31: Kokopo | K31: 412500 | L31: 60000 | M31: 60000 | N31: 30000 | O31: 30030 | P31: =L31+M31+N31+O31 -> 180030 | Q31: 1200400 | S31: Kokopo | T31: =B31+K31 -> 462150 | U31: =C31+L31 -> 65490 | V31: =D31+M31 -> 62490 | W31: =E31+N31 -> 33990 | X31: =F31+O31 -> 30030 | Y31: =G31+P31 -> 192000 | Z31: =H31+Q31 -> 1200400 | AA31: =U31+(V31*2)+(W31*3)+(X31*4) -> 412560
A32: Lae | B32: =7340*25 -> 183500 | C32: =860*30 -> 25800 | D32: =908*30 -> 27240 | E32: 3000 | F32: 3000 | G32: =C32+D32+E32+F32 -> 59040 | H32: =(5000+500+2465+1500)*100 -> 946500 | J32: Lae | K32: 225000 | L32: 255000 | M32: 186000 | N32: 82800 | O32: 82800 | P32: =L32+M32+N32+O32 -> 606600 | Q32: 2200000 | S32: Lae | T32: =B32+K32 -> 408500 | U32: =C32+L32 -> 280800 | V32: =D32+M32 -> 213240 | W32: =E32+N32 -> 85800 | X32: =F32+O32 -> 85800 | Y32: =G32+P32 -> 665640 | Z32: 80000 | AA32: =U32+(V32*2)+(W32*3)+(X32*4) -> 1307880
A33: Wewak | B33: =(1600+1600+1042+1600+155+1600+1600+1050)*25 -> 256175 | C33: =10*30 -> 300 | D33: 0 | E33: =156*30 -> 4680 | F33: 0 | G33: =C33+D33+E33+F33 -> 4980 | H33: =2287*100 -> 228700 | J33: Wewak | K33: 283825 | L33: 105180 | M33: 90000 | N33: 82800 | O33: 68520 | P33: =L33+M33+N33+O33 -> 346500 | Q33: 2600000 | S33: Wewak | T33: =B33+K33 -> 540000 | U33: =C33+L33 -> 105480 | V33: =D33+M33 -> 90000 | W33: =E33+N33 -> 87480 | X33: =F33+O33 -> 68520 | Y33: =G33+P33 -> 351480 | Z33: =H33+Q33 -> 2828700 | AA33: =U33+(V33*2)+(W33*3)+(X33*4) -> 822000
A34: Total NDoH | B34: =SUM(B29:B33) -> 764850 | C34: =SUM(C29:C33) -> 144750 | D34: =SUM(D29:D33) -> 58920 | E34: =SUM(E29:E33) -> 61500 | F34: =SUM(F29:F33) -> 23400 | G34: =SUM(G29:G33) -> 288570 | H34: =SUM(H29:H33) -> 2056100 | J34: Total NDoH | K34: =SUM(K29:K33) -> 1313150 | L34: =SUM(L29:L33) -> 652980 | M34: =SUM(M29:M33) -> 486000 | N34: =SUM(N29:N33) -> 317760 | O34: =SUM(O29:O33) -> 326310 | P34: =L34+M34+N34+O34 -> 1783050 | Q34: =SUM(Q29:Q33) -> 10100400 | S34: Total NDoH | T34: =B34+K34 -> 2078000 | U34: =C34+L34 -> 797730 | V34: =D34+M34 -> 544920 | W34: =E34+N34 -> 379260 | X34: =F34+O34 -> 349710 | Y34: =G34+P34 -> 2071620 | Z34: =H34+Q34 -> 12156500 | AA34: =U34+(V34*2)+(W34*3)+(X34*4) -> 4424190
A35: RAM/GF | B35: 0 | C35: 10140 | D35: 92400 | E35: 0 | F35: 27510 | G35: =C35+D35+E35+F35 -> 130050 | H35: 0 | J35: RAM/GF | K35: 2000000 | L35: 294750 | M35: 409740 | N35: 233880 | O35: 601410 | P35: =L35+M35+N35+O35 -> 1539780 | Q35: 0 | S35: RAM | T35: =B35+K35 -> 2000000 | U35: =C35+L35 -> 304890 | V35: =D35+M35 -> 502140 | W35: =E35+N35 -> 233880 | X35: =F35+O35 -> 628920 | Y35: =G35+P35 -> 1669830 | Z35: =H35+Q35 -> 0 | AA35: =U35+(V35*2)+(W35*3)+(X35*4) -> 4526490
A36: Total | B36: =B35+B34 -> 764850 | C36: =C35+C34 -> 154890 | D36: =D35+D34 -> 151320 | E36: =E35+E34 -> 61500 | F36: =F35+F34 -> 50910 | G36: =G35+G34 -> 418620 | H36: =(H35+H34) -> 2056100 | J36: Total | K36: =K35+K34 -> 3313150 | L36: =L35+L34 -> 947730 | M36: =M35+M34 -> 895740 | N36: =N35+N34 -> 551640 | O36: =O35+O34 -> 927720 | P36: =L36+M36+N36+O36 -> 3322830 | Q36: =Q35+Q34 -> 10100400 | S36: Total | T36: =B36+K36 -> 4078000 | U36: =C36+L36 -> 1102620 | V36: =D36+M36 -> 1047060 | W36: =E36+N36 -> 613140 | X36: =F36+O36 -> 978630 | Y36: =G36+P36 -> 3741450 | Z36: =H36+Q36 -> 12156500 | AA36: =U36+(V36*2)+(W36*3)+(X36*4) -> 8950680
T37: =T36/T40 -> 12.234 | Z37: =Z36/Z40 -> 8.7352096 | AA37: =AA36/AA40 -> 15.795318
C38: MONTHS OF STOCK ON HAND | L38: MONTHS OF STOCK ON ORDER
B39: RDT | C39: ACT (Total ACT 6 Equivalence) | H39: PQ | K39: RDT | L39: ACT (Total ACT 6 Equivalence) | Q39: PQ | S39: Estimated Annual Consumption | T39: 4000000 | Z39: 16700000 | AA39: 6800000
A40: TOTAL QTY | B40: =B36 -> 764850 | C40: =(C36)+(D36*2)+(E36*3)+(F36*4) -> 845670 | H40: =H36 -> 2056100 | J40: TOTAL QTY | K40: =K36 -> 3313150 | L40: =(L36)+(M36*2)+(N36*3)+(O36*4) -> 8105010 | Q40: =Q36 -> 10100400 | S40: Estimated Monthly Consumptioin | T40: =T39/12 -> 333333.33 | Z40: =Z39/12 -> 1391666.7 | AA40: =AA39/12 -> 566666.67 | AC40: =Z40*3 -> 4175000
A41: EQUIVALENCE IN MONTHS OF STOCK | B41: =B40/T40 -> 2.29455 | C41: =C40/AA40 -> 1.4923588 | H41: =H40/Z40 -> 1.4774371 | J41: EQUIVALENCE IN MONTHS OF STOCK | K41: =K40/T40 -> 9.93945 | L41: =L40/AA40 -> 14.302959 | Q41: =Q40/Z40 -> 7.2577725 | S41: Thresholds For New Orders | T41: =T40*10 -> 3333333.3 | Z41: =Z40*10 -> 13916667 | AA41: =AA40*10 -> 5666666.7 | AC41: =AA40*3 -> 1700000
A42: NDoH | B42: =B34/T40 -> 2.29455 | C42: =(C34+(D34*2)+(E34*3)+(F34*4))/AA40 -> 0.95415882 | H42: =H34/Z40 -> 1.4774371 | J42: NDoH | K42: =K34/T40 -> 3.93945 | L42: =(L34+(M34*2)+(N34*3)+(O34*4))/AA40 -> 6.8532353 | Q42: =Q34/Z40 -> 7.2577725
A43: RAM/GF | B43: =B35/T40 -> 0 | C43: =(C35+(D35*2)+(E35*3)+(F35*4))/AA40 -> 0.5382 | H43: =H35/Z40 -> 0 | J43: RAM/GF | K43: =K35/T40 -> 6 | L43: =(L35+(M35*2)+(N35*3)+(O35*4))/AA40 -> 7.4497235 | Q43: =Q35/Z40 -> 0
A45: Actual Ratio of ACTs | C45: 13.188685 | D45: 27.071592 | E45: 19.779842 | F45: 39.959881
A46: Desired Ratio of ACTs | C46: 14.637358 | D46: 26.487692 | E46: 16.729454 | F46: 42.145496

Sheet  Other A.M.Drugs BY AMS
A1: OTHER ANTIMALARIALS - STOCK AND PROCUREMENT SUMMARY OF NDoH MEDICAL SUPPLIES BRANCH
A3: STOCK ON HAND IN PNG AS OF 20TH OF MARCH 2026 | L3: ON ORDER AS REFLECTED BY mSUPPLY | W3: Total Possibly Available In The Next Six Months
A4: AMS | B4: SP (Sulphadoxine 500mg + Pyrimethamine 25mg Tab) | C4: Artemether Injection 80mg/ml (Amp) | D4: Artemether Injection 40mg/ml (Amp) | E4: Artesunate Injection 60mg Vial | F4: Quinine Injection 600mg Vial | G4: Quinine 300mg Tablet | H4: ARTESUNATE SUPPOSITORY (200MG) | I4: ARTESUNATE SUPPOSITORY (50MG) | J4: DP (Dihydroartemisinin 40mg + Piperaquine 340mg Tab) | L4: AMS | M4: SP (Sulphadoxine 500mg + Pyrimethamine 25mg Tab) | N4: Artemether Injection 80mg/ml (Amp) | O4: Artemether Injection 40mg/ml (Amp) | P4: Artesunate Injection 60mg Vial | Q4: Quinine Injection 600mg Vial | R4: Quinine 300mg Tablet | S4: ARTESUNATE SUPPOSITORY (200MG) | T4: ARTESUNATE SUPPOSITORY (50MG) | U4: DP (Dihydroartemisinin 40mg + Piperaquine 340mg Tab) | X4: SP (Sulphadoxine 500mg + Pyrimethamine 25mg Tab) | Y4: Artemether Injection 80mg/ml (Amp) | Z4: Artemether Injection 40mg/ml (Amp) | AA4: Artesunate Injection 60mg Vial | AB4: Quinine Injection 600mg Vial | AC4: Quinine 300mg Tablet | AD4: DP (Dihydroartemisinin 40mg + Piperaquine 340mg Tab)
A5: Badili | B5: 0 | C5: 10000 | D5: 0 | E5: 17205 | F5: 1760 | G5: 0 | H5: 0 | I5: 0 | J5: 1509 | L5: Badili | M5: ='NDoH Outstanding Orders'!L26 -> 150000 | N5: ='NDoH Outstanding Orders'!M26 -> 0 | O5: ='NDoH Outstanding Orders'!N26 -> 0 | P5: ='NDoH Outstanding Orders'!O26 -> 0 | Q5: ='NDoH Outstanding Orders'!P26 -> 4000 | R5: ='NDoH Outstanding Orders'!Q26 -> 100000 | S5: ='NDoH Outstanding Orders'!R26 -> 0 | T5: ='NDoH Outstanding Orders'!S26 -> 0 | U5: ='NDoH Outstanding Orders'!T26 -> 0 | W5: Badili | X5: =B5+M5 -> 150000 | Y5: =C5+N5 -> 10000 | Z5: =D5+O5 -> 0 | AA5: =E5+P5 -> 17205 | AB5: =F5+Q5 -> 5760 | AC5: =G5+R5 -> 100000 | AD5: =J5+U5 -> 1509
A6: Hagen | B6: 0 | C6: 2200 | D6: 0 | E6: 5130 | F6: 0 | G6: 2000 | H6: 0 | I6: 0 | J6: 0 | L6: Hagen | M6: ='NDoH Outstanding Orders'!L46 -> 124400 | N6: ='NDoH Outstanding Orders'!M46 -> 20000 | O6: ='NDoH Outstanding Orders'!N46 -> 4000 | P6: ='NDoH Outstanding Orders'!O46 -> 0 | Q6: ='NDoH Outstanding Orders'!P46 -> 1000 | R6: ='NDoH Outstanding Orders'!Q46 -> 100000 | S6: ='NDoH Outstanding Orders'!R46 -> 0 | T6: ='NDoH Outstanding Orders'!S46 -> 0 | U6: ='NDoH Outstanding Orders'!T46 -> 0 | W6: Hagen | X6: =B6+M6 -> 124400 | Y6: =C6+N6 -> 22200 | Z6: =D6+O6 -> 4000 | AA6: =E6+P6 -> 5130 | AB6: =F6+Q6 -> 1000 | AC6: =G6+R6 -> 102000 | AD6: =J6+U6 -> 0
A7: Kokopo | B7: 0 | C7: 1070 | D7: 4480 | E7: 0 | F7: =22-22 -> 0 | G7: 0 | H7: 0 | I7: 0 | J7: 0 | L7: Kokopo | M7: ='NDoH Outstanding Orders'!L62 -> 100000 | N7: ='NDoH Outstanding Orders'!M62 -> 2000 | O7: ='NDoH Outstanding Orders'!N62 -> 0 | P7: ='NDoH Outstanding Orders'!O62 -> 0 | Q7: ='NDoH Outstanding Orders'!P62 -> 1500 | R7: ='NDoH Outstanding Orders'!Q62 -> 100000 | S7: ='NDoH Outstanding Orders'!R62 -> 0 | T7: ='NDoH Outstanding Orders'!S62 -> 0 | U7: ='NDoH Outstanding Orders'!T62 -> 0 | W7: Kokopo | X7: =B7+M7 -> 100000 | Y7: =C7+N7 -> 3070 | Z7: =D7+O7 -> 4480 | AA7: =E7+P7 -> 0 | AB7: =F7+Q7 -> 1500 | AC7: =G7+R7 -> 100000 | AD7: =J7+U7 -> 0
A8: Lae | B8: 0 | C8: 380 | D8: 690 | E8: 0 | F8: 0 | G8: 0 | H8: 0 | I8: 0 | J8: 0 | L8: Lae | M8: ='NDoH Outstanding Orders'!L80 -> 150000 | N8: ='NDoH Outstanding Orders'!M80 -> 0 | O8: ='NDoH Outstanding Orders'!N80 -> 7000 | P8: ='NDoH Outstanding Orders'!O80 -> 0 | Q8: ='NDoH Outstanding Orders'!P80 -> 2000 | R8: ='NDoH Outstanding Orders'!Q80 -> 100000 | S8: ='NDoH Outstanding Orders'!R80 -> 0 | T8: ='NDoH Outstanding Orders'!S80 -> 0 | U8: ='NDoH Outstanding Orders'!T80 -> 0 | W8: Lae | X8: =B8+M8 -> 150000 | Y8: =C8+N8 -> 380 | Z8: =D8+O8 -> 7690 | AA8: =E8+P8 -> 0 | AB8: =F8+Q8 -> 2000 | AC8: =G8+R8 -> 100000 | AD8: =J8+U8 -> 0
A9: Wewak | B9: 0 | C9: 42204 | D9: 14346 | E9: 3083 | F9: 0 | G9: 50200 | H9: 0 | I9: 22 | J9: 924 | L9: Wewak | M9: ='NDoH Outstanding Orders'!L101 -> 100000 | N9: ='NDoH Outstanding Orders'!M101 -> 5000 | O9: ='NDoH Outstanding Orders'!N101 -> 5000 | P9: ='NDoH Outstanding Orders'!O101 -> 0 | Q9: ='NDoH Outstanding Orders'!P101 -> 1500 | R9: ='NDoH Outstanding Orders'!Q101 -> 100000 | S9: ='NDoH Outstanding Orders'!R101 -> 0 | T9: ='NDoH Outstanding Orders'!S101 -> 0 | U9: ='NDoH Outstanding Orders'!T101 -> 0 | W9: Wewak | X9: =B9+M9 -> 100000 | Y9: =C9+N9 -> 47204 | Z9: =D9+O9 -> 19346 | AA9: =E9+P9 -> 3083 | AB9: =F9+Q9 -> 1500 | AC9: =G9+R9 -> 150200 | AD9: =J9+U9 -> 924
A10: Total NDoH | B10: =SUM(B5:B9) -> 0 | C10: =SUM(C5:C9) -> 55854 | D10: =SUM(D5:D9) -> 19516 | E10: =SUM(E5:E9) -> 25418 | F10: =SUM(F5:F9) -> 1760 | G10: =SUM(G5:G9) -> 52200 | H10: 0 | I10: 0 | J10: =SUM(J5:J9) -> 2433 | L10: Total NDoH | M10: =SUM(M5:M9) -> 624400 | N10: =SUM(N5:N9) -> 27000 | O10: =SUM(O5:O9) -> 16000 | P10: =SUM(P5:P9) -> 0 | Q10: =SUM(Q5:Q9) -> 10000 | R10: =SUM(R5:R9) -> 500000 | S10: =SUM(S5:S9) -> 0 | T10: =SUM(T5:T9) -> 0 | U10: =SUM(U5:U9) -> 0 | W10: Total NDoH | X10: =B10+M10 -> 624400 | Y10: =C10+N10 -> 82854 | Z10: =D10+O10 -> 35516 | AA10: =E10+P10 -> 25418 | AB10: =F10+Q10 -> 11760 | AC10: =G10+R10 -> 552200 | AD10: =J10+U10 -> 2433
A11: RAM | B11: 0 | C11: 0 | D11: 0 | E11: 0 | F11: 0 | G11: 0 | H11: 0 | I11: 0 | J11: 0 | L11: RAM | M11: 0 | N11: 0 | O11: 0 | P11: 0 | Q11: 0 | R11: 0 | S11: 0 | T11: 0 | U11: 0 | W11: RAM | X11: =B11+M11 -> 0 | Y11: =C11+N11 -> 0 | Z11: =D11+O11 -> 0 | AA11: =E11+P11 -> 0 | AB11: =F11+Q11 -> 0 | AC11: =G11+R11 -> 0 | AD11: =H11+S11 -> 0
A12: Total | B12: =B11+B10 -> 0 | C12: =C11+C10 -> 55854 | D12: =D11+D10 -> 19516 | E12: =E11+E10 -> 25418 | F12: =F11+F10 -> 1760 | G12: =G11+G10 -> 52200 | H12: =H11+H10 -> 0 | I12: =I11+I10 -> 0 | J12: =J11+J10 -> 2433 | L12: Total | M12: =M10+M11 -> 624400 | N12: =N10+N11 -> 27000 | O12: =O10+O11 -> 16000 | P12: =P10+P11 -> 0 | Q12: =Q10+Q11 -> 10000 | R12: =R10+R11 -> 500000 | S12: =S10+S11 -> 0 | T12: =T10+T11 -> 0 | U12: =U10+U11 -> 0 | W12: Total | X12: =X10+X11 -> 624400 | Y12: =Y10+Y11 -> 82854 | Z12: =Z10+Z11 -> 35516 | AA12: =AA10+AA11 -> 25418 | AB12: =AB10+AB11 -> 11760 | AC12: =AC10+AC11 -> 552200 | AD12: =AD10+AD11 -> 2433
A16: PREVIOUS UPDATE
A17: STOCK ON HAND IN PNG AS OF 6TH of MARCH 2026 | L17: ON ORDER AS REFLECTED BY mSUPPLY | W17: Total Possibly Available In The Next Six Months
A18: AMS | B18: SP (Sulphadoxine 500mg + Pyrimethamine 25mg Tab) | C18: Artemether Injection 80mg/ml (Amp) | D18: Artemether Injection 40mg/ml (Amp) | E18: Artesunate Injection 60mg Vial | F18: Quinine Injection 600mg Vial | G18: Quinine 300mg Tablet | H18: ARTESUNATE SUPPOSITORY (200MG) | I18: ARTESUNATE SUPPOSITORY (50MG) | J18: DP (Dihydroartemisinin 40mg + Piperaquine 340mg Tab) | L18: AMS | M18: SP (Sulphadoxine 500mg + Pyrimethamine 25mg Tab) | N18: Artemether Injection 80mg/ml (Amp) | O18: Artemether Injection 40mg/ml (Amp) | P18: Artesunate Injection 60mg Vial | Q18: Quinine Injection 600mg Vial | R18: Quinine 300mg Tablet | S18: ARTESUNATE SUPPOSITORY (200MG) | T18: ARTESUNATE SUPPOSITORY (50MG) | U18: DP (Dihydroartemisinin 40mg + Piperaquine 340mg Tab) | X18: SP (Sulphadoxine 500mg + Pyrimethamine 25mg Tab) | Y18: Artemether Injection 80mg/ml (Amp) | Z18: Artemether Injection 40mg/ml (Amp) | AA18: Artesunate Injection 60mg Vial | AB18: Quinine Injection 600mg Vial | AC18: Quinine 300mg Tablet | AD18: DP (Dihydroartemisinin 40mg + Piperaquine 340mg Tab)
A19: Badili | B19: 0 | C19: 10000 | D19: 0 | E19: 17205 | F19: 1760 | G19: 0 | H19: 0 | I19: 0 | J19: 1509 | L19: Badili | M19: 150000 | N19: 0 | O19: 0 | P19: 0 | Q19: 4000 | R19: 100000 | S19: 0 | T19: 0 | U19: 0 | W19: Badili | X19: =B19+M19 -> 150000 | Y19: =C19+N19 -> 10000 | Z19: =D19+O19 -> 0 | AA19: =E19+P19 -> 17205 | AB19: =F19+Q19 -> 5760 | AC19: =G19+R19 -> 100000 | AD19: =J19+U19 -> 1509
A20: Hagen | B20: 0 | C20: 2200 | D20: 0 | E20: 5130 | F20: 0 | G20: 2000 | H20: 0 | I20: 0 | J20: 0 | L20: Hagen | M20: 124400 | N20: 20000 | O20: 4000 | P20: 0 | Q20: 1000 | R20: 100000 | S20: 0 | T20: 0 | U20: 0 | W20: Hagen | X20: =B20+M20 -> 124400 | Y20: =C20+N20 -> 22200 | Z20: =D20+O20 -> 4000 | AA20: =E20+P20 -> 5130 | AB20: =F20+Q20 -> 1000 | AC20: =G20+R20 -> 102000 | AD20: =J20+U20 -> 0
A21: Kokopo | B21: 0 | C21: 1070 | D21: 4480 | E21: 0 | F21: =22-22 -> 0 | G21: 0 | H21: 0 | I21: 0 | J21: 0 | L21: Kokopo | M21: 100000 | N21: 2000 | O21: 5000 | P21: 0 | Q21: 1500 | R21: 100000 | S21: 0 | T21: 0 | U21: 0 | W21: Kokopo | X21: =B21+M21 -> 100000 | Y21: =C21+N21 -> 3070 | Z21: =D21+O21 -> 9480 | AA21: =E21+P21 -> 0 | AB21: =F21+Q21 -> 1500 | AC21: =G21+R21 -> 100000 | AD21: =J21+U21 -> 0
A22: Lae | B22: 0 | C22: 380 | D22: 690 | E22: 0 | F22: 0 | G22: 0 | H22: 0 | I22: 0 | J22: 0 | L22: Lae | M22: 150000 | N22: 0 | O22: 7000 | P22: 0 | Q22: 2000 | R22: 100000 | S22: 0 | T22: 0 | U22: 0 | W22: Lae | X22: =B22+M22 -> 150000 | Y22: =C22+N22 -> 380 | Z22: =D22+O22 -> 7690 | AA22: =E22+P22 -> 0 | AB22: =F22+Q22 -> 2000 | AC22: =G22+R22 -> 100000 | AD22: =J22+U22 -> 0
A23: Wewak | B23: 0 | C23: 42204 | D23: 14346 | E23: 3083 | F23: 0 | G23: 50200 | H23: 0 | I23: 22 | J23: 924 | L23: Wewak | M23: 100000 | N23: 5000 | O23: 5000 | P23: 0 | Q23: 1500 | R23: 100000 | S23: 0 | T23: 0 | U23: 0 | W23: Wewak | X23: =B23+M23 -> 100000 | Y23: =C23+N23 -> 47204 | Z23: =D23+O23 -> 19346 | AA23: =E23+P23 -> 3083 | AB23: =F23+Q23 -> 1500 | AC23: =G23+R23 -> 150200 | AD23: =J23+U23 -> 924
A24: Total NDoH | B24: =SUM(B19:B23) -> 0 | C24: =SUM(C19:C23) -> 55854 | D24: =SUM(D19:D23) -> 19516 | E24: =SUM(E19:E23) -> 25418 | F24: =SUM(F19:F23) -> 1760 | G24: =SUM(G19:G23) -> 52200 | H24: 0 | I24: 0 | J24: =SUM(J19:J23) -> 2433 | L24: Total NDoH | M24: =SUM(M19:M23) -> 624400 | N24: =SUM(N19:N23) -> 27000 | O24: =SUM(O19:O23) -> 21000 | P24: =SUM(P19:P23) -> 0 | Q24: =SUM(Q19:Q23) -> 10000 | R24: =SUM(R19:R23) -> 500000 | S24: =SUM(S19:S23) -> 0 | T24: =SUM(T19:T23) -> 0 | U24: =SUM(U19:U23) -> 0 | W24: Total NDoH | X24: =B24+M24 -> 624400 | Y24: =C24+N24 -> 82854 | Z24: =D24+O24 -> 40516 | AA24: =E24+P24 -> 25418 | AB24: =F24+Q24 -> 11760 | AC24: =G24+R24 -> 552200 | AD24: =J24+U24 -> 2433
A25: RAM | B25: 0 | C25: 0 | D25: 0 | E25: 0 | F25: 0 | G25: 0 | H25: 0 | I25: 0 | J25: 0 | L25: RAM | M25: 0 | N25: 0 | O25: 0 | P25: 0 | Q25: 0 | R25: 0 | S25: 0 | T25: 0 | U25: 0 | W25: RAM | X25: =B25+M25 -> 0 | Y25: =C25+N25 -> 0 | Z25: =D25+O25 -> 0 | AA25: =E25+P25 -> 0 | AB25: =F25+Q25 -> 0 | AC25: =G25+R25 -> 0 | AD25: =H25+S25 -> 0
A26: Total | B26: =B25+B24 -> 0 | C26: =C25+C24 -> 55854 | D26: =D25+D24 -> 19516 | E26: =E25+E24 -> 25418 | F26: =F25+F24 -> 1760 | G26: =G25+G24 -> 52200 | H26: =H25+H24 -> 0 | I26: =I25+I24 -> 0 | J26: =J25+J24 -> 2433 | L26: Total | M26: =M24+M25 -> 624400 | N26: =N24+N25 -> 27000 | O26: =O24+O25 -> 21000 | P26: =P24+P25 -> 0 | Q26: =Q24+Q25 -> 10000 | R26: =R24+R25 -> 500000 | S26: =S24+S25 -> 0 | T26: =T24+T25 -> 0 | U26: =U24+U25 -> 0 | W26: Total | X26: =X24+X25 -> 624400 | Y26: =Y24+Y25 -> 82854 | Z26: =Z24+Z25 -> 40516 | AA26: =AA24+AA25 -> 25418 | AB26: =AB24+AB25 -> 11760 | AC26: =AC24+AC25 -> 552200 | AD26: =AD24+AD25 -> 2433

Sheet RAM-GF_PROC.-2021 REQ.ACT-RDT
B2: RAM / GLOBAL FUND ORDERS TO DATE
E4: 14.637358 | F4: 26.487692 | G4: 16.729454 | H4: 42.145496
A5: REQUISITION NUMBER | B5: PURCHASE ORDER # | C5: FUNDING SOURCE | D5: RDT | E5: ACT6 | F5: ACT12 | G5: ACT18 | H5: ACT24 | I5: TOTAL ACT | J5: PRIMAQUINE | K5: DATE | L5: ARRIVAL | M5: COMMENTS
K6: ORDERD | L6: DATE
A7: 1206 | B7: 4227 | C7: PNGSDP | D7: 212500 | E7: 0 | F7: 0 | G7: 0 | H7: 0 | I7: =SUM(E7:H7) -> 0 | J7: 0 | K7: 44197 | L7: 44409 | M7: Received; 09.09.21
A8: 12087 | B8: 4159 | C8: PNGSDP | D8: 0 | E8: 16650 | F8: 22500 | G8: 19800 | H8: 49500 | I8: =SUM(E8:H8) -> 108450 | J8: 0
A9: 11402 | B9: 4107 | C9: GF | D9: 0 | E9: 0 | F9: 0 | G9: 0 | H9: 0 | I9: =SUM(E9:H9) -> 0 | J9: 8000000 | M9: Received 29.05.21.
A10: 12227 | B10: 4385 | C10: GF | D10: 800000 | E10: 0 | F10: 0 | G10: 0 | H10: 0 | I10: =SUM(E10:H10) -> 0 | J10: 0 | K10: 44228 | L10: 44470 | M10: Arrived 17.10.21 and received into stock.
A11: 12260 | B11: 4327 | C11: GF | D11: 0 | E11: 21000 | F11: 72000 | G11: 30000 | H11: 261000 | I11: =SUM(E11:H11) -> 384000 | J11: 0 | K11: 44228 | L11: 44440 | M11: ACT delivered at AMS on the 17.09.21.
A12: 12719 | B12: 4899 | C12: GF | D12: 800000 | E12: 0 | F12: 0 | G12: 0 | H12: 0 | I12: =SUM(E12:H12) -> 0 | J12: 0 | K12: 44378 | L12: 44531 | M12: Received 25.04.2022
A13: 13964 | B13: 4898 | C13: GF | D13: 0 | E13: 0 | F13: 0 | G13: 0 | H13: 0 | I13: =SUM(E13:H13) -> 0 | J13: 9000000 | K13: 44378 | L13: 44531 | M13: PQ delivered in December, 2021
A14: 13965 | B14: 4897 | C14: GF | D14: 0 | E14: 78000 | F14: 120000 | G14: 75000 | H14: 180000 | I14: =SUM(E14:H14) -> 453000 | J14: 0 | K14: 44378 | L14: 44531 | M14: ACT delivered in December 2021
A15: 15627 | C15: GF | D15: 0 | E15: 81000 | F15: 126000 | G15: 102000 | H15: 126000 | I15: =SUM(E15:H15) -> 435000 | J15: 0 | K15: 44470 | L15: 44621 | M15: Received 30.05.22 | P15: =425000/25 -> 17000
A16: 15628 | C16: GF | D16: 900000 | E16: 0 | F16: 0 | G16: 0 | H16: 0 | I16: =SUM(E16:H16) -> 0 | J16: 0 | K16: 44470 | L16: 44621 | M16: Received 11.05.22
A17: 15629 | C17: GF | D17: 840000 | E17: 0 | F17: 0 | G17: 0 | H17: 0 | I17: =SUM(E17:H17) -> 0 | J17: 0 | K17: 44470 | L17: 44743 | M17: Received 01.06.22.
A18: 15784 | C18: GF | D18: 0 | E18: 72000 | F18: 138000 | G18: 78000 | H18: 141000 | I18: =SUM(E18:H18) -> 429000 | J18: 0 | K18: 44470 | L18: 44743 | M18: Arrived on the 08.07.22, and received on 20.07.22
E19: 72000 | F19: 137700 | G19: 77190 | H19: 140730 | I19: =SUM(E19:H19) -> 427620 | K19: Qty received.
A20: 15789 | B20: 6557 | C20: GF | D20: 900000 | E20: 0 | F20: 0 | G20: 0 | H20: 0 | I20: =SUM(E20:H20) -> 0 | J20: 0 | K20: 44621 | L20: 44835 | M20: RDTs DELIVERED AT AMS ON THE 16th, 17th & 21st NOV. 2022
A21: 17800 | B21: 6478 | C21: GF | D21: 0 | E21: 13200 | F21: 99000 | G21: 51000 | H21: 159000 | I21: =SUM(E21:H21) -> 322200 | J21: 0 | K21: 44621 | L21: 44835 | M21: ACTs Delivered at AMS on 02.11.22
A22: 17800 | B22: 6478 | C22: GF | D22: 0 | E22: 0 | F22: 0 | G22: 0 | H22: 0 | I22: =SUM(E22:H22) -> 0 | J22: 7500000 | K22: 44621 | L22: 44835 | M22: PQ Received on the 27.10.22
A23: 17802 | C23: GF | D23: - | E23: 0 | F23: 0 | G23: 0 | H23: 0 | I23: =SUM(E23:H23) -> 0 | J23: 900000 | K23: 44682 | L23: 44927 | M23: 900,000 FULLY RECEIVED ON 30.12.22
A24: 18464 | C24: GF | E24: 72000 | F24: 90000 | G24: 39000 | H24: 198000 | I24: =SUM(E24:H24) -> 399000 | K24: 44682 | L24: 44969 | M24: 2023 Order; Fully supplied - received on 21.02.23
A25: 20156 | B25: 7313 | C25: GF | E25: 147000 | F25: 262800 | G25: 206100 | H25: 578400 | I25: =SUM(E25:H25) -> 1194300 | K25: 44853 | L25: 45077 | M25: Fully supplied on 15.05 - 19.05.2023
A26: 20040 | B26: 7341 | C26: GF | D26: 1218750 | K26: 44853 | L26: 45047 | M26: Fully supplied on 15.05 - 19.05.2023
A27: 23273 | B27: 9747 | C27: GF | E27: 0 | F27: 120000 | G27: 108000 | H27: 522000 | I27: =SUM(E27:H27) -> 750000 | K27: 45253 | L27: 45473 | M27: Fully received in July 2024
A28: 24360 | B28: 9017 | C28: GF | D28: 750000 | E28: 0 | F28: 0 | G28: 0 | H28: 0 | I28: 0 | J28: 0 | K28: 45280 | L28: 45535 | M28: Fully received in August 2024
A29: 24591 | B29: 9370 | C29: GF | E29: 33300 | F29: 45000 | G29: 39600 | H29: 99000 | I29: =SUM(E29:H29) -> 216900 | K29: 45391 | L29: 45565 | M29: Recived fully on October 2024 (SDP-confirmed by Munir from RAM-ADP Agreement Letter) | O29: =E29+F29+G29+H29 -> 216900 | P29: =D28/25 -> 30000
A30: 25442 | B30: 9411 | C30: GF | E30: 30000 | F30: 171000 | G30: 33000 | H30: 282000 | I30: =SUM(E30:H30) -> 516000 | K30: 45398 | L30: 45565 | M30: Fully received in August 2024 | O30: =O29/30 -> 7230
A31: 25441 | B31: 9540 | C31: GF | D31: 425000 | E31: 0 | F31: 0 | G31: 0 | H31: 0 | I31: =SUM(E31:H31) -> 0 | K31: 45499 | L31: 45626 | M31: Outstanding GF RDT received (49 pallets) from SDP-confirmed by Munir
C32: GF | E32: 102000 | F32: 330000 | G32: 120000 | H32: 381000 | I32: =SUM(E32:H32) -> 933000 | L32: 45627 | M32: All received on the 18th of Nov 2024 | O32: =I27/30 -> 25000
A33: 11502 | C33: GF | E33: =9825*30 -> 294750 | F33: =13658*30 -> 409740 | G33: =7796*30 -> 233880 | H33: =20047*30 -> 601410 | I33: =SUM(E33:H33) -> 1539780 | K33: TBA | N33: =E33+F33*2+G33*3+H33*4 -> 4221510 | O33: =N33/O35 -> 7.4497235
A34: 28228 | C34: GF | D34: =80000*25 -> 2000000 | I34: =SUM(E34:H34) -> 0 | K34: TBA | N34: =D34/333333 -> 6.000006
C35: GF | I35: =SUM(E35:H35) -> 0 | O35: 566666.67
C36: Price GF (US$) | E36: 0.32 | F36: 0.51 | G36: 0.7 | H36: 0.94
B38: PO 9017 | D38: RDT -Months of stock | E38: ACT (Total ACT 6 Equivalence) | I38: Months of stock | J38: PQ | L38: =3600*30 -> 108000 | M38: =11000*30 -> 330000
D39: =D28/'ACT-RDT-PQ BY AMS'!T17 -> 2.25 | E39: =(E27)+(F27*2)+(G27*3)+(H27*4) -> 2652000 | I39: =E39/'ACT-RDT-PQ BY AMS'!AA17 -> 4.68 | J39: =J23/'ACT-RDT-PQ BY AMS'!Z17 -> 0.64670659
A40: RDT: 2024 | D40: =D26/'ACT-RDT-PQ BY AMS'!T17 -> 3.65625 | E40: =(E29)+(F29*2)+(G29*3)+(H29*4) -> 638100 | I40: =E40/'ACT-RDT-PQ BY AMS'!AA17 -> 1.1260588 | M40: =333333*4 -> 1333332
A41: =D28+D31 -> 1175000 | D41: =D20/'ACT-RDT-PQ BY AMS'!T17 -> 2.7 | E41: =E30+(F30*2)+(G30*3)+(H30*4) -> 1599000 | I41: =E41/'ACT-RDT-PQ BY AMS'!AA17 -> 2.8217647 | M41: =M40/25 -> 53333.28
A42: =A41/25 -> 47000 | B42: =A42*9 -> 423000 | D42: =D25/'ACT-RDT-PQ BY AMS'!T17 -> 0 | E42: =E32+(F32*2)+(G32*3)+(H32*4) -> 2646000 | I42: =E42/'ACT-RDT-PQ BY AMS'!AA17 -> 4.6694118 | M42: 54000
D43: =D31/333333 -> 1.2750013 | G43: total in Mos | I43: =SUM(I39:I42) -> 13.297235 | M43: =M42*25 -> 1350000
C44: =D28/25 -> 30000
C45: =D31/25 -> 17000
C46: =SUM(C44:C45) -> 47000

Sheet NDoH Outstanding Orders
V1: NDoH ORDERS TO DATE
E2: RDT, ACT, & PRIMAQUINE | L2: OTHER ANTIMALARIAL DRUGS | V2: RDT, ACT, & PRIMAQUINE | AC2: OTHER ANTIMALARIAL DRUGS
A4: AMS | B4: PURCHASE ORDER # | C4: DATE | D4: ARRIVAL | E4: RDT | F4: ACT6 | G4: ACT12 | H4: ACT18 | I4: ACT24 | J4: TOTAL ACT | K4: PRIMAQUINE | L4: SP TABLETS | M4: ARTEMETHER INJ. 80MG/ML | N4: ARTEMETHER INJ. 40MG/ML | O4: ARTESUNATE INJ. 60MG/3ML | P4: QUININE INJ. 600MG | Q4: QUININE TABS. 300MG | R4: ARTESUNATE SUPPOSITORY 200MG | S4: ARTESUNATE SUPPOSITORY 50MG | T4: DP TABLETS | V4: RDT | W4: ACT6 | X4: ACT12 | Y4: ACT18 | Z4: ACT24 | AA4: TOTAL ACT | AB4: PRIMAQUINE | AC4: SP TABLETS | AD4: ARTEMETHER INJ. 80MG/ML | AE4: ARTEMETHER INJ. 40MG/ML | AF4: ARTESUNATE INJ. 60MG/3ML | AG4: QUININE INJ. 600MG | AH4: QUININE TABS. 300MG | AI4: ARTESUNATE SUPPOSITORY 200MG | AJ4: ARTESUNATE SUPPOSITORY 50MG | AK4: DP TABLETS | AL4: QTY | AM4: QTY | AN4: COMMENTS
C5: ORDERD | D5: DATE | AL5: RECEIVED | AM5: OUTSTANDING
A6: BADILI | B6: 167772377 | C6: 28/04/24 | D6: 30/06/24 | H6: =Y6-AL6 -> 2160 | J6: =SUM(F6:I6) -> 2160 | Y6: 16710 | AA6: =SUM(W6:Z6) -> 16710 | AL6: =1440+13110 -> 14550 | AM6: =(V6+W6+X6+Y6+Z6+AB6+AC6+AD6+AE6+AF6+AG6+AH6+AI6+AJ6+AK6)-AL6 -> 2160 | AN6: Al18 from Modern 2024; partially received on the 21.06.2024 & 26.06.2024; 13,110 partially recieced on 21.10.25
A7: BADILI | B7: 167772377 | C7: 28/04/24 | D7: 30/06/24 | I7: =Z7-AL7 -> 2160 | J7: =SUM(F7:I7) -> 2160 | Z7: 21180 | AA7: =SUM(W7:Z7) -> 21180 | AL7: =1440+16200+1380 -> 19020 | AM7: =(V7+W7+X7+Y7+Z7+AB7+AC7+AD7+AE7+AF7+AG7+AH7+AI7+AJ7+AK7)-AL7 -> 2160 | AN7: AL24 from Modern 2024; partially received on the 21.06.2024 & 26.06.2024; 16,200 partially received on the 24.07.24 from Modern Pharma; 1,380 partially delivered on 21.10.24
A8: BADILI | B8: 167772488 | C8: 03/11/25 | D8: 30/04/26 | E8: =V8-AL8 -> 0 | F8: =W8-AL8 -> 150000 | G8: =X8-AL8 -> 0 | H8: =Y8-AL8 -> 0 | I8: =Z8-AL8 -> 0 | J8: =SUM(F8:I8) -> 150000 | K8: =AB8-AL8 -> 0 | W8: 150000 | AA8: =SUM(W8:Z8) -> 150000 | AM8: =(V8+W8+X8+Y8+Z8+AB8+AC8+AD8+AE8+AF8+AG8+AH8+AI8+AJ8+AK8)-AL8 -> 150000
A9: BADILI | B9: 167772481 | C9: 25/10/25 | D9: 30/11/25 | F9: =W9-AL9 -> 0 | J9: =SUM(F9:I9) -> 0 | W9: 30000 | AA9: =SUM(W9:Z9) -> 30000 | AL9: =3600+26400 -> 30000 | AM9: =(V9+W9+X9+Y9+Z9+AB9+AC9+AD9+AE9+AF9+AG9+AH9+AI9+AJ9+AK9)-AL9 -> 0 | AN9: received on the 19.11.25; 24,600 balance fully supplied by Modern on 03.02.26
A10: BADILI | B10: 167772489 | C10: 03/11/25 | D10: 30/04/26 | E10: =V10-AL10 -> 0 | F10: =W10-AL10 -> 0 | G10: =X10-AL10 -> 90000 | H10: =Y10-AL10 -> 0 | I10: =Z10-AL10 -> 0 | J10: =SUM(F10:I10) -> 90000 | K10: =AB10-AL10 -> 0 | X10: 90000 | AA10: =SUM(W10:Z10) -> 90000 | AM10: =(V10+W10+X10+Y10+Z10+AB10+AC10+AD10+AE10+AF10+AG10+AH10+AI10+AJ10+AK10)-AL10 -> 90000
A11: BADILI | B11: 167772482 | C11: 25/10/25 | D11: 30/11/25 | G11: =X11-AL11 -> 0 | J11: =SUM(F11:I11) -> 0 | X11: 30000 | AA11: =SUM(W11:Z11) -> 30000 | AL11: =3600+26400 -> 30000 | AM11: =(V11+W11+X11+Y11+Z11+AB11+AC11+AD11+AE11+AF11+AG11+AH11+AI11+AJ11+AK11)-AL11 -> 0 | AN11: received on the 19.11.25; 24,600 balance fully supplied by Modern on 03.02.26
A12: BADILI | B12: 167772490 | C12: 03/11/25 | D12: 30/04/26 | E12: =V12-AL12 -> 0 | F12: =W12-AL12 -> 0 | G12: =X12-AL12 -> 0 | H12: =Y12-AL12 -> 90000 | I12: =Z12-AL12 -> 0 | J12: =SUM(F12:I12) -> 90000 | K12: =AB12-AL12 -> 0 | Y12: 90000 | AA12: =SUM(W12:Z12) -> 90000 | AM12: =(V12+W12+X12+Y12+Z12+AB12+AC12+AD12+AE12+AF12+AG12+AH12+AI12+AJ12+AK12)-AL12 -> 90000
A13: BADILI | B13: 167772482 | C13: 25/10/25 | D13: 30/11/25 | H13: =Y13-AL13 -> 0 | J13: =SUM(F13:I13) -> 0 | Y13: 30000 | AA13: =SUM(W13:Z13) -> 30000 | AL13: =3600+26400 -> 30000 | AM13: =(V13+W13+X13+Y13+Z13+AB13+AC13+AD13+AE13+AF13+AG13+AH13+AI13+AJ13+AK13)-AL13 -> 0 | AN13: received on the 19.11.25; 24,600 balance fully supplied by Modern on 03.02.26
A14: BADILI | B14: 167772491 | C14: 03/11/25 | D14: 30/04/26 | E14: =V14-AL14 -> 0 | F14: =W14-AL14 -> 0 | G14: =X14-AL14 -> 0 | H14: =Y14-AL14 -> 0 | I14: =Z14-AL14 -> 90000 | J14: =SUM(F14:I14) -> 90000 | K14: =AB14-AL14 -> 0 | Z14: 90000 | AA14: =SUM(W14:Z14) -> 90000 | AM14: =(V14+W14+X14+Y14+Z14+AB14+AC14+AD14+AE14+AF14+AG14+AH14+AI14+AJ14+AK14)-AL14 -> 90000
A15: BADILI | B15: 167772482 | C15: 25/10/25 | D15: 30/11/25 | I15: =Z15-AL15 -> 0 | J15: =SUM(F15:I15) -> 0 | Z15: 30000 | AA15: =SUM(W15:Z15) -> 30000 | AL15: =3600+26400 -> 30000 | AM15: =(V15+W15+X15+Y15+Z15+AB15+AC15+AD15+AE15+AF15+AG15+AH15+AI15+AJ15+AK15)-AL15 -> 0 | AN15: received on the 19.11.25; 24,600 balance fully supplied by Modern on 03.02.26
A16: BADILI | B16: 167772479 | C16: 24/10/25 | D16: 30/11/25 | E16: =V16-AL16 -> 41825 | J16: =SUM(F16:I16) -> 0 | V16: 237500 | AA16: =SUM(W16:Z16) -> 0 | AL16: =37500+158175 -> 195675 | AM16: =(V16+W16+X16+Y16+Z16+AB16+AC16+AD16+AE16+AF16+AG16+AH16+AI16+AJ16+AK16)-AL16 -> 41825 | AN16: 37500/200000 received 30.10.2025-RFQ25; partially received in Jan 2026
A17: BADILI | B17: 167772493 | C17: 03/11/25 | D17: 30/04/26 | E17: =V17-AL17 -> 0 | F17: =W17-AL17 -> 0 | G17: =X17-AL17 -> 0 | H17: =Y17-AL17 -> 0 | I17: =Z17-AL17 -> 0 | J17: =SUM(F17:I17) -> 0 | K17: =AB17-AL17 -> 300000 | AA17: =SUM(W17:Z17) -> 0 | AB17: 300000 | AM17: =(V17+W17+X17+Y17+Z17+AB17+AC17+AD17+AE17+AF17+AG17+AH17+AI17+AJ17+AK17)-AL17 -> 300000
A18: BADILI | B18: 167772481 | C18: 25/10/25 | D18: 30/11/25 | J18: =SUM(F18:I18) -> 0 | K18: =AB18-AL18 -> 0 | AA18: =SUM(W18:Z18) -> 0 | AB18: 400000 | AL18: 400000 | AM18: =(V18+W18+X18+Y18+Z18+AB18+AC18+AD18+AE18+AF18+AG18+AH18+AI18+AJ18+AK18)-AL18 -> 0 | AN18: Fully received on the 03.02.2026 from Modern
A19: BADILI | B19: 167772492 | C19: 03/11/25 | D19: 30/04/26 | E19: =V19-AL19 -> 0 | F19: =W19-AL19 -> 0 | G19: =X19-AL19 -> 0 | H19: =Y19-AL19 -> 0 | I19: =Z19-AL19 -> 0 | J19: =SUM(F19:I19) -> 0 | K19: =AB19-AL19 -> 0 | P19: =AG19-AL19 -> 4000 | AA19: =SUM(W19:Z19) -> 0 | AG19: 4000 | AM19: =(V19+W19+X19+Y19+Z19+AB19+AC19+AD19+AE19+AF19+AG19+AH19+AI19+AJ19+AK19)-AL19 -> 4000
A20: BADILI | B20: 167772493 | C20: 03/11/25 | D20: 30/04/26 | E20: =V20-AL20 -> 0 | F20: =W20-AL20 -> 0 | G20: =X20-AL20 -> 0 | H20: =Y20-AL20 -> 0 | I20: =Z20-AL20 -> 0 | J20: =SUM(F20:I20) -> 0 | K20: =AB20-AL20 -> 0 | Q20: =AH20-AL20 -> 100000 | AA20: =SUM(W20:Z20) -> 0 | AH20: 100000 | AM20: =(V20+W20+X20+Y20+Z20+AB20+AC20+AD20+AE20+AF20+AG20+AH20+AI20+AJ20+AK20)-AL20 -> 100000
A21: BADILI | B21: 167772494 | C21: 03/11/25 | D21: 30/04/26 | L21: =AC21-AL21 -> 150000 | AC21: 150000 | AM21: =(V21+W21+X21+Y21+Z21+AB21+AC21+AD21+AE21+AF21+AG21+AH21+AI21+AJ21+AK21)-AL21 -> 150000
A22: BADILI | B22: 167772564 | C22: 45996 | D22: 46203 | E22: =V22-AL22 -> 225000 | V22: 225000 | AM22: =(V22+W22+X22+Y22+Z22+AB22+AC22+AD22+AE22+AF22+AG22+AH22+AI22+AJ22+AK22)-AL22 -> 225000
A23: BADILI | B23: 167772565 | C23: 46000 | D23: 46052 | J23: =SUM(F23:I23) -> 0 | K23: =AB23-AL23 -> 0 | AA23: =SUM(W23:Z23) -> 0 | AB23: 400000 | AL23: 400000 | AM23: =(V23+W23+X23+Y23+Z23+AB23+AC23+AD23+AE23+AF23+AG23+AH23+AI23+AJ23+AK23)-AL23 -> 0 | AN23: Fully received on the 05.02.2026 from Modern
A24: BADILI | B24: 167772604 | C24: 46078 | D24: 46142 | E24: =V24-AL24 -> 0 | F24: =W24-AL24 -> 0 | G24: =X24-AL24 -> 0 | H24: =Y24-AL24 -> 0 | I24: =Z24-AL24 -> 0 | J24: =SUM(F24:I24) -> 0 | K24: =AB24-AL24 -> 2000000 | AA24: =SUM(W24:Z24) -> 0 | AB24: 2000000 | AM24: =(V24+W24+X24+Y24+Z24+AB24+AC24+AD24+AE24+AF24+AG24+AH24+AI24+AJ24+AK24)-AL24 -> 2000000
A25: BADILI | B25: 167772603 | C25: 46078 | D25: 46142 | K25: =AB25-AL25 -> 0 | AA25: =SUM(W25:Z25) -> 0 | AB25: 600000 | AL25: 600000 | AM25: =(V25+W25+X25+Y25+Z25+AB25+AC25+AD25+AE25+AF25+AG25+AH25+AI25+AJ25+AK25)-AL25 -> 0 | AN25: Fully received PQ from CPL on 06.03.206
B26: TOTAL | E26: =SUM(E6:E25) -> 266825 | F26: =SUM(F6:F25) -> 150000 | G26: =SUM(G6:G25) -> 90000 | H26: =SUM(H6:H25) -> 92160 | I26: =SUM(I6:I25) -> 92160 | J26: =SUM(J6:J25) -> 424320 | K26: =SUM(K6:K25) -> 2300000 | L26: =SUM(L6:L25) -> 150000 | ... AM26: =SUM(AM6:AM25) -> 3245145
A27: HAGEN | B27: 3408 | C27: 10/04/25 | D27: 30/06/25 | J27: =SUM(F27:I27) -> 0 | M27: =AD27-AL27 -> 20000 | AA27: =SUM(W27:Z27) -> 0 | AD27: 20000 | AM27: =(V27+W27+X27+Y27+Z27+AB27+AC27+AD27+AE27+AF27+AG27+AH27+AI27+AJ27+AK27)-AL27 -> 20000
A28: HAGEN | B28: 3448 | C28: 03/11/25 | D28: 30/04/26 | E28: =V28-AL28 -> 0 | J28: =SUM(F28:I28) -> 0 | V28: 212500 | AA28: =SUM(W28:Z28) -> 0 | AL28: =12500+200000 -> 212500 | AM28: =(V28+W28+X28+Y28+Z28+AB28+AC28+AD28+AE28+AF28+AG28+AH28+AI28+AJ28+AK28)-AL28 -> 0 | AN28: 12,500 received on the 13.11.2025; 200,000 balance supplied on the 29.01.2026 from Modern
A29: HAGEN | B29: 3449 | C29: 25/10/25 | D29: 30/11/25 | F29: =W29-AL29 -> 22800 | J29: =SUM(F29:I29) -> 22800 | W29: 30000 | AA29: =SUM(W29:Z29) -> 30000 | AL29: 7200 | AM29: =(V29+W29+X29+Y29+Z29+AB29+AC29+AD29+AE29+AF29+AG29+AH29+AI29+AJ29+AK29)-AL29 -> 22800 | AN29: 7,200 was received on the 29.01.2026 from Modern
A30: HAGEN | B30: 3462 | C30: 45964 | D30: 46142 | E30: =V30-AL30 -> 0 | F30: =W30-AL30 -> 60000 | J30: =SUM(F30:I30) -> 60000 | W30: 60000 | AA30: =SUM(W30:Z30) -> 60000 | AM30: =(V30+W30+X30+Y30+Z30+AB30+AC30+AD30+AE30+AF30+AG30+AH30+AI30+AJ30+AK30)-AL30 -> 60000
A31: HAGEN | B31: 3462 | C31: 45964 | D31: 46142 | E31: =V31-AL31 -> 0 | F31: =W31-AL31 -> 0 | G31: =X31-AL31 -> 60000 | J31: =SUM(F31:I31) -> 60000 | X31: 60000 | AA31: =SUM(W31:Z31) -> 60000 | AM31: =(V31+W31+X31+Y31+Z31+AB31+AC31+AD31+AE31+AF31+AG31+AH31+AI31+AJ31+AK31)-AL31 -> 60000
A32: HAGEN | B32: 3462 | C32: 45964 | D32: 46142 | E32: =V32-AL32 -> 0 | F32: =W32-AL32 -> 0 | G32: =X32-AL32 -> 0 | H32: =Y32-AL32 -> 30000 | J32: =SUM(F32:I32) -> 30000 | Y32: 30000 | AA32: =SUM(W32:Z32) -> 30000 | AM32: =(V32+W32+X32+Y32+Z32+AB32+AC32+AD32+AE32+AF32+AG32+AH32+AI32+AJ32+AK32)-AL32 -> 30000
A33: HAGEN | B33: 3449 | C33: 03/11/25 | D33: 30/04/26 | G33: =X33-AL33 -> 0 | J33: =SUM(F33:I33) -> 0 | X33: 9540 | AA33: =SUM(W33:Z33) -> 9540 | AL33: 9540 | AM33: =(V33+W33+X33+Y33+Z33+AB33+AC33+AD33+AE33+AF33+AG33+AH33+AI33+AJ33+AK33)-AL33 -> 0 | AN33: Fully received on the 29.01.2026 from Modern
A34: HAGEN | B34: 3449 | C34: 25/10/25 | D34: 30/11/25 | H34: =Y34-AL34 -> 0 | J34: =SUM(F34:I34) -> 0 | Y34: 30000 | AA34: =SUM(W34:Z34) -> 30000 | AL34: 30000 | AM34: =(V34+W34+X34+Y34+Z34+AB34+AC34+AD34+AE34+AF34+AG34+AH34+AI34+AJ34+AK34)-AL34 -> 0 | AN34: Fully received on the 23.02.2026 from Modern
A35: HAGEN | B35: 3463 | C35: 03/11/25 | D35: 30/04/26 | E35: =V35-AL35 -> 0 | F35: =W35-AL35 -> 0 | G35: =X35-AL35 -> 0 | H35: =Y35-AL35 -> 0 | I35: =Z35 -> 30000 | J35: =SUM(F35:I35) -> 30000 | Y35: 0 | Z35: 30000 | AA35: =SUM(W35:Z35) -> 30000 | AM35: =(V35+W35+X35+Y35+Z35+AB35+AC35+AD35+AE35+AF35+AG35+AH35+AI35+AJ35+AK35)-AL35 -> 30000
A36: HAGEN | B36: 3449 | C36: 25/10/25 | D36: 30/11/25 | I36: =Z36-AL36 -> 22800 | J36: =SUM(F36:I36) -> 22800 | Z36: 30000 | AA36: =SUM(W36:Z36) -> 30000 | AL36: 7200 | AM36: =(V36+W36+X36+Y36+Z36+AB36+AC36+AD36+AE36+AF36+AG36+AH36+AI36+AJ36+AK36)-AL36 -> 22800 | AN36: 7,200 was received on the 29.01.2026 from Modern
A37: HAGEN | B37: 3449 | C37: 25/10/25 | D37: 30/11/25 | J37: =SUM(F37:I37) -> 0 | K37: =AB37-AL37 -> 0 | AA37: =SUM(W37:Z37) -> 0 | AB37: 400000 | AL37: 400000 | AM37: =(V37+W37+X37+Y37+Z37+AB37+AC37+AD37+AE37+AF37+AG37+AH37+AI37+AJ37+AK37)-AL37 -> 0 | AN37: Fully received on the 02.02.2026 from Modern
A38: HAGEN | B38: 3467 | C38: 05/11/25 | D38: 30/04/26 | N38: =AE38-AL38 -> 4000 | AE38: 4000 | AM38: =(V38+W38+X38+Y38+Z38+AB38+AC38+AD38+AE38+AF38+AG38+AH38+AI38+AJ38+AK38)-AL38 -> 4000
A39: HAGEN | B39: 3467 | C39: 05/11/25 | D39: 30/04/26 | M39: =AD39-AL39 -> 0 | AD39: 10000 | AL39: 10000 | AM39: =(V39+W39+X39+Y39+Z39+AB39+AC39+AD39+AE39+AF39+AG39+AH39+AI39+AJ39+AK39)-AL39 -> 0 | AN39: 10,000 Al 80mg fully received on the 30.12.2026
A40: HAGEN | B40: 3465 | C40: 05/11/25 | D40: 30/04/26 | K40: =AB40-AL40 -> 200000 | AB40: 200000 | AM40: =(V40+W40+X40+Y40+Z40+AB40+AC40+AD40+AE40+AF40+AG40+AH40+AI40+AJ40+AK40)-AL40 -> 200000
A41: HAGEN | B41: 3466 | C41: 05/11/25 | D41: 30/04/26 | L41: =AC41-AL41 -> 124400 | AC41: 200000 | AL41: 75600 | AM41: =(V41+W41+X41+Y41+Z41+AB41+AC41+AD41+AE41+AF41+AG41+AH41+AI41+AJ41+AK41)-AL41 -> 124400 | AN41: 75,600 partially received on the 08.01.2026
A42: HAGEN | B42: 3465 | C42: 05/11/25 | D42: 30/04/26 | Q42: =AH42-AL42 -> 100000 | AH42: 100000 | AM42: =(V42+W42+X42+Y42+Z42+AB42+AC42+AD42+AE42+AF42+AG42+AH42+AI42+AJ42+AK42)-AL42 -> 100000
A43: HAGEN | B43: 3464 | C43: 05/11/25 | D43: 30/04/26 | P43: =AG43-AL46 -> 1000 | AG43: 1000 | AM43: =(V43+W43+X43+Y43+Z43+AB43+AC43+AD43+AE43+AF43+AG43+AH43+AI43+AJ43+AK43)-AL43 -> 1000
A44: HAGEN | B44: 3542 | C44: 45996 | D44: 46203 | E44: =V44-AL44 -> 125000 | V44: 125000 | AM44: =(V44+W44+X44+Y44+Z44+AB44+AC44+AD44+AE44+AF44+AG44+AH44+AI44+AJ44+AK44)-AL44 -> 125000
A45: HAGEN | B45: 3583 | C45: 46078 | D45: 46142 | E45: =V45-AL45 -> 0 | F45: =W45-AL45 -> 0 | G45: =X45-AL45 -> 0 | H45: =Y45-AL45 -> 0 | I45: =Z45-AL45 -> 0 | J45: =SUM(F45:I45) -> 0 | K45: =AB45-AL45 -> 1000000 | AA45: =SUM(W45:Z45) -> 0 | AB45: 1000000 | AM45: =(V45+W45+X45+Y45+Z45+AB45+AC45+AD45+AE45+AF45+AG45+AH45+AI45+AJ45+AK45)-AL45 -> 1000000
A46: HAGEN | E46: =SUM(E27:E45) -> 125000 | F46: =SUM(F27:F45) -> 82800 | G46: =SUM(G27:G45) -> 60000 | H46: =SUM(H27:H45) -> 30000 | I46: =SUM(I27:I45) -> 52800 | J46: =SUM(J27:J45) -> 225600 | K46: =SUM(K27:K45) -> 1200000 | L46: =SUM(L27:L45) -> 124400 | ... AK46: =SUM(AK27:AK45) -> 0 | AM46: =SUM(AM27:AM45) -> 1800000
A47: KOKOPO | B47: 4222 | C47: 02/04/25 | D47: 30/04/25 | K47: =AB47-AL47 -> 400 | AB47: 1000000 | AL47: =998900+700 -> 999600 | AM47: =(V47+W47+X47+Y47+Z47+AB47+AC47+AD47+AE47+AF47+AG47+AH47+AI47+AJ47+AK47)-AL47 -> 400 | AN47: Borneo; 998,900/1000 000 received on: 27.05.2025; 700 additional received on the 06.11.2025
A48: KOKOPO | B48: 4230 | C48: 10/04/25 | D48: 30/06/25 | M48: =AD48-AL48 -> 2000 | AD48: 20000 | AL48: 18000 | AM48: =(V48+W48+X48+Y48+Z48+AB48+AC48+AD48+AE48+AF48+AG48+AH48+AI48+AJ48+AK48)-AL48 -> 2000 | AN48: 18000/20000 received on the 20.08.2025
A49: KOKOPO | B49: 4265 | C49: 03/11/25 | D49: 30/04/26 | E49: =V49-AL49 -> 0 | F49: =W49-AL49 -> 60000 | G49: =X49-AL49 -> 0 | H49: =Y49-AL49 -> 0 | I49: =Z49-AL49 -> 0 | J49: =SUM(F49:I49) -> 60000 | K49: =AB49-AL49 -> 0 | W49: 60000 | AM49: =(V49+W49+X49+Y49+Z49+AB49+AC49+AD49+AE49+AF49+AG49+AH49+AI49+AJ49+AK49)-AL49 -> 60000
A50: KOKOPO | B50: 4265 | C50: 03/11/25 | D50: 30/04/26 | E50: =V50-AL50 -> 0 | F50: =W50-AL50 -> 0 | G50: =X50-AL50 -> 60000 | H50: =Y50-AL50 -> 0 | I50: =Z50-AL50 -> 0 | J50: =SUM(F50:I50) -> 60000 | K50: =AB50-AL50 -> 0 | X50: 60000 | AM50: =(V50+W50+X50+Y50+Z50+AB50+AC50+AD50+AE50+AF50+AG50+AH50+AI50+AJ50+AK50)-AL50 -> 60000
A51: KOKOPO | B51: 4265 | C51: 03/11/25 | D51: 30/04/26 | E51: =V51-AL51 -> 0 | F51: =W51-AL51 -> 0 | G51: =X51-AL51 -> 0 | H51: =Y51-AL51 -> 30000 | I51: =Z51-AL51 -> 0 | J51: =SUM(F51:I51) -> 30000 | K51: =AB51-AL51 -> 0 | Y51: 30000 | AM51: =(V51+W51+X51+Y51+Z51+AB51+AC51+AD51+AE51+AF51+AG51+AH51+AI51+AJ51+AK51)-AL51 -> 30000
A52: KOKOPO | B52: 4266 | C52: 03/11/25 | D52: 30/04/26 | E52: =V52-AL52 -> 0 | F52: =W52-AL52 -> 0 | G52: =X52-AL52 -> 0 | H52: =Y52-AL52 -> 0 | I52: =Z52-AL52 -> 30000 | J52: =SUM(F52:I52) -> 30000 | K52: =AB52-AL52 -> 0 | Z52: 30000 | AM52: =(V52+W52+X52+Y52+Z52+AB52+AC52+AD52+AE52+AF52+AG52+AH52+AI52+AJ52+AK52)-AL52 -> 30000
A53: KOKOPO | B53: 4262 | C53: 27/10/25 | D53: 30/11/25 | I53: =Z53-AL53 -> 30 | J53: =SUM(F53:I53) -> 30 | Z53: 1170 | AL53: 1140 | AM53: =(V53+W53+X53+Y53+Z53+AB53+AC53+AD53+AE53+AF53+AG53+AH53+AI53+AJ53+AK53)-AL53 -> 30 | AN53: 1140 received on the 24.11.25
A54: KOKOPO | B54: 4260 | C54: 24/10/25 | D54: 30/11/25 | E54: =V54-AL54 -> 212500 | F54: =W54-AL54 -> 0 | G54: =X54-AL54 -> 0 | H54: =Y54-AL54 -> 0 | I54: =Z54-AL54 -> 0 | J54: =SUM(F54:I54) -> 0 | K54: =AB54-AL54 -> 0 | V54: 212500 | AM54: =(V54+W54+X54+Y54+Z54+AB54+AC54+AD54+AE54+AF54+AG54+AH54+AI54+AJ54+AK54)-AL54 -> 212500
A55: KOKOPO | B55: 4267 | C55: 04/11/25 | D55: 30/04/26 | N55: =AE55-AL55 -> 0 | AE55: 5000 | AL55: 5000 | AM55: =(V55+W55+X55+Y55+Z55+AB55+AC55+AD55+AE55+AF55+AG55+AH55+AI55+AJ55+AK55)-AL55 -> 0 | AN55: Art Inj 40 mg fully received on 18.03.2026
A56: KOKOPO | B56: 4269 | C56: 04/11/25 | D56: 30/04/26 | K56: =AB56-AL56 -> 200000 | AB56: 200000 | AM56: =(V56+W56+X56+Y56+Z56+AB56+AC56+AD56+AE56+AF56+AG56+AH56+AI56+AJ56+AK56)-AL56 -> 200000
A57: KOKOPO | B57: 4270 | C57: 04/11/25 | D57: 30/04/26 | P57: =AG57-AL57 -> 1500 | AG57: 1500 | AM57: =(V57+W57+X57+Y57+Z57+AB57+AC57+AD57+AE57+AF57+AG57+AH57+AI57+AJ57+AK57)-AL57 -> 1500
A58: KOKOPO | B58: 4269 | C58: 04/11/25 | D58: 30/04/26 | Q58: =AH58-AL58 -> 100000 | AH58: 100000 | AM58: =(V58+W58+X58+Y58+Z58+AB58+AC58+AD58+AE58+AF58+AG58+AH58+AI58+AJ58+AK58)-AL58 -> 100000
A59: KOKOPO | B59: 4268 | C59: 04/11/25 | D59: 30/04/26 | L59: =AC59-AL59 -> 100000 | AC59: 100000 | AM59: =(V59+W59+X59+Y59+Z59+AB59+AC59+AD59+AE59+AF59+AG59+AH59+AI59+AJ59+AK59)-AL59 -> 100000
A60: KOKOPO | B60: 4303 | C60: 45996 | D60: 46203 | E60: =V60-AL60 -> 200000 | V60: 200000 | AM60: =(V60+W60+X60+Y60+Z60+AB60+AC60+AD60+AE60+AF60+AG60+AH60+AI60+AJ60+AK60)-AL60 -> 200000
A61: LAE | B61: 4333 | C61: 46078 | D61: 46142 | E61: =V61-AL61 -> 0 | F61: =W61-AL61 -> 0 | G61: =X61-AL61 -> 0 | H61: =Y61-AL61 -> 0 | I61: =Z61-AL61 -> 0 | J61: =SUM(F61:I61) -> 0 | K61: =AB61-AL61 -> 1000000 | AB61: 1000000 | AM61: =(V61+W61+X61+Y61+Z61+AB61+AC61+AD61+AE61+AF61+AG61+AH61+AI61+AJ61+AK61)-AL61 -> 1000000
A62: KOKOPO | B62: TOTAL | E62: =SUM(E47:E61) -> 412500 | F62: =SUM(F47:F61) -> 60000 | G62: =SUM(G47:G61) -> 60000 | H62: =SUM(H47:H61) -> 30000 | I62: =SUM(I47:I61) -> 30030 | J62: =SUM(J47:J61) -> 180030 | K62: =SUM(K47:K61) -> 1200400 | L62: =SUM(L47:L61) -> 100000 | ... AK62: =SUM(AK47:AK61) -> 0 | AM62: =SUM(AM47:AM61) -> 1996430
A63: LAE | B63: 3259 | C63: 03/07/23 | D63: 30/07/23 | F63: =W63-AL63 -> 105000 | J63: =SUM(F63:I63) -> 105000 | W63: 105000 | AA63: =SUM(W63:Z63) -> 105000 | AL63: 0 | AM63: =(V63+W63+X63+Y63+Z63+AB63+AC63+AD63+AE63+AF63+AG63+AH63+AI63+AJ63+AK63)-AL63 -> 105000 | AN63: Borneo
A64: LAE | B64: 3259 | C64: 03/07/23 | D64: 30/07/23 | G64: =X64-AL64 -> 96000 | J64: =SUM(F64:I64) -> 96000 | X64: 96000 | AA64: =SUM(W64:Z64) -> 96000 | AL64: 0 | AM64: =(V64+W64+X64+Y64+Z64+AB64+AC64+AD64+AE64+AF64+AG64+AH64+AI64+AJ64+AK64)-AL64 -> 96000 | AN64: Borneo
A65: LAE | B65: 3452 | C65: 03/11/25 | D65: 30/04/26 | E65: =V65-AL65 -> 0 | F65: =W65-AL65 -> 150000 | G65: =X65-AL65 -> 0 | H65: =Y65-AL65 -> 0 | I65: =Z65-AL65 -> 0 | J65: =SUM(F65:I65) -> 150000 | K65: =AB65-AL65 -> 0 | W65: 150000 | AM65: =(V65+W65+X65+Y65+Z65+AB65+AC65+AD65+AE65+AF65+AG65+AH65+AI65+AJ65+AK65)-AL65 -> 150000
A66: LAE | B66: 3443 | C66: 25/10/25 | D66: 30/11/25 | F66: =W66-AL66 -> 0 | J66: =SUM(F66:I66) -> 0 | W66: 30000 | AL66: =7200+22800 -> 30000 | AM66: =(V66+W66+X66+Y66+Z66+AB66+AC66+AD66+AE66+AF66+AG66+AH66+AI66+AJ66+AK66)-AL66 -> 0 | AN66: partly received on the 20th & 24th Nov 2025; balance of 22,800 fully received on the 20.02.2026 from Modern
A67: LAE | B67: 3453 | C67: 03/11/25 | D67: 30/04/26 | E67: =V67-AL67 -> 0 | F67: =W67-AL67 -> 0 | G67: =X67-AL67 -> 90000 | H67: =Y67-AL67 -> 0 | I67: =Z67-AL67 -> 0 | J67: =SUM(F67:I67) -> 90000 | K67: =AB67-AL67 -> 0 | X67: 90000 | AM67: =(V67+W67+X67+Y67+Z67+AB67+AC67+AD67+AE67+AF67+AG67+AH67+AI67+AJ67+AK67)-AL67 -> 90000
A68: LAE | B68: 3443 | C68: 25/10/25 | D68: 30/11/25 | G68: =X68-AL68 -> 0 | J68: =SUM(F68:I68) -> 0 | X68: 30000 | AL68: =7200+22800 -> 30000 | AM68: =(V68+W68+X68+Y68+Z68+AB68+AC68+AD68+AE68+AF68+AG68+AH68+AI68+AJ68+AK68)-AL68 -> 0 | AN68: partly received on the 20th & 24th Nov 2025; balance of 22,800 fully received on the 20.02.2026 from Modern
A69: LAE | B69: 3454 | C69: 03/11/25 | D69: 30/04/26 | E69: =V69-AL69 -> 0 | F69: =W69-AL69 -> 0 | G69: =X69-AL69 -> 0 | H69: =Y69-AL69 -> 60000 | I69: =Z69-AL69 -> 0 | J69: =SUM(F69:I69) -> 60000 | K69: =AB69-AL69 -> 0 | Y69: 60000 | AL69: 0 | AM69: =(V69+W69+X69+Y69+Z69+AB69+AC69+AD69+AE69+AF69+AG69+AH69+AI69+AJ69+AK69)-AL69 -> 60000
A70: LAE | B70: 3443 | C70: 25/10/25 | D70: 30/11/25 | H70: =Y70-AL70 -> 0 | J70: =SUM(F70:I70) -> 0 | Y70: 30000 | AL70: =7200+22800 -> 30000 | AM70: =(V70+W70+X70+Y70+Z70+AB70+AC70+AD70+AE70+AF70+AG70+AH70+AI70+AJ70+AK70)-AL70 -> 0 | AN70: partly received on the 20th & 24th Nov 2025; balance of 22,800 fully received on the 09.03.2026 from Modern
A71: LAE | B71: 3455 | C71: 03/11/25 | D71: 30/04/26 | E71: =V71-AL71 -> 0 | F71: =W71-AL71 -> 0 | G71: =X71-AL71 -> 0 | H71: =Y71-AL71 -> 0 | I71: =Z71-AL71 -> 60000 | J71: =SUM(F71:I71) -> 60000 | K71: =AB71-AL71 -> 0 | Z71: 60000 | AM71: =(V71+W71+X71+Y71+Z71+AB71+AC71+AD71+AE71+AF71+AG71+AH71+AI71+AJ71+AK71)-AL71 -> 60000
A72: LAE | B72: 3443 | C72: 25/10/25 | D72: 30/11/25 | I72: =Z72-AL72 -> 0 | J72: =SUM(F72:I72) -> 0 | Z72: 30000 | AL72: =7200+22800 -> 30000 | AM72: =(V72+W72+X72+Y72+Z72+AB72+AC72+AD72+AE72+AF72+AG72+AH72+AI72+AJ72+AK72)-AL72 -> 0 | AN72: partly received on the 20th & 24th Nov 2025; balance of 22,800 fully received on the 09.03.2026 from Modern
A73: LAE | B73: 3457 | C73: 03/11/25 | D73: 30/04/26 | E73: =V73-AL73 -> 0 | F73: =W73-AL73 -> 0 | G73: =X73-AL73 -> 0 | H73: =Y73-AL73 -> 0 | I73: =Z73-AL73 -> 0 | J73: =SUM(F73:I73) -> 0 | K73: =AB73-AL73 -> 200000 | AB73: 200000 | AM73: =(V73+W73+X73+Y73+Z73+AB73+AC73+AD73+AE73+AF73+AG73+AH73+AI73+AJ73+AK73)-AL73 -> 200000
A74: LAE | B74: 3456 | C74: 03/11/25 | D74: 30/04/26 | E74: =V74-AL74 -> 0 | F74: =W74-AL74 -> 0 | G74: =X74-AL74 -> 0 | H74: =Y74-AL74 -> 0 | I74: =Z74-AL74 -> 0 | J74: =SUM(F74:I74) -> 0 | K74: =AB74-AL74 -> 0 | P74: =AG74-AL74 -> 2000 | AG74: 2000 | AM74: =(V74+W74+X74+Y74+Z74+AB74+AC74+AD74+AE74+AF74+AG74+AH74+AI74+AJ74+AK74)-AL74 -> 2000
A75: LAE | B75: 3457 | C75: 03/11/25 | D75: 30/04/26 | E75: =V75-AL75 -> 0 | F75: =W75-AL75 -> 0 | G75: =X75-AL75 -> 0 | H75: =Y75-AL75 -> 0 | I75: =Z75-AL75 -> 0 | J75: =SUM(F75:I75) -> 0 | K75: =AB75-AL75 -> 0 | Q75: =AH75-AL75 -> 100000 | AH75: 100000 | AM75: =(V75+W75+X75+Y75+Z75+AB75+AC75+AD75+AE75+AF75+AG75+AH75+AI75+AJ75+AK75)-AL75 -> 100000
A76: LAE | B76: 3459 | C76: 05/11/25 | D76: 30/04/26 | N76: =AE76-AL76 -> 7000 | AE76: 7000 | AM76: =(V76+W76+X76+Y76+Z76+AB76+AC76+AD76+AE76+AF76+AG76+AH76+AI76+AJ76+AK76)-AL76 -> 7000
A77: LAE | B77: 3458 | C77: 03/11/25 | D77: 30/04/26 | L77: =AC77-AL77 -> 150000 | AC77: 150000 | AM77: =(V77+W77+X77+Y77+Z77+AB77+AC77+AD77+AE77+AF77+AG77+AH77+AI77+AJ77+AK77)-AL77 -> 150000
A78: LAE | B78: 3538 | C78: 45996 | D78: 46203 | E78: =V78-AL78 -> 225000 | V78: 225000 | AM78: =(V78+W78+X78+Y78+Z78+AB78+AC78+AD78+AE78+AF78+AG78+AH78+AI78+AJ78+AK78)-AL78 -> 225000
A79: LAE | B79: 3569 | C79: 46078 | D79: 46142 | E79: =V79-AL79 -> 0 | F79: =W79-AL79 -> 0 | G79: =X79-AL79 -> 0 | H79: =Y79-AL79 -> 0 | I79: =Z79-AL79 -> 0 | J79: =SUM(F79:I79) -> 0 | K79: =AB79-AL79 -> 2000000 | AB79: 2000000 | AM79: =(V79+W79+X79+Y79+Z79+AB79+AC79+AD79+AE79+AF79+AG79+AH79+AI79+AJ79+AK79)-AL79 -> 2000000
A80: LAE | B80: TOTAL | E80: =SUM(E63:E79) -> 225000 | F80: =SUM(F63:F79) -> 255000 | G80: =SUM(G63:G79) -> 186000 | H80: =SUM(H63:H79) -> 60000 | I80: =SUM(I63:I79) -> 60000 | J80: =SUM(J63:J79) -> 561000 | K80: =SUM(K63:K79) -> 2200000 | L80: =SUM(L63:L79) -> 150000 | ... AK80: =SUM(AK63:AK79) -> 0 | AM80: =SUM(AM63:AM79) -> 3245000
A81: WEWAK | B81: 3212 | C81: 11/05/23 | D81: 30/07/23 | F81: =W81-AL81 -> 3000 | J81: =SUM(F81:I81) -> 3000 | W81: 3000 | AA81: =SUM(W81:Z81) -> 3000 | AL81: 0 | AM81: =(V81+W81+X81+Y81+Z81+AB81+AC81+AD81+AE81+AF81+AG81+AH81+AI81+AJ81+AK81)-AL81 -> 3000 | AN81: CPL: Wewak AMS is yet to record this as received;
A82: WEWAK | B82: 3338 | C82: 13/02/25 | D82: 30/10/25 | E82: =V82-AL82 -> 58825 | J82: =SUM(F82:I82) -> 0 | V82: 125000 | AA82: =SUM(W82:Z82) -> 0 | AL82: =13675+52500 -> 66175 | AM82: =(V82+W82+X82+Y82+Z82+AB82+AC82+AD82+AE82+AF82+AG82+AH82+AI82+AJ82+AK82)-AL82 -> 58825 | AN82: New Modern RDT Orders for yr 2025; Fully received on the 24.07.2025; 52,500 received on the 28.08.2025 from Modern Pharma
A83: WEWAK | B83: 3346 | C83: 45732 | D83: 45746 | I83: =Z83-AL83 -> 120 | J83: =SUM(F83:I83) -> 120 | Z83: 52890 | AA83: =SUM(W83:Z83) -> 52890 | AL83: 52770 | AM83: =(V83+W83+X83+Y83+Z83+AB83+AC83+AD83+AE83+AF83+AG83+AH83+AI83+AJ83+AK83)-AL83 -> 120 | AN83: RFQ#Q25.001 EX STOCK SUPPLIES; 52,770 fully received on 25.04.25
A84: WEWAK | B84: 3389 | C84: 03/11/25 | D84: 30/04/26 | E84: =V84-AL84 -> 0 | F84: =W84-AL84 -> 90000 | G84: =X84-AL84 -> 0 | H84: =Y84-AL84 -> 0 | I84: =Z84-AL84 -> 0 | J84: =SUM(F84:I84) -> 90000 | K84: =AB84-AL84 -> 0 | W84: 90000 | AA84: =SUM(W84:Z84) -> 90000 | AM84: =(V84+W84+X84+Y84+Z84+AB84+AC84+AD84+AE84+AF84+AG84+AH84+AI84+AJ84+AK84)-AL84 -> 90000
A85: WEWAK | B85: 3383 | C85: 27/10/25 | D85: 30/11/25 | F85: =W85-AL85 -> 12180 | J85: =SUM(F85:I85) -> 12180 | W85: 19380 | AA85: =SUM(W85:Z85) -> 19380 | AL85: 7200 | AM85: =(V85+W85+X85+Y85+Z85+AB85+AC85+AD85+AE85+AF85+AG85+AH85+AI85+AJ85+AK85)-AL85 -> 12180 | AN85: 7200 partially received on the 08.12.2025
A86: WEWAK | B86: 3389 | C86: 03/11/25 | D86: 30/04/26 | E86: =V86-AL86 -> 0 | F86: =W86-AL86 -> 0 | G86: =X86-AL86 -> 90000 | H86: =Y86-AL86 -> 0 | I86: =Z86-AL86 -> 0 | J86: =SUM(F86:I86) -> 90000 | K86: =AB86-AL86 -> 0 | X86: 90000 | AA86: =SUM(W86:Z86) -> 90000 | AM86: =(V86+W86+X86+Y86+Z86+AB86+AC86+AD86+AE86+AF86+AG86+AH86+AI86+AJ86+AK86)-AL86 -> 90000
A87: WEWAK | B87: 3390 | C87: 03/11/25 | D87: 30/04/26 | E87: =V87-AL87 -> 0 | F87: =W87-AL87 -> 0 | G87: =X87-AL87 -> 0 | H87: =Y87-AL87 -> 60000 | I87: =Z87-AL87 -> 0 | J87: =SUM(F87:I87) -> 60000 | K87: =AB87-AL87 -> 0 | Y87: 60000 | AA87: =SUM(W87:Z87) -> 60000 | AM87: =(V87+W87+X87+Y87+Z87+AB87+AC87+AD87+AE87+AF87+AG87+AH87+AI87+AJ87+AK87)-AL87 -> 60000
A88: WEWAK | B88: 3383 | C88: 27/10/25 | D88: 30/11/25 | H88: =Y88-AL88 -> 22800 | J88: =SUM(F88:I88) -> 22800 | Y88: 30000 | AA88: =SUM(W88:Z88) -> 30000 | AL88: 7200 | AM88: =(V88+W88+X88+Y88+Z88+AB88+AC88+AD88+AE88+AF88+AG88+AH88+AI88+AJ88+AK88)-AL88 -> 22800 | AN88: 7200 partially received on the 08.12.2025
A89: WEWAK | B89: 3391 | C89: 03/11/25 | D89: 30/04/26 | E89: =V89-AL89 -> 0 | F89: =W89-AL89 -> 0 | G89: =X89-AL89 -> 0 | H89: =Y89-AL89 -> 0 | I89: =Z89-AL89 -> 60000 | J89: =SUM(F89:I89) -> 60000 | K89: =AB89-AL89 -> 0 | Z89: 60000 | AA89: =SUM(W89:Z89) -> 60000 | AM89: =(V89+W89+X89+Y89+Z89+AB89+AC89+AD89+AE89+AF89+AG89+AH89+AI89+AJ89+AK89)-AL89 -> 60000
A90: WEWAK | B90: 3383 | C90: 27/10/25 | D90: 30/11/25 | I90: =Z90-AL90 -> 8400 | J90: =SUM(F90:I90) -> 8400 | Z90: 30000 | AA90: =SUM(W90:Z90) -> 30000 | AL90: 21600 | AM90: =(V90+W90+X90+Y90+Z90+AB90+AC90+AD90+AE90+AF90+AG90+AH90+AI90+AJ90+AK90)-AL90 -> 8400 | AN90: partly received on the 08.12.2025
A91: WEWAK | B91: 3382 | C91: 24/10/25 | D91: 30/11/25 | E91: =V91-AL91 -> 0 | J91: =SUM(F91:I91) -> 0 | V91: 237500 | AA91: =SUM(W91:Z91) -> 0 | AL91: =37500+200000 -> 237500 | AM91: =(V91+W91+X91+Y91+Z91+AB91+AC91+AD91+AE91+AF91+AG91+AH91+AI91+AJ91+AK91)-AL91 -> 0 | AN91: partially received on the 08.12.2025; Outstanding 200,000 fully received on the 04.02.2026
A92: WEWAK | B92: 3383 | C92: 27/10/25 | D92: 30/11/25 | E92: =V92-AL92 -> 0 | F92: =W92-AL92 -> 0 | G92: =X92-AL92 -> 0 | H92: =Y92-AL92 -> 0 | I92: =Z92-AL92 -> 0 | J92: =SUM(F92:I92) -> 0 | K92: =AB92-AL92 -> 400000 | AA92: =SUM(W92:Z92) -> 0 | AB92: 400000 | AM92: =(V92+W92+X92+Y92+Z92+AB92+AC92+AD92+AE92+AF92+AG92+AH92+AI92+AJ92+AK92)-AL92 -> 400000
A93: WEWAK | B93: 3395 | C93: 04/11/25 | D93: 30/04/26 | N93: =AE93-AL93 -> 5000 | AE93: 5000 | AM93: =(V93+W93+X93+Y93+Z93+AB93+AC93+AD93+AE93+AF93+AG93+AH93+AI93+AJ93+AK93)-AL93 -> 5000
A94: WEWAK | B94: 3395 | C94: 04/11/25 | D94: 30/04/26 | M94: =AD94-AL94 -> 5000 | AD94: 5000 | AM94: =(V94+W94+X94+Y94+Z94+AB94+AC94+AD94+AE94+AF94+AG94+AH94+AI94+AJ94+AK94)-AL94 -> 5000
A95: WEWAK | B95: 3393 | C95: 04/11/25 | D95: 30/04/26 | K95: =AB95-AL95 -> 200000 | AB95: 200000 | AM95: =(V95+W95+X95+Y95+Z95+AB95+AC95+AD95+AE95+AF95+AG95+AH95+AI95+AJ95+AK95)-AL95 -> 200000
A96: WEWAK | B96: 3392 | C96: 04/11/25 | D96: 30/04/26 | P96: =AG96-AL96 -> 1500 | AG96: 1500 | AM96: =(V96+W96+X96+Y96+Z96+AB96+AC96+AD96+AE96+AF96+AG96+AH96+AI96+AJ96+AK96)-AL96 -> 1500
A97: WEWAK | B97: 3393 | C97: 04/11/25 | D97: 30/04/26 | Q97: =AH97-AL97 -> 100000 | AH97: 100000 | AM97: =(V97+W97+X97+Y97+Z97+AB97+AC97+AD97+AE97+AF97+AG97+AH97+AI97+AJ97+AK97)-AL97 -> 100000
A98: WEWAK | B98: 3394 | C98: 04/11/25 | D98: 30/04/26 | L98: =AC98-AL98 -> 100000 | AC98: 100000 | AM98: =(V98+W98+X98+Y98+Z98+AB98+AC98+AD98+AE98+AF98+AG98+AH98+AI98+AJ98+AK98)-AL98 -> 100000
A99: WEWAK | B99: 3425 | C99: 45996 | D99: 46203 | E99: =V99-AL99 -> 225000 | V99: 225000 | AM99: =(V99+W99+X99+Y99+Z99+AB99+AC99+AD99+AE99+AF99+AG99+AH99+AI99+AJ99+AK99)-AL99 -> 225000
A100: WEWAK | B100: 3454 | C100: 46078 | D100: 46142 | K100: =AB100-AL100 -> 2000000 | AB100: 2000000 | AM100: =(V100+W100+X100+Y100+Z100+AB100+AC100+AD100+AE100+AF100+AG100+AH100+AI100+AJ100+AK100)-AL100 -> 2000000
A101: WEWAK | B101: TOTAL | E101: =SUM(E81:E100) -> 283825 | F101: =SUM(F81:F100) -> 105180 | G101: =SUM(G81:G100) -> 90000 | H101: =SUM(H81:H100) -> 82800 | I101: =SUM(I81:I100) -> 68520 | J101: =SUM(J81:J100) -> 346500 | K101: =SUM(K81:K100) -> 2600000 | L101: =SUM(L81:L100) -> 100000 | ... AK101: =SUM(AK81:AK100) -> 0 | AM101: =SUM(AM81:AM100) -> 3441825
...

Sheet EXP.DATES For ACT-RDT-PQ
A1: CODE | B1: ITEM | C1: BATCH # | D1: EXPIRY DATE | E1: PACK SIZE | F1: QUANTITY | G1: QUANTITY IN INDIVIDUAL UNIT | H1: SOURCE | I1: LOCATION
A2: MALARIA CENTRAL STORE
A3: 10570030 | B3: Artemether + Lumefantrine Tab., 20+120mg, blister, 6x1 | C3: NAD2484C | D3: 30/06/2028 | E3: 30 | F3: 338 | G3: =E3*F3 -> 10140 | H3: GLOBAL FUND | I3: R08
A4: 10570040 | B4: Artemether + Lumefantrine Tab., 20+120mg, blister, 12x1 | C4: NAD2488A | D4: 30/06/2028 | E4: 30 | F4: 1136 | G4: =E4*F4 -> 34080 | H4: GLOBAL FUND | I4: R16
A5: 10570040 | B5: Artemether + Lumefantrine Tab., 20+120mg, blister, 12x1 | C5: NAD2489A | D5: 30/06/2028 | E5: 30 | F5: 1944 | G5: =E5*F5 -> 58320 | H5: GLOBAL FUND | I5: P25-RAM STORE
A6: 10570040 | B6: Artemether + Lumefantrine Tab., 20+120mg, blister, 12x1 | C6: NAD2488A | D6: 30/06/2028 | E6: 30 | F6: 0 | G6: =E6*F6 -> 0 | H6: GLOBAL FUND | I6: P23-RAM STORE
A7: 10570040 | B7: Artemether + Lumefantrine Tab., 20+120mg, blister, 12x1 | C7: NAD2489A | D7: 30/06/2028 | E7: 30 | F7: 0 | G7: =E7*F7 -> 0 | H7: GLOBAL FUND | I7: P26-RAM STORE
A8: 10570060 | B8: Artemether + Lumefantrine Tab., 20+120mg, blister, 24x1 | C8: NAA24346A | D8: 30/06/2028 | E8: 30 | F8: 917 | G8: =E8*F8 -> 27510 | H8: GLOBAL FUND | I8: R18
A9: 10570060 | B9: Artemether + Lumefantrine Tab., 20+120mg, blister, 24x1 | C9: NAA24345A | D9: 30/08/2028 | E9: 30 | F9: 0 | G9: =E9*F9 -> 0 | H9: GLOBAL FUND | I9: R17
A10: 10570060 | B10: Artemether + Lumefantrine Tab., 20+120mg, blister, 24x1 | C10: NAA24346A | D10: 30/06/2028 | E10: 30 | F10: 0 | G10: =E10*F10 -> 0 | H10: GLOBAL FUND | I10: R13
A11: 10570060 | B11: Artemether + Lumefantrine Tab., 20+120mg, blister, 24x1 | C11: NAA24348A | D11: 30/06/2028 | E11: 30 | F11: 0 | G11: =E11*F11 -> 0 | H11: GLOBAL FUND | I11: R11
A12: 10570060 | B12: Artemether + Lumefantrine Tab., 20+120mg, blister, 24x1 | C12: NAA24343A | D12: 30/06/2028 | E12: 30 | F12: 0 | G12: =E12*F12 -> 0 | H12: GLOBAL FUND | I12: R15
A13: 10570060 | B13: Artemether + Lumefantrine Tab., 20+120mg, blister, 24x1 | C13: NAA24350A | D13: 30/06/2028 | E13: 30 | F13: 0 | G13: =E13*F13 -> 0 | H13: GLOBAL FUND | I13: R09
A14: 40240100 | B14: Pf/Pan Rapid Diagnostic Test for Malaria | C14: 101695 | D14: 30/06/2026 | E14: 25 | F14: 0 | G14: =E14*F14 -> 0 | H14: GLOBAL FUND | I14: P45 - RAM CR
A16: AREA MEDICAL STORE, BADILI
A17: 10570030 | B17: Artemether 20 mg+Lumefantrine 120mg Tablets, 25-34kg, blister 6x1 | C17: T1APH001 | D17: 31/03/2028 | E17: 30 | F17: 120 | G17: =E17*F17 -> 3600 | H17: GoPNG | I17: BADILI
A18: 10570030 | B18: Artemether 20 mg+Lumefantrine 120mg Tablets, 25-34kg, blister 6x1 | C18: D1APH002 | D18: 30/04/2027 | E18: 30 | F18: 16 | G18: =E18*F18 -> 480 | H18: GoPNG | I18: BADILI
A19: 10570030 | B19: Artemether 20 mg+Lumefantrine 120mg Tablets, 25-34kg, blister 6x1 | C19: T1APH003 | D19: 31/10/2028 | E19: 30 | F19: 864 | G19: =E19*F19 -> 25920 | H19: GoPNG | I19: BADILI
A20: 10570030 | B20: Artemether 20 mg+Lumefantrine 120mg Tablets, 25-34kg, blister 6x1 | C20: HWE084156 | D20: 30/06/2028 | E20: 30 | F20: 672 | G20: =E20*F20 -> 20160 | H20: GoPNG | I20: BADILI
A21: 10570030 | B21: Artemether 20 mg+Lumefantrine 120mg Tablets, 25-34kg, blister 6x1 | C21: HWE084001 | D21: 46386 | E21: 30 | F21: 2017 | G21: =E21*F21 -> 60510 | H21: GoPNG | I21: BADILI
A22: 10570040 | B22: Artemether 20 mg+Lumefantrine 120mg Tablets, 15-24kg, blister 12x1 | C22: HWE094156 | D22: 30/11/2027 | E22: 30 | F22: 0 | G22: =E22*F22 -> 0 | H22: GoPNG | I22: BADILI
A23: 10570040 | B23: Artemether 20 mg+Lumefantrine 120mg Tablets, 15-24kg, blister 12x1 | C23: T1APH001 | D23: 31/03/2028 | E23: 30 | F23: 120 | G23: =E23*F23 -> 3600 | H23: GoPNG | I23: BADILI
A24: 10570040 | B24: Artemether 20 mg+Lumefantrine 120mg Tablets, 15-24kg, blister 12x1 | C24: T1APH001 | D24: 31/03/2028 | E24: 30 | F24: 16 | G24: =E24*F24 -> 480 | H24: GoPNG | I24: BADILI
A25: 10570040 | B25: Artemether 20 mg+Lumefantrine 120mg Tablets, 15-24kg, blister 12x1 | C25: T1APH003 | D25: 31/10/2028 | E25: 30 | F25: 750 | G25: =E25*F25 -> 22500 | H25: GoPNG | I25: BADILI
A26: 10570050 | B26: Artemether 20 mg+Lumefantrine 120mg Tablets, 25-34kg, blister 18x1 | C26: T1APH001 | D26: 31/03/2028 | E26: 30 | F26: 120 | G26: =E26*F26 -> 3600 | H26: GoPNG | I26: BADILI
A27: 10570050 | B27: Artemether 20 mg+Lumefantrine 120mg Tablets, 25-34kg, blister 18x1 | C27: T1APH004 | D27: 31/10/2028 | E27: 30 | F27: 584 | G27: =E27*F27 -> 17520 | H27: GoPNG | I27: BADILI
A28: 10570050 | B28: Artemether 20 mg+Lumefantrine 120mg Tablets, 25-34kg, blister 18x1 | C28: D1APH003 | D28: 30/04/2027 | E28: 30 | F28: 15 | G28: =E28*F28 -> 450 | H28: GoPNG | I28: BADILI
A29: 10570050 | B29: Artemether 20 mg+Lumefantrine 120mg Tablets, 25-34kg, blister 18x1 | C29: T1APH005 | D29: 31/10/2028 | E29: 30 | F29: 1 | G29: =E29*F29 -> 30 | H29: GoPNG | I29: BADILI
A30: 10570060 | B30: Artemether 20 mg+Lumefantrine 120mg Tablets, 35+kg, blister 24x1 | C30: HWE114180 | D30: 30/11/2027 | E30: 30 | F30: 0 | G30: =E30*F30 -> 0 | H30: GoPNG | I30: BADILI
A31: 10570060 | B31: Artemether 20 mg+Lumefantrine 120mg Tablets, 35+kg, blister 24x1 | C31: D1APH007 | D31: 30/11/2027 | E31: 30 | F31: 120 | G31: =E31*F31 -> 3600 | H31: GoPNG | I31: BADILI
A32: 10570060 | B32: Artemether 20 mg+Lumefantrine 120mg Tablets, 35+kg, blister 24x1 | C32: D1APH007 | D32: 30/11/2027 | E32: 30 | F32: 5 | G32: =E32*F32 -> 150 | H32: GoPNG | I32: BADILI
A33: 10570060 | B33: Artemether 20 mg+Lumefantrine 120mg Tablets, 35+kg, blister 24x1 | C33: T1APH006 | D33: 31/10/2028 | E33: 30 | F33: 399 | G33: =E33*F33 -> 11970 | H33: GoPNG | I33: BADILI
A34: 10570060 | B34: Artemether 20 mg+Lumefantrine 120mg Tablets, 35+kg, blister 24x1 | C34: D1APH006 | D34: 30/04/2027 | E34: 30 | F34: 2 | G34: =E34*F34 -> 60 | H34: GoPNG | I34: BADILI
A35: 10570060 | B35: Artemether 20 mg+Lumefantrine 120mg Tablets, 35+kg, blister 24x1 | C35: D1APH002 | D35: 30/04/2027 | E35: 30 | F35: 2 | G35: =E35*F35 -> 60 | H35: GoPNG | I35: BADILI
A36: 10570060 | B36: Artemether 20 mg+Lumefantrine 120mg Tablets, 35+kg, blister 24x1 | C36: C1APH004 | D36: 30/06/2026 | E36: 30 | F36: 3 | G36: =E36*F36 -> 90 | H36: GoPNG | I36: BADILI
A37: 10570060 | B37: Artemether 20 mg+Lumefantrine 120mg Tablets, 35+kg, blister 24x1 | C37: C1APH003 | D37: 30/06/2026 | E37: 30 | F37: 4 | G37: =E37*F37 -> 120 | H37: GoPNG | I37: BADILI
A38: 10570130 | B38: Primaquine Tab., 7.5mg | C38: T35811 | D38: 31/10/2028 | E38: 100 | F38: 3000 | G38: =E38*F38 -> 300000 | H38: GoPNG | I38: BADILI
A39: 10570130 | B39: Primaquine Tab., 7.5mg | C39: O20825 | D39: 31/07/2028 | E39: 100 | F39: 119 | G39: =E39*F39 -> 11900 | H39: GoPNG | I39: BADILI
A40: 40240100 | B40: Rapid Diagnostic Test (RDT) for Malaria, Pack/25 | C40: H006E005D | D40: 31/10/2027 | E40: 25 | F40: 3103 | G40: =E40*F40 -> 77575 | H40: GoPNG | I40: BADILI
A42: AREA MEDICAL STORE, HAGEN | G42: =E42*F42 -> 0
A43: 10570030 | B43: Artemether 20 mg+Lumefantrine 120mg Tablets, 25-34kg, blister 6x1 | C43: HWE084156 | D43: 30/11/2027 | E43: 30 | F43: 83 | G43: =E43*F43 -> 2490 | H43: GoPNG | I43: HAGEN
A44: 10570030 | B44: Artemether 20 mg+Lumefantrine 120mg Tablets, 25-34kg, blister 6x1 | C44: DIAPH002 | D44: 30/04/2027 | E44: 30 | F44: 0 | G44: =E44*F44 -> 0 | H44: GoPNG | I44: HAGEN
A45: 10570040 | B45: Artemether 20 mg+Lumefantrine 120mg Tablets, 25-34kg, blister 12x1 | C45: HWE094015 | D45: 31/01/2027 | E45: 30 | F45: 0 | G45: =E45*F45 -> 0 | H45: GoPNG | I45: HAGEN
A46: 10570040 | B46: Artemether 20 mg+Lumefantrine 120mg Tablets, 25-34kg, blister 12x1 | C46: D1APH002 | D46: 30/04/2027 | E46: 30 | F46: 0 | G46: =E46*F46 -> 0 | H46: GoPNG | I46: HAGEN
A47: 10570040 | B47: Artemether 20 mg+Lumefantrine 120mg Tablets, 25-34kg, blister 12x1 | C47: HWE094156 | D47: 30/11/2027 | E47: 30 | F47: 87 | G47: =E47*F47 -> 2610 | H47: GoPNG | I47: HAGEN
A48: 10570050 | B48: Artemether 20 mg+Lumefantrine 120mg Tablets, 25-34kg, blister 18x1 | C48: HWE104004 | D48: 31/12/2026 | E48: 30 | F48: 0 | G48: =E48*F48 -> 0 | H48: GoPNG | I48: HAGEN
A49: 10570050 | B49: Artemether 20 mg+Lumefantrine 120mg Tablets, 25-34kg, blister 18x1 | C49: HWE104157 | D49: 30/11/2027 | E49: 30 | F49: 941 | G49: =E49*F49 -> 28230 | H49: GoPNG | I49: HAGEN
A50: 10570060 | B50: Artemether 20 mg+Lumefantrine 120mg Tablets, 25-34kg, blister 24x1 | C50: BIAPH002 | D50: 30/04/2027 | E50: 30 | F50: 0 | G50: =E50*F50 -> 0 | H50: GoPNG | I50: HAGEN
A51: 10570060 | B51: Artemether 20 mg+Lumefantrine 120mg Tablets, 25-34kg, blister 24x1 | C51: HWE114003 | D51: 31/12/2026 | E51: 30 | F51: 0 | G51: =E51*F51 -> 0 | H51: GoPNG | I51: HAGEN
A52: 10570060 | B52: Artemether 20 mg+Lumefantrine 120mg Tablets, 25-34kg, blister 24x1 | C52: D1APH005 | D52: 30/04/2027 | E52: 30 | F52: 0 | G52: =E52*F52 -> 0 | H52: GoPNG | I52: HAGEN
A53: 10570060 | B53: Artemether 20 mg+Lumefantrine 120mg Tablets, 25-34kg, blister 24x1 | C53: DIAPH002 | D53: 30/04/2027 | E53: 30 | F53: 0 | G53: =E53*F53 -> 0 | H53: GoPNG | I53: HAGEN
A54: 10570060 | B54: Artemether 20 mg+Lumefantrine 120mg Tablets, 25-34kg, blister 24x1 | C54: HWE114157 | D54: 30/11/2027 | E54: 30 | F54: 145 | G54: =E54*F54 -> 4350 | H54: GoPNG | I54: HAGEN
A55: 10570130 | B55: Primaquine Tab., 7.5mg | C55: T35810 | D55: 31/03/2028 | E55: 100 | F55: 5690 | G55: =E55*F55 -> 569000 | H55: GoPNG | I55: HAGEN
A56: 40240100 | B56: Rapid Diagnostic Test (RDT) for Malaria, Pack/25 | C56: H006E005D | D56: 46691 | E56: 25 | F56: 7918 | G56: =E56*F56 -> 197950 | H56: GoPNG | I56: HAGEN
A57: 40240100 | B57: Rapid Diagnostic Test (RDT) for Malaria, Pack/25 | C57: H006E001D | D57: 31/01/2027 | E57: 25 | F57: 0 | G57: =E57*F57 -> 0 | H57: GoPNG | I57: HAGEN
A59: AREA MEDICAL STORE, KOKOPO | G59: =E59*F59 -> 0
A60: 10570030 | B60: Artemether 20 mg+Lumefantrine 120mg Tablets, 25-34kg, blister 6x1 | C60: HWE084001 | D60: 46387 | E60: 30 | F60: 10 | G60: =E60*F60 -> 300 | H60: GoPNG | I60: KOKOPO
A61: 10570040 | B61: Artemether 20 mg+Lumefantrine 120mg Tablets, 25-34kg, blister 6x1 | C61: HWE094156 | D61: 46418 | E61: 30 | F61: 173 | G61: =E61*F61 -> 5190 | H61: GoPNG | I61: KOKOPO
A62: 10570040 | B62: Artemether 20 mg+Lumefantrine 120mg Tablets, 25-34kg, blister 12x1 | C62: HWE094015 | D62: 46418 | E62: 30 | F62: 18 | G62: =E62*F62 -> 540 | H62: GoPNG | I62: KOKOPO
A63: 10570040 | B63: Artemether 20 mg+Lumefantrine 120mg Tablets, 25-34kg, blister 12x1 | C63: HWE094006 | D63: 46752 | E63: 30 | F63: 6 | G63: =E63*F63 -> 180 | H63: GoPNG | I63: KOKOPO
A64: 10570040 | B64: Artemether 20 mg+Lumefantrine 120mg Tablets, 25-34kg, blister 12x1 | C64: HWE094156 | D64: 30/11/2027 | E64: 30 | F64: 59 | G64: =E64*F64 -> 1770 | H64: GoPNG | I64: KOKOPO
A65: 10570050 | B65: Artemether 20 mg+Lumefantrine 120mg Tablets, 25-34kg, blister 18x1 | C65: HWE104156 | D65: 46721 | E65: 30 | F65: =28+34 -> 62 | G65: =E65*F65 -> 1860 | H65: GoPNG | I65: KOKOPO
A66: 10570050 | B66: Artemether 20 mg+Lumefantrine 120mg Tablets, 25-34kg, blister 18x1 | C66: TIAPH001 | D66: 46843 | E66: 30 | F66: 0 | G66: =E66*F66 -> 0 | H66: GoPNG | I66: KOKOPO
A67: 10570050 | B67: Artemether 20 mg+Lumefantrine 120mg Tablets, 25-34kg, blister 18x1 | C67: CIAPH005 | D67: 46326 | E67: 30 | F67: 71 | G67: =E67*F67 -> 2130 | H67: GoPNG | I67: KOKOPO
A68: 10570060 | B68: Artemether 20 mg+Lumefantrine 120mg Tablets, 25-34kg, blister 24x1 | C68: HWE114180 | D68: 46721 | E68: 30 | F68: 0 | G68: =E68*F68 -> 0 | H68: GoPNG | I68: KOKOPO
A69: 10570130 | B69: Primaquine Tablet, 7.5mg | C69: 80324 | D69: 46446 | E69: 100 | F69: 0 | G69: =E69*F69 -> 0 | H69: GoPNG | I69: KOKOPO
A70: 10570030 | B70: Primaquine Tablet, 7.5mg | C70: 20825 | D70: 46965 | E70: 100 | F70: 0 | G70: =E70*F70 -> 0 | H70: GoPNG | I70: KOKOPO
A71: 40240100 | B71: Rapid Diagnostic Test (RDT) for Malaria, Pack/25 | C71: H006E002D | D71: 46418 | E71: 25 | F71: 26 | G71: =E71*F71 -> 650 | H71: GoPNG | I71: KOKOPO
A72: 40240100 | B72: Rapid Diagnostic Test (RDT) for Malaria, Pack/25 | C72: H006E003D | D72: 46507 | E72: 25 | F72: 1950 | G72: =E72*F72 -> 48750 | H72: GoPNG | I72: KOKOPO
A73: 40240100 | B73: Rapid Diagnostic Test (RDT) for Malaria, Pack/25 | C73: H006E001D | D73: 46418 | E73: 25 | F73: 10 | G73: =E73*F73 -> 250 | H73: GoPNG | I73: KOKOPO
A75: AREA MEDICAL STORE, LAE
A76: 10570030 | B76: Artemether 20 mg+Lumefantrine 120mg Tablets, 25-34kg, blister 6x1 | C76: T1APH003 | D76: 47057 | E76: 30 | F76: =744 -> 744 | G76: =E76*F76 -> 22320 | H76: GoPNG | I76: LAE
A77: 10570030 | B77: Artemether 20 mg+Lumefantrine 120mg Tablets, 25-34kg, blister 6x1 | C77: T1APH001 | D77: 46843 | E77: 30 | F77: 16 | G77: =E77*F77 -> 480 | H77: GoPNG | I77: LAE
A78: 10570030 | B78: Artemether 20 mg+Lumefantrine 120mg Tablets, 25-34kg, blister 6x1 | C78: HWE084156 | D78: 46721 | E78: 30 | F78: 100 | G78: =E78*F78 -> 3000 | H78: GoPNG | I78: LAE
A79: 10570040 | B79: Artemether 20 mg+Lumefantrine 120mg Tablets, 25-34kg, blister 12x1 | C79: TIAPH004 | D79: 46843 | E79: 30 | F79: 744 | G79: =E79*F79 -> 22320 | H79: GoPNG | I79: LAE
A80: 10570040 | B80: Artemether 20 mg+Lumefantrine 120mg Tablets, 25-34kg, blister 12x1 | C80: TIAPH003 | D80: 46843 | E80: 30 | F80: 16 | G80: =E80*F80 -> 480 | H80: GoPNG | I80: LAE
A81: 10570040 | B81: Artemether 20 mg+Lumefantrine 120mg Tablets, 25-34kg, blister 12x1 | C81: HWE094015 | D81: 46417 | E81: 30 | F81: 30 | G81: =E81*F81 -> 900 | H81: GoPNG | I81: LAE
A82: 10570040 | B82: Artemether 20 mg+Lumefantrine 120mg Tablets, 25-34kg, blister 12x1 | C82: HWE094156 | D82: 46721 | E82: 30 | F82: 118 | G82: =E82*F82 -> 3540 | H82: GoPNG | I82: LAE
A83: 10570050 | B83: Artemether 20 mg+Lumefantrine 120mg Tablets, 25-34kg, blister 18x1 | C83: HWE104157 | D83: 46721 | E83: 30 | F83: 100 | G83: =E83*F83 -> 3000 | H83: GoPNG | I83: LAE
A84: 10570050 | B84: Artemether 20 mg+Lumefantrine 120mg Tablets, 25-34kg, blister 18x1 | C84: D1AP007 | D84: 46721 | E84: 30 | F84: 0 | G84: =E84*F84 -> 0 | H84: GoPNG | I84: LAE
A85: 10570050 | B85: Artemether 20 mg+Lumefantrine 120mg Tablets, 25-34kg, blister 18x1 | C85: TIAPH001 | D85: 46843 | E85: 30 | F85: 0 | G85: =E85*F85 -> 0 | H85: GoPNG | I85: LAE
A86: 10570060 | B86: Artemether 20 mg+Lumefantrine 120mg Tablets, 25-34kg, blister 24x1 | C86: HWE114157 | D86: 46721 | E86: 30 | F86: 100 | G86: =E86*F86 -> 3000 | H86: GoPNG | I86: LAE
A87: 10570060 | B87: Artemether 20 mg+Lumefantrine 120mg Tablets, 25-34kg, blister 24x1 | C87: D1APH002 | D87: 46571 | E87: 30 | F87: 0 | G87: =E87*F87 -> 0 | H87: GoPNG | I87: LAE
A88: 10570060 | B88: Artemether 20 mg+Lumefantrine 120mg Tablets, 25-34kg, blister 24x1 | C88: D1APH006 | D88: 46507 | E88: 30 | F88: 0 | G88: =E88*F88 -> 0 | H88: GoPNG | I88: LAE
A89: 10570130 | B89: Primaquine Tablet, 7.5mg | C89: T35810 | D89: 46783 | E89: 100 | F89: 500 | G89: =E89*F89 -> 50000 | H89: GoPNG | I89: LAE
A90: 10570130 | B90: Primaquine Tablet, 7.5mg | C90: O30825 | D90: 46965 | E90: 100 | F90: 5000 | G90: =E90*F90 -> 500000 | H90: GoPNG | I90: LAE
A91: 10570130 | B91: Primaquine Tablet, 7.5mg | C91: T35811 | D91: 47057 | E91: 100 | F91: =2465+1500 -> 3965 | G91: =E91*F91 -> 396500 | H91: GoPNG | I91: LAE
A92: 40240100 | B92: Rapid Diagnostic Test (RDT) for Malaria, Pack/25 | C92: HOO6E002D | D92: 46811 | E92: 25 | F92: 2170 | G92: =E92*F92 -> 54250 | H92: GoPNG | I92: LAE
A93: 40240100 | B93: Rapid Diagnostic Test (RDT) for Malaria, Pack/25 | C93: HOO6E005D | D93: 46721 | E93: 25 | F93: 3300 | G93: =E93*F93 -> 82500 | H93: GoPNG | I93: LAE
A94: 40240100 | B94: Rapid Diagnostic Test (RDT) for Malaria, Pack/25 | C94: H006E003D | D94: 46507 | E94: 25 | F94: 1870 | G94: =E94*F94 -> 46750 | H94: GoPNG | I94: LAE
A96: AREA MEDICAL STORE, WEWAK
A97: 10570030 | B97: Artemether 20 mg+Lumefantrine 120mg Tablets, 25-34kg, blister 6x1 | C97: T1APH001 | D97: 46842 | E97: 30 | F97: 0 | G97: =E97*F97 -> 0 | H97: GoPNG | I97: WEWAK
A98: 10570030 | B98: Artemether 20 mg+Lumefantrine 120mg Tablets, 25-34kg, blister 6x1 | C98: HWE084001 | D98: 46386 | E98: 30 | F98: 10 | G98: =E98*F98 -> 300 | H98: GoPNG | I98: WEWAK
A99: 10570030 | B99: Artemether 20 mg+Lumefantrine 120mg Tablets, 25-34kg, blister 6x1 | C99: HWE084001 | D99: 46357 | E99: 30 | F99: 0 | G99: =E99*F99 -> 0 | H99: GoPNG | I99: WEWAK
A100: 10570040 | B100: Artemether 20 mg+Lumefantrine 120mg Tablets, 25-34kg, blister 12x1 | C100: HWE094015 | D100: 46388 | E100: 30 | F100: 0 | G100: =E100*F100 -> 0 | H100: GoPNG | I100: WEWAK
A101: 10570040 | B101: Artemether 20 mg+Lumefantrine 120mg Tablets, 25-34kg, blister 12x1 | C101: T1APH001 | D101: 46813 | E101: 30 | F101: 0 | G101: =E101*F101 -> 0 | H101: GoPNG | I101: WEWAK
A102: 10570050 | B102: Artemether 20 mg+Lumefantrine 120mg Tablets, 25-34kg, blister 18x1 | C102: HEW104157 | D102: 46692 | E102: 30 | F102: 156 | G102: =E102*F102 -> 4680 | H102: GoPNG | I102: WEWAK
A103: 10570050 | B103: Artemether 20 mg+Lumefantrine 120mg Tablets, 25-34kg, blister 18x1 | C103: T1APH001 | D103: 46842 | E103: 30 | F103: 0 | G103: =E103*F103 -> 0 | H103: GoPNG | I103: WEWAK
A104: 10570060 | B104: Artemether 20 mg+Lumefantrine 120mg Tablets, 25-34kg, blister 24x1 | C104: HEW114157 | D104: 46721 | E104: 30 | F104: 0 | G104: =E104*F104 -> 0 | H104: GoPNG | I104: WEWAK
A105: 10570060 | B105: Artemether 20 mg+Lumefantrine 120mg Tablets, 25-34kg, blister 24x1 | C105: D1APH007 | D105: 46721 | E105: 30 | F105: 0 | G105: =E105*F105 -> 0 | H105: GoPNG | I105: WEWAK
...

Sheet Table of Summary
A1: A. ACTs, RDT, & PRIMAQUINE
A3: 1. Stock on Hand | F3: 2. Stock in Pipeline
B5: RDT | C5: ACTs (Total) | D5: Primaquine | G5: RDT | H5: ACTs (Total) | I5: Primaquine
A6: NDoH | B6: ='ACT-RDT-PQ BY AMS'!B10 -> 716625 | C6: ='ACT-RDT-PQ BY AMS'!G10 -> 284070 | D6: ='ACT-RDT-PQ BY AMS'!H10 -> 2056100 | F6: Total NDoH | G6: ='ACT-RDT-PQ BY AMS'!K10 -> 1313150 | H6: ='ACT-RDT-PQ BY AMS'!P10 -> 1737450 | I6: ='ACT-RDT-PQ BY AMS'!Q10 -> 9500400
A7: SOH in Months | B7: ='ACT-RDT-PQ BY AMS'!B19 -> 2.149875 | C7: ='ACT-RDT-PQ BY AMS'!C19 -> 0.93033529 | D7: ='ACT-RDT-PQ BY AMS'!H19 -> 1.4774371 | F7: Stock in Months | G7: ='ACT-RDT-PQ BY AMS'!K19 -> 3.93945 | H7: ='ACT-RDT-PQ BY AMS'!L19 -> 6.5715882 | I7: ='ACT-RDT-PQ BY AMS'!Q19 -> 6.8266347
A8: Global Fund/RAM | B8: ='ACT-RDT-PQ BY AMS'!B11 -> 0 | C8: ='ACT-RDT-PQ BY AMS'!G11 -> 110190 | D8: ='ACT-RDT-PQ BY AMS'!H11 -> 0 | F8: Global Fund/RAM | G8: ='ACT-RDT-PQ BY AMS'!K11 -> 2000000 | H8: ='ACT-RDT-PQ BY AMS'!P11 -> 1539780 | I8: ='ACT-RDT-PQ BY AMS'!Q11 -> 0
A9: SOH in Months | B9: ='ACT-RDT-PQ BY AMS'!B20 -> 0 | C9: ='ACT-RDT-PQ BY AMS'!C20 -> 0.43544118 | D9: ='ACT-RDT-PQ BY AMS'!H20 -> 0 | F9: Stock in Months | G9: ='ACT-RDT-PQ BY AMS'!K20 -> 6 | H9: ='ACT-RDT-PQ BY AMS'!L20 -> 7.4497235 | I9: ='ACT-RDT-PQ BY AMS'!Q20 -> 0
A10: Total | B10: =B6+B8 -> 716625 | C10: =C6+C8 -> 394260 | D10: =D6+D8 -> 2056100 | F10: Total | G10: =G8+G6 -> 3313150 | H10: =H8+H6 -> 3277230 | I10: =I8+I6 -> 9500400
A11: SOH in Months | B11: ='ACT-RDT-PQ BY AMS'!B18 -> 2.149875 | C11: ='ACT-RDT-PQ BY AMS'!C18:G18 -> 1.3657765 | D11: ='ACT-RDT-PQ BY AMS'!H18 -> 1.4774371 | F11: Total stock in Months | G11: ='ACT-RDT-PQ BY AMS'!K18 -> 9.93945 | H11: ='ACT-RDT-PQ BY AMS'!L18 -> 14.021312 | I11: ='ACT-RDT-PQ BY AMS'!Q18 -> 6.8266347
J12: B. OTHER ANTI-MALARIALs (NDoH Procurement)
J13: ITEM | K13: STOCK ON HAND | L13: STOCK ON ORDER | M13: EXPECTED STOCK POSSIBLY IN THE NEXT SIX MONTHS
J14: SULFADOXINE 500MG + PYRIMETHAMINE 25MG (SP) (TABLET) | K14: =' Other A.M.Drugs BY AMS'!B12 -> 0 | L14: =' Other A.M.Drugs BY AMS'!M12 -> 624400 | M14: =K14+L14 -> 624400
J15: ARTEMETHER INJ. 80MG (AMPOULE) | K15: =' Other A.M.Drugs BY AMS'!C12 -> 55854 | L15: =' Other A.M.Drugs BY AMS'!N12 -> 27000 | M15: =K15+L15 -> 82854
J16: ARTEMETHER INJ. 40MG (AMPOULE) | K16: =' Other A.M.Drugs BY AMS'!D12 -> 19516 | L16: =' Other A.M.Drugs BY AMS'!O12 -> 16000 | M16: =K16+L16 -> 35516
J17: ARTESUNATE INJECTION 60MG (VIAL) | K17: =' Other A.M.Drugs BY AMS'!E12 -> 25418 | L17: =' Other A.M.Drugs BY AMS'!P12 -> 0 | M17: =K17+L17 -> 25418
J18: QUININE INJ. 600MG (VIAL) | K18: =' Other A.M.Drugs BY AMS'!F12 -> 1760 | L18: =' Other A.M.Drugs BY AMS'!Q12 -> 10000 | M18: =K18+L18 -> 11760
J19: QUININE TABLET 300MG | K19: =' Other A.M.Drugs BY AMS'!G12 -> 52200 | L19: =' Other A.M.Drugs BY AMS'!R12 -> 500000 | M19: =K19+L19 -> 552200
J20: DIHYDROARTEMISININ 40MG + PIPERAQUINE 340mg (TAB) | K20: =' Other A.M.Drugs BY AMS'!J12 -> 2433 | L20: =' Other A.M.Drugs BY AMS'!U12 -> 0 | M20: =K20+L20 -> 2433

Sheet LLIN SOH
B1: SOH OF LLINS IN PNG
B2: Container Numbers | C2: Funded By | D2: Yoorkool for RAM origional (XL) | E2: ANC SDP NETS | F2: MAGNETS FOR DISTRIBUTION | G2: MAGNETS in Lae | H2: Yahe Nets | I2: ANC Yahe Nets Lae | J2: Stock sheet status | K2: Comments
B3: TCKU 2415060 | C3: RAM Origional | D3: 11100 | E3: 0 | F3: 0 | G3: 0 | H3: 0 | I3: 0 | J3: same | K3: Ram Origional Nets | L3: For Positive Patients
B4: TCKU 1510925 | C4: Global Fund | D4: 0 | E4: 0 | F4: 0 | G4: =243*50 -> 12150 | H4: 0 | I4: 0 | J4: Same | K4: EFM Lae | L4: Morobe Nets
B5: TCKU 1603946 | C5: Global Fund | D5: 0 | E5: 0 | F5: 0 | G5: 12150 | H5: 0 | I5: 0 | J5: Same | K5: EFM Lae | L5: Morobe Nets
B6: TCKU 1893260 | C6: Global Fund | D6: 0 | E6: 0 | F6: 0 | G6: =241*50 -> 12050 | H6: 0 | I6: 0 | J6: Same | K6: EFM Lae | L6: Morobe Nets
B7: TCKU 1915414 | C7: Global Fund | D7: 0 | E7: 0 | F7: 0 | G7: =243*50 -> 12150 | H7: 0 | I7: 0 | J7: Same | K7: EFM Lae | L7: Morobe Nets
B8: TCKU 2789692 | C8: Global Fund | D8: 0 | E8: 0 | F8: 0 | G8: 7850 | H8: 0 | I8: 0 | J8: Same | K8: EFM Lae | L8: Removed from Oro Container
B9: CBHU 4047501 | C9: Global Fund | D9: 0 | E9: 0 | F9: 9240 | G9: 0 | H9: 0 | I9: 0 | J9: same | K9: GFS POM | L9: Central Province nets
B10: MSUU 2140809 | C10: Global Fund | D10: 0 | E10: 0 | F10: 0 | G10: 0 | H10: 0 | I10: 0 | J10: same | K10: GFS POM | L10: Central Province nets
B11: GATU 0494263 | C11: Global Fund | D11: 0 | E11: 0 | F11: 0 | G11: 0 | H11: 0 | I11: 0 | J11: same | K11: GFS POM | L11: Central Province nets
B12: CBHU - 5705295 | C12: SDP | D12: 0 | E12: 7000 | F12: 0 | G12: 0 | H12: 0 | I12: 0 | J12: same | K12: GFS POM | L12: ANC
B13: CBHU - 5659306 | C13: SDP | D13: 0 | E13: 12500 | F13: 0 | G13: 0 | H13: 0 | I13: 0 | J13: same | K13: GFS POM | L13: ANC
B14: FCIU - 3110233 | C14: SDP | D14: 0 | E14: 7300 | F14: 0 | G14: 0 | H14: 0 | I14: 0 | J14: same | K14: GFS POM | L14: ANC
B15: DFSU - 2027730 | C15: SDP | D15: 0 | E15: 12500 | F15: 0 | G15: 0 | H15: 0 | I15: 0 | J15: same | K15: GFS POM | L15: ANC
B16: HJLU 1351462 | C16: Global Fund | D16: 0 | E16: 0 | F16: 0 | G16: 0 | H16: =380*50 -> 19000 | I16: 0 | J16: same | K16: EFM Lae | L16: WNBP New arrivals in Lae
B17: HJLU 1353871 | C17: Global Fund | D17: 0 | E17: 0 | F17: 0 | G17: 0 | H17: =380*50 -> 19000 | I17: 0 | J17: same | K17: EFM Lae | L17: WNBP New arrivals in Lae
B18: HJLU 1356905 | C18: Global Fund | D18: 0 | E18: 0 | F18: 0 | G18: 0 | H18: =380*50 -> 19000 | I18: 0 | J18: same | K18: EFM Lae | L18: WNBP New arrivals in Lae
B19: HJLU 1379618 | C19: Global Fund | D19: 0 | E19: 0 | F19: 0 | G19: 0 | H19: =380*50 -> 19000 | I19: 0 | J19: same | K19: EFM Lae | L19: WNBP New arrivals in Lae
B20: HJLU 1390181 | C20: Global Fund | D20: 0 | E20: 0 | F20: 0 | G20: 0 | H20: =380*50 -> 19000 | I20: 0 | J20: same | K20: EFM Lae | L20: WNBP New arrivals in Lae
B21: HJLU 1396209 | C21: Global Fund | D21: 0 | E21: 0 | F21: 0 | G21: 0 | H21: =380*50 -> 19000 | I21: 0 | J21: same | K21: EFM Lae | L21: WNBP New arrivals in Lae
B22: TEMU 4471010 | C22: Global Fund | D22: 0 | E22: 0 | F22: 0 | G22: 0 | H22: =380*50 -> 19000 | I22: 0 | J22: same | K22: EFM Lae | L22: WNBP New arrivals in Lae
B23: TGHU 0454865 | C23: Global Fund | D23: 0 | E23: 0 | F23: 0 | G23: 0 | H23: =380*50 -> 19000 | I23: 0 | J23: same | K23: EFM Lae | L23: WNBP New arrivals in Lae
B24: TGHU 1097490 | C24: Global Fund | D24: 0 | E24: 0 | F24: 0 | G24: 0 | H24: =380*50 -> 19000 | I24: 0 | J24: same | K24: EFM Lae | L24: WNBP New arrivals in Lae
B25: TGHU 1692174 | C25: Global Fund | D25: 0 | E25: 0 | F25: 0 | G25: 0 | H25: =380*50 -> 19000 | I25: 0 | J25: same | K25: EFM Lae | L25: WNBP New arrivals in Lae
B26: TGHU 1752205 | C26: Global Fund | D26: 0 | E26: 0 | F26: 0 | G26: 0 | H26: =380*50 -> 19000 | I26: 0 | J26: same | K26: EFM Lae | L26: WNBP New arrivals in Lae
B27: TGHU 1840414 | C27: Global Fund | D27: 0 | E27: 0 | F27: 0 | G27: 0 | H27: =380*50 -> 19000 | I27: 0 | J27: same | K27: EFM Lae | L27: WNBP New arrivals in Lae
B28: GATU 1369100 | C28: Global Fund | D28: 0 | E28: 0 | F28: 0 | G28: 0 | H28: 0 | I28: 16650 | J28: same | K28: EFM Lae | L28: ANC New Arrivals
B29: TEMU 2987136 | C29: Global Fund | D29: 0 | E29: 0 | F29: 0 | G29: 0 | H29: 0 | I29: 16650 | J29: same | K29: EFM Lae | L29: ANC New Arrivals
B30: TEXU 16088313 | C30: Global Fund | D30: 0 | E30: 0 | F30: 0 | G30: 0 | H30: 0 | I30: 16650 | J30: same | K30: EFM Lae | L30: ANC New Arrivals
B31: TGHU 0154750 | C31: Global Fund | D31: 0 | E31: 0 | F31: 0 | G31: 0 | H31: 0 | I31: 16700 | J31: same | K31: EFM Lae | L31: ANC New Arrivals
B32: TGHU 0426610 | C32: Global Fund | D32: 0 | E32: 0 | F32: 0 | G32: 0 | H32: 0 | I32: 16700 | J32: same | K32: EFM Lae | L32: ANC New Arrivals
B33: TGHU 0441180 | C33: Global Fund | D33: 0 | E33: 0 | F33: 0 | G33: 0 | H33: 0 | I33: 16700 | J33: same | K33: EFM Lae | L33: ANC New Arrivals
B34: CLHU 3722945 | C34: Global Fund | D34: 0 | E34: 0 | F34: 0 | G34: 0 | H34: =380*50 -> 19000 | I34: 0 | J34: same | K34: EFM Lae-ETA 14.10.25 | L34: East New Britain Nets - New Arrivals
B35: CLHU 3834689 | C35: Global Fund | D35: 0 | E35: 0 | F35: 0 | G35: 0 | H35: =380*50 -> 19000 | I35: 0 | J35: same | K35: EFM Lae-ETA 14.10.25 | L35: East New Britain Nets - New Arrivals
B36: GATU 1285859 | C36: Global Fund | D36: 0 | E36: 0 | F36: 0 | G36: 0 | H36: =380*50 -> 19000 | I36: 0 | J36: same | K36: EFM Lae-ETA 14.10.25 | L36: East New Britain Nets - New Arrivals
B37: TEMU 2999564 | C37: Global Fund | D37: 0 | E37: 0 | F37: 0 | G37: 0 | H37: =380*50 -> 19000 | I37: 0 | J37: same | K37: EFM Lae-ETA 14.10.25 | L37: East New Britain Nets - New Arrivals
B38: TEMU 3325448 | C38: Global Fund | D38: 0 | E38: 0 | F38: 0 | G38: 0 | H38: =380*50 -> 19000 | I38: 0 | J38: same | K38: EFM Lae-ETA 14.10.25 | L38: East New Britain Nets - New Arrivals
B39: TGHU 0320280 | C39: Global Fund | D39: 0 | E39: 0 | F39: 0 | G39: 0 | H39: =380*50 -> 19000 | I39: 0 | J39: same | K39: EFM Lae-ETA 14.10.25 | L39: East New Britain Nets - New Arrivals
B40: TGHU 1016837 | C40: Global Fund | D40: 0 | E40: 0 | F40: 0 | G40: 0 | H40: =380*50 -> 19000 | I40: 0 | J40: same | K40: EFM Lae-ETA 14.10.25 | L40: East New Britain Nets - New Arrivals
B41: TGHU 1548613 | C41: Global Fund | D41: 0 | E41: 0 | F41: 0 | G41: 0 | H41: =380*50 -> 19000 | I41: 0 | J41: same | K41: EFM Lae-ETA 14.10.25 | L41: East New Britain Nets - New Arrivals
B42: TGHU 1548613 | C42: Global Fund | D42: 0 | E42: 0 | F42: 0 | G42: 0 | H42: =380*50 -> 19000 | I42: 0 | J42: same | K42: EFM Lae-ETA 14.10.25 | L42: East New Britain Nets - New Arrivals
B43: TGHU 3952331 | C43: Global Fund | D43: 0 | E43: 0 | F43: 0 | G43: 0 | H43: =380*50 -> 19000 | I43: 0 | J43: same | K43: EFM Lae-ETA 14.10.25 | L43: East New Britain Nets - New Arrivals
B44: TGHU 3953169 | C44: Global Fund | D44: 0 | E44: 0 | F44: 0 | G44: 0 | H44: =380*50 -> 19000 | I44: 0 | J44: same | K44: EFM Lae-ETA 14.10.25 | L44: East New Britain Nets - New Arrivals
B45: XINU 1295102 | C45: Global Fund | D45: 0 | E45: 0 | F45: 0 | G45: 0 | H45: =380*50 -> 19000 | I45: 0 | J45: same | K45: EFM Lae-ETA 14.10.25 | L45: East New Britain Nets - New Arrivals
B46: CLHU 3863603 | C46: Global Fund | D46: 0 | E46: 0 | F46: 0 | G46: 0 | H46: 0 | I46: 12500 | J46: same | K46: GFS POM | L46: New arrivals ANC
B47: AMFU 3238531 | C47: Global Fund | D47: 0 | E47: 0 | F47: 0 | G47: 0 | H47: 0 | I47: 12500 | J47: same | K47: GFS POM | L47: New arrivals ANC
B48: CLHU 3833759 | C48: Global Fund | D48: 0 | E48: 0 | F48: 0 | G48: 0 | H48: =380*50 -> 19000 | I48: 0 | J48: Same | K48: EFM Lae-ETA 14.10.25 | L48: AROB Nets - New Arrivals
B49: CLHU 3876365 | C49: Global Fund | D49: 0 | E49: 0 | F49: 0 | G49: 0 | H49: =380*50 -> 19000 | I49: 0 | J49: Same | K49: EFM Lae-ETA 14.10.25 | L49: AROB Nets - New Arrivals
B50: TEMU 4110125 | C50: Global Fund | D50: 0 | E50: 0 | F50: 0 | G50: 0 | H50: =380*50 -> 19000 | I50: 0 | J50: Same | K50: EFM Lae-ETA 14.10.25 | L50: AROB Nets - New Arrivals
B51: TGHU 0144216 | C51: Global Fund | D51: 0 | E51: 0 | F51: 0 | G51: 0 | H51: =380*50 -> 19000 | I51: 0 | J51: Same | K51: EFM Lae-ETA 14.10.25 | L51: AROB Nets - New Arrivals
B52: TGHU 0575229 | C52: Global Fund | D52: 0 | E52: 0 | F52: 0 | G52: 0 | H52: =380*50 -> 19000 | I52: 0 | J52: Same | K52: EFM Lae-ETA 14.10.25 | L52: AROB Nets - New Arrivals
B53: TGHU 0594785 | C53: Global Fund | D53: 0 | E53: 0 | F53: 0 | G53: 0 | H53: =380*50 -> 19000 | I53: 0 | J53: Same | K53: EFM Lae-ETA 14.10.25 | L53: AROB Nets - New Arrivals
B54: TGHU 0676754 | C54: Global Fund | D54: 0 | E54: 0 | F54: 0 | G54: 0 | H54: =380*50 -> 19000 | I54: 0 | J54: Same | K54: EFM Lae-ETA 14.10.25 | L54: AROB Nets - New Arrivals
B55: TGHU 0906332 | C55: Global Fund | D55: 0 | E55: 0 | F55: 0 | G55: 0 | H55: =380*50 -> 19000 | I55: 0 | J55: Same | K55: EFM Lae-ETA 14.10.25 | L55: AROB Nets - New Arrivals
B56: TGHU 1201270 | C56: Global Fund | D56: 0 | E56: 0 | F56: 0 | G56: 0 | H56: =380*50 -> 19000 | I56: 0 | J56: Same | K56: EFM Lae-ETA 14.10.25 | L56: AROB Nets - New Arrivals
B57: TGHU 30901442 | C57: Global Fund | D57: 0 | E57: 0 | F57: 0 | G57: 0 | H57: =380*50 -> 19000 | I57: 0 | J57: Same | K57: EFM Lae-ETA 14.10.25 | L57: AROB Nets - New Arrivals
B58: TGHU 3903450 | C58: Global Fund | D58: 0 | E58: 0 | F58: 0 | G58: 0 | H58: =380*50 -> 19000 | I58: 0 | J58: Same | K58: EFM Lae-ETA 14.10.25 | L58: AROB Nets - New Arrivals
B59: TOTAL | D59: =SUM(D3:D33) -> 11100 | E59: 39300 | F59: 9240 | G59: =SUM(G4:G33) -> 56350 | H59: =SUM(H3:H58) -> 665000 | I59: 125050
B61: CURRENT STOCK | C61: MAGNETS HH DiSTributiON | D61: YAHE HH DISTRIBUTION | E61: ANC NETS FOR SDP | F61: YAHE NETS FOR ANC | G61: RAM ORIGIONAL NETS
B62: GFS POM | C62: 9240 | D62: 0 | E62: 39300 | F62: 25000 | G62: 11100
B63: EFM LAE | C63: 56350 | D63: 665000 | E63: 0 | F63: 100050 | G63: 0
B64: TOTALS | C64: =SUM(C62:C63) -> 65590 | D64: =SUM(D62:D63) -> 665000 | E64: =SUM(E62:E63) -> 39300 | F64: =SUM(F62:F63) -> 125050 | G64: =SUM(G62:G63) -> 11100
