Workbook

Sheet SUMMARY STOCK UPDATE
A1: SUMMARY - STOCK AND PROCUREMENT SUMMARY OF MEDICAL SUPPLIES BRANCH AND RAM/GF
A2: 20th of March 2026
A4: ITEM | B4: PACK SIZE | C4: STOCK ON HAND | G4: STOCK ON ORDER | K4: EXPECTED STOCK POSSIBLY IN THE NEXT SIX MONTHS | M4: EXPECTED DATES OF ARRIVAL
C5: QUANTITY | F5: IN MONTHS OF STOCK | G5: QUANTITY | J5: IN MONTHS OF STOCK | K5: QUANTITY | L5: IN MONTHS OF STOCK | M5: NDoH | N5: GF/RAM
C6: NDoH | D6: GF/RAM | E6: TOTAL | G6: NDoH | H6: GF/RAM | I6: TOTAL
A7: RDT, ACT, & PRIMAQUINE | K7: =E7+I7 -> 0
A8: ACT 6 TABS | B8: INDIVIDUAL TREATMENT COURSE | C8: ='ACT-RDT-PQ BY AMS'!C10 -> 144750 | D8: ='ACT-RDT-PQ BY AMS'!C11 -> 6450 | E8: ='ACT-RDT-PQ BY AMS'!C12 -> 151200 | F8: =E8/'ACT-RDT-PQ BY AMS'!AA17 -> 0.26682353 | G8: ='ACT-RDT-PQ BY AMS'!L10 -> 652980 | H8: ='ACT-RDT-PQ BY AMS'!L11 -> 294750 | I8: =G8+H8 -> 947730 | J8: =I8/'ACT-RDT-PQ BY AMS'!AA17 -> 1.6724647 | K8: =E8+I8 -> 1098930 | L8: =F8+J8 -> 1.9392882
A9: ACT 12 TABS | B9: INDIVIDUAL TREATMENT COURSE | C9: ='ACT-RDT-PQ BY AMS'!D10 -> 58920 | D9: ='ACT-RDT-PQ BY AMS'!D11 -> 87330 | E9: ='ACT-RDT-PQ BY AMS'!D12 -> 146250 | F9: =(E9*2)/'ACT-RDT-PQ BY AMS'!AA17 -> 0.51617647 | G9: ='ACT-RDT-PQ BY AMS'!M10 -> 486000 | H9: ='ACT-RDT-PQ BY AMS'!M11 -> 409740 | I9: =G9+H9 -> 895740 | J9: =(I9*2)/'ACT-RDT-PQ BY AMS'!AA17 -> 3.1614353 | K9: =E9+I9 -> 1041990 | L9: =F9+J9 -> 3.6776118
A10: ACT 18 TABS | B10: INDIVIDUAL TREATMENT COURSE | C10: ='ACT-RDT-PQ BY AMS'!E10 -> 57000 | D10: ='ACT-RDT-PQ BY AMS'!E11 -> 0 | E10: ='ACT-RDT-PQ BY AMS'!E12 -> 57000 | F10: =(E10*3)/'ACT-RDT-PQ BY AMS'!AA17 -> 0.30176471 | G10: ='ACT-RDT-PQ BY AMS'!N10 -> 294960 | H10: ='ACT-RDT-PQ BY AMS'!N11 -> 233880 | I10: =G10+H10 -> 528840 | J10: =(I10*3)/'ACT-RDT-PQ BY AMS'!AA17 -> 2.7997412 | K10: =E10+I10 -> 585840 | L10: =F10+J10 -> 3.1015059
A11: ACT 24 TABS | B11: INDIVIDUAL TREATMENT COURSE | C11: ='ACT-RDT-PQ BY AMS'!F10 -> 23400 | D11: ='ACT-RDT-PQ BY AMS'!F11 -> 16410 | E11: ='ACT-RDT-PQ BY AMS'!F12 -> 39810 | F11: =(E11*4)/'ACT-RDT-PQ BY AMS'!AA17 -> 0.28101176 | G11: ='ACT-RDT-PQ BY AMS'!O10 -> 303510 | H11: ='ACT-RDT-PQ BY AMS'!O11 -> 601410 | I11: =G11+H11 -> 904920 | J11: =(I11*4)/'ACT-RDT-PQ BY AMS'!AA17 -> 6.3876706 | K11: =E11+I11 -> 944730 | L11: =F11+J11 -> 6.6686824
A12: TOTAL ACTs | B12: INDIVIDUAL TREATMENT COURSE | C12: ='ACT-RDT-PQ BY AMS'!G10 -> 284070 | D12: ='ACT-RDT-PQ BY AMS'!G11 -> 110190 | E12: ='ACT-RDT-PQ BY AMS'!G12 -> 394260 | F12: ='ACT-RDT-PQ BY AMS'!C18 -> 1.3657765 | G12: ='ACT-RDT-PQ BY AMS'!P10 -> 1737450 | H12: ='ACT-RDT-PQ BY AMS'!P11 -> 1539780 | I12: ='ACT-RDT-PQ BY AMS'!P12 -> 3277230 | J12: ='ACT-RDT-PQ BY AMS'!L18 -> 14.021312 | K12: =E12+I12 -> 3671490 | L12: =F12+J12 -> 15.387088 | M12: 8 month stock expected. ETA: 30.03.26 | N12: 7 month stock expected; ETA: 5th May 2026
A13: PRIMAQUINE | B13: TABLET | C13: ='ACT-RDT-PQ BY AMS'!H10 -> 2056100 | D13: ='ACT-RDT-PQ BY AMS'!H11 -> 0 | E13: ='ACT-RDT-PQ BY AMS'!H12 -> 2056100 | F13: ='ACT-RDT-PQ BY AMS'!H18 -> 1.4774371 | G13: ='ACT-RDT-PQ BY AMS'!Q10 -> 9500400 | H13: ='ACT-RDT-PQ BY AMS'!Q11 -> 0 | I13: ='ACT-RDT-PQ BY AMS'!Q12 -> 9500400 | J13: =I13/'ACT-RDT-PQ BY AMS'!Z17 -> 6.8266347 | K13: =E13+I13 -> 11556500 | L13: =F13+J13 -> 8.3040719 | M13: 2 months stock expected ETA: 30.03.26
A14: RDT | B14: INDIVIDUAL TEST KIT | C14: ='ACT-RDT-PQ BY AMS'!B10 -> 716625 | D14: ='ACT-RDT-PQ BY AMS'!B11 -> 0 | E14: ='ACT-RDT-PQ BY AMS'!B12 -> 716625 | F14: ='ACT-RDT-PQ BY AMS'!B18 -> 2.149875 | G14: ='ACT-RDT-PQ BY AMS'!K10 -> 1313150 | H14: ='ACT-RDT-PQ BY AMS'!K11 -> 2000000 | I14: ='ACT-RDT-PQ BY AMS'!K12 -> 3313150 | J14: =I14/'ACT-RDT-PQ BY AMS'!T17 -> 9.93945 | K14: =E14+I14 -> 4029775 | L14: =F14+J14 -> 12.089325 | M14: 5 months stock expected ETA: 30.03.26 | N14: 6 month stock expected ETA: TBA
E15: 0
A16: OTHER ANTI-MALARIAL DRUGS | G16: 0.57638889
A17: SULPHADOXINE 500MG + PYRIMETHAMINE 25MG (SP) | B17: TABLET | C17: =' Other A.M.Drugs BY AMS'!B12 -> 0 | D17: =' Other A.M.Drugs BY AMS'!B11 -> 0 | E17: =D17+C17 -> 0 | G17: =' Other A.M.Drugs BY AMS'!M10 -> 624400 | H17: =' Other A.M.Drugs BY AMS'!M11 -> 0 | I17: =G17+H17 -> 624400 | K17: =E17+I17 -> 624400
A18: ARTEMETHER INJ. 80MG | B18: AMPOULE | C18: =' Other A.M.Drugs BY AMS'!C12 -> 55854 | D18: =' Other A.M.Drugs BY AMS'!B11 -> 0 | E18: =D18+C18 -> 55854 | G18: =' Other A.M.Drugs BY AMS'!N10 -> 27000 | H18: =' Other A.M.Drugs BY AMS'!N11 -> 0 | I18: =G18+H18 -> 27000 | K18: =E18+I18 -> 82854
A19: ARTEMETHER INJ. 40MG | B19: AMPOULE | C19: =' Other A.M.Drugs BY AMS'!D12 -> 19516 | D19: =' Other A.M.Drugs BY AMS'!B11 -> 0 | E19: =D19+C19 -> 19516 | G19: =' Other A.M.Drugs BY AMS'!O10 -> 16000 | H19: =' Other A.M.Drugs BY AMS'!O11 -> 0 | I19: =G19+H19 -> 16000 | K19: =E19+I19 -> 35516
A20: ARTESUNATE INJECTION 60MG | B20: VIAL | C20: =' Other A.M.Drugs BY AMS'!E12 -> 25418 | D20: =' Other A.M.Drugs BY AMS'!B11 -> 0 | E20: =D20+C20 -> 25418 | G20: =' Other A.M.Drugs BY AMS'!P10 -> 0 | H20: =' Other A.M.Drugs BY AMS'!P11 -> 0 | I20: =G20+H20 -> 0 | K20: =E20+I20 -> 25418
A21: QUININE INJ. 600 INJ. | B21: VIAL | C21: =' Other A.M.Drugs BY AMS'!F12 -> 1760 | D21: =' Other A.M.Drugs BY AMS'!B11 -> 0 | E21: =C21+D21 -> 1760 | G21: =' Other A.M.Drugs BY AMS'!Q10 -> 10000 | H21: =' Other A.M.Drugs BY AMS'!Q11 -> 0 | I21: =G21+H21 -> 10000 | K21: =E21+I21 -> 11760
A22: QUININE TAB 300MG | B22: TABLET | C22: =' Other A.M.Drugs BY AMS'!G12 -> 52200 | D22: =' Other A.M.Drugs BY AMS'!B11 -> 0 | E22: =D22+C22 -> 52200 | G22: =' Other A.M.Drugs BY AMS'!R10 -> 500000 | H22: =' Other A.M.Drugs BY AMS'!Q11 -> 0 | I22: =G22+H22 -> 500000 | K22: =E22+I22 -> 552200
A23: Dihydroartemisinin 40mg + Piperaquine 340mg Tab) | B23: TABLET | C23: =' Other A.M.Drugs BY AMS'!J12 -> 2433 | D23: =' Other A.M.Drugs BY AMS'!B11 -> 0 | E23: =D23+C23 -> 2433 | G23: =' Other A.M.Drugs BY AMS'!U10 -> 0 | H23: =' Other A.M.Drugs BY AMS'!Q11 -> 0 | I23: =G23+H23 -> 0 | K23: =E23+I23 -> 2433

Sheet ACT-RDT-PQ BY AMS
A1: ACTs, RDTs AND PRIMAQUINE - STOCK AND PROCUREMENT SUMMARY OF NDoH MEDICAL SUPPLIES BRANCH AND RAM
A3: STOCK ON HAND IN PNG AS OF 20TH OF MARCH 2026 | J3: RDTs and ACTS ON ORDER AS REFLECTED BY mSUPPLY and Global Fund | S3: Total Possibly Available In the Next Six Months
A4: AMS | B4: RDTS | C4: ACT 6 | D4: ACT 12 | E4: ACT 18 | F4: ACT 24 | G4: Total ACTs | H4: Primaquine Tablet | J4: AMS | K4: RDTS | L4: ACT 6 | M4: ACT 12 | N4: ACT 18 | O4: ACT 24 | P4: Total ACTs | Q4: Primaquine Tablet | S4: AMS | T4: RDTS | U4: ACT 6 | V4: ACT 12 | W4: ACT 18 | X4: ACT 24 | Y4: Total ACTs | Z4: Primaquine Tablet | AA4: ACT6s Equivalents
A5: Badili | B5: =77575-48225 -> 29350 | C5: 110670 | D5: 26580 | E5: =21600-4500 -> 17100 | F5: 16050 | G5: =C5+D5+E5+F5 -> 170400 | H5: 311900 | J5: Badili | K5: ='NDoH Outstanding Orders'!E26 -> 266825 | L5: ='NDoH Outstanding Orders'!F26 -> 150000 | M5: ='NDoH Outstanding Orders'!G26 -> 90000 | N5: ='NDoH Outstanding Orders'!H26 -> 92160 | O5: ='NDoH Outstanding Orders'!I26 -> 92160 | P5: =L5+M5+N5+O5 -> 424320 | Q5: ='NDoH Outstanding Orders'!K26 -> 2300000 | S5: Badili | T5: =B5+K5 -> 296175 | U5: =C5+L5 -> 260670 | V5: =D5+M5 -> 116580 | W5: =E5+N5 -> 109260 | X5: =F5+O5 -> 108210 | Y5: =G5+P5 -> 594720 | Z5: =H5+Q5 -> 2611900 | AA5: =U5+(V5*2)+(W5*3)+(X5*4) -> 1254450
A6: Hagen | B6: =7918*25 -> 197950 | C6: =83*30 -> 2490 | D6: =87*30 -> 2610 | E6: =941*30 -> 28230 | F6: =145*30 -> 4350 | G6: =C6+D6+E6+F6 -> 37680 | H6: =5690*100 -> 569000 | J6: Hagen | K6: ='NDoH Outstanding Orders'!E46 -> 125000 | L6: ='NDoH Outstanding Orders'!F46 -> 82800 | M6: ='NDoH Outstanding Orders'!G46 -> 60000 | N6: ='NDoH Outstanding Orders'!H46 -> 30000 | O6: ='NDoH Outstanding Orders'!I46 -> 52800 | P6: =L6+M6+N6+O6 -> 225600 | Q6: ='NDoH Outstanding Orders'!K46 -> 1200000 | S6: Hagen | T6: =B6+K6 -> 322950 | U6: =C6+L6 -> 85290 | V6: =D6+M6 -> 62610 | W6: =E6+N6 -> 58230 | X6: =F6+O6 -> 57150 | Y6: =G6+P6 -> 263280 | Z6: =H6+Q6 -> 1769000 | AA6: =U6+(V6*2)+(W6*3)+(X6*4) -> 613800
A7: Kokopo | B7: =1986*25 -> 49650 | C7: =183*30 -> 5490 | D7: =83*30 -> 2490 | E7: =133*30 -> 3990 | F7: 0 | G7: =C7+D7+E7+F7 -> 11970 | H7: 0 | J7: Kokopo | K7: ='NDoH Outstanding Orders'!E62 -> 412500 | L7: ='NDoH Outstanding Orders'!F62 -> 60000 | M7: ='NDoH Outstanding Orders'!G62 -> 60000 | N7: ='NDoH Outstanding Orders'!H62 -> 30000 | O7: ='NDoH Outstanding Orders'!I62 -> 30030 | P7: =L7+M7+N7+O7 -> 180030 | Q7: ='NDoH Outstanding Orders'!K62 -> 1200400 | S7: Kokopo | T7: =B7+K7 -> 462150 | U7: =C7+L7 -> 65490 | V7: =D7+M7 -> 62490 | W7: =E7+N7 -> 33990 | X7: =F7+O7 -> 30030 | Y7: =G7+P7 -> 192000 | Z7: =H7+Q7 -> 1200400 | AA7: =U7+(V7*2)+(W7*3)+(X7*4) -> 412560
A8: Lae | B8: =7340*25 -> 183500 | C8: =860*30 -> 25800 | D8: =908*30 -> 27240 | E8: 3000 | F8: 3000 | G8: =C8+D8+E8+F8 -> 59040 | H8: =(5000+500+2465+1500)*100 -> 946500 | J8: Lae | K8: ='NDoH Outstanding Orders'!E80 -> 225000 | L8: ='NDoH Outstanding Orders'!F80 -> 255000 | M8: ='NDoH Outstanding Orders'!G80 -> 186000 | N8: ='NDoH Outstanding Orders'!H80 -> 60000 | O8: ='NDoH Outstanding Orders'!I80 -> 60000 | P8: =L8+M8+N8+O8 -> 561000 | Q8: ='NDoH Outstanding Orders'!K80 -> 2200000 | S8: Lae | T8: =B8+K8 -> 408500 | U8: =C8+L8 -> 280800 | V8: =D8+M8 -> 213240 | W8: =E8+N8 -> 63000 | X8: =F8+O8 -> 63000 | Y8: =G8+P8 -> 620040 | Z8: 80000 | AA8: =U8+(V8*2)+(W8*3)+(X8*4) -> 1148280
A9: Wewak | B9: =(1600+1600+1042+1600+155+1600+1600+1050)*25 -> 256175 | C9: =10*30 -> 300 | D9: 0 | E9: =156*30 -> 4680 | F9: 0 | G9: =C9+D9+E9+F9 -> 4980 | H9: =2287*100 -> 228700 | J9: Wewak | K9: ='NDoH Outstanding Orders'!E101 -> 283825 | L9: ='NDoH Outstanding Orders'!F101 -> 105180 | M9: ='NDoH Outstanding Orders'!G101 -> 90000 | N9: ='NDoH Outstanding Orders'!H101 -> 82800 | O9: ='NDoH Outstanding Orders'!I101 -> 68520 | P9: =L9+M9+N9+O9 -> 346500 | Q9: ='NDoH Outstanding Orders'!K101 -> 2600000 | S9: Wewak | T9: =B9+K9 -> 540000 | U9: =C9+L9 -> 105480 | V9: =D9+M9 -> 90000 | W9: =E9+N9 -> 87480 | X9: =F9+O9 -> 68520 | Y9: =G9+P9 -> 351480 | Z9: =H9+Q9 -> 2828700 | AA9: =U9+(V9*2)+(W9*3)+(X9*4) -> 822000
A10: Total NDoH | B10: =SUM(B5:B9) -> 716625 | C10: =SUM(C5:C9) -> 144750 | D10: =SUM(D5:D9) -> 58920 | E10: =SUM(E5:E9) -> 57000 | F10: =SUM(F5:F9) -> 23400 | G10: =SUM(G5:G9) -> 284070 | H10: =SUM(H5:H9) -> 2056100 | J10: Total NDoH | K10: =SUM(K5:K9) -> 1313150 | L10: =SUM(L5:L9) -> 652980 | M10: =SUM(M5:M9) -> 486000 | N10: =SUM(N5:N9) -> 294960 | O10: =SUM(O5:O9) -> 303510 | P10: =L10+M10+N10+O10 -> 1737450 | Q10: =SUM(Q5:Q9) -> 9500400 | S10: Total NDoH | T10: =B10+K10 -> 2029775 | U10: =C10+L10 -> 797730 | V10: =D10+M10 -> 544920 | W10: =E10+N10 -> 351960 | X10: =F10+O10 -> 326910 | Y10: =G10+P10 -> 2021520 | Z10: =H10+Q10 -> 11556500 | AA10: =U10+(V10*2)+(W10*3)+(X10*4) -> 4251090
A11: RAM/GF | B11: 0 | C11: =10140-3690 -> 6450 | D11: =92400-5070 -> 87330 | E11: 0 | F11: =27510-11100 -> 16410 | G11: =C11+D11+E11+F11 -> 110190 | H11: 0 | J11: RAM/GF | K11: ='RAM-GF_PROC.-2021 REQ.ACT-RDT'!D34 -> 2000000 | L11: ='RAM-GF_PROC.-2021 REQ.ACT-RDT'!E33 -> 294750 | M11: ='RAM-GF_PROC.-2021 REQ.ACT-RDT'!F33 -> 409740 | N11: ='RAM-GF_PROC.-2021 REQ.ACT-RDT'!G33 -> 233880 | O11: ='RAM-GF_PROC.-2021 REQ.ACT-RDT'!H33 -> 601410 | P11: =L11+M11+N11+O11 -> 1539780 | Q11: ='RAM-GF_PROC.-2021 REQ.ACT-RDT'!J21 -> 0 | S11: RAM | T11: =B11+K11 -> 2000000 | U11: =C11+L11 -> 301200 | V11: =D11+M11 -> 497070 | W11: =E11+N11 -> 233880 | X11: =F11+O11 -> 617820 | Y11: =G11+P11 -> 1649970 | Z11: =H11+Q11 -> 0 | AA11: =U11+(V11*2)+(W11*3)+(X11*4) -> 4468260
A12: Total | B12: =B11+B10 -> 716625 | C12: =C11+C10 -> 151200 | D12: =D11+D10 -> 146250 | E12: =E11+E10 -> 57000 | F12: =F11+F10 -> 39810 | G12: =G11+G10 -> 394260 | H12: =(H11+H10) -> 2056100 | J12: Total | K12: =K11+K10 -> 3313150 | L12: =L11+L10 -> 947730 | M12: =M11+M10 -> 895740 | N12: =N11+N10 -> 528840 | O12: =O11+O10 -> 904920 | P12: =L12+M12+N12+O12 -> 3277230 | Q12: =Q11+Q10 -> 9500400 | S12: Total | T12: =B12+K12 -> 4029775 | U12: =C12+L12 -> 1098930 | V12: =D12+M12 -> 1041990 | W12: =E12+N12 -> 585840 | X12: =F12+O12 -> 944730 | Y12: =G12+P12 -> 3671490 | Z12: =H12+Q12 -> 11556500 | AA12: =U12+(V12*2)+(W12*3)+(X12*4) -> 8719350
T13: =T12/T17 -> 12.089325 | Z13: =Z12/Z17 -> 8.3040719 | AA13: =AA12/AA17 -> 15.387088
C15: MONTHS OF STOCK ON HAND | L15: MONTHS OF STOCK ON ORDER
B16: RDT | C16: ACT (Total ACT 6 Equivalence) | H16: PQ | K16: RDT | L16: ACT (Total ACT 6 Equivalence) | Q16: PQ | S16: Estimated Annual Consumption | T16: 4000000 | Z16: 16700000 | AA16: 6800000
A17: TOTAL QTY | B17: =B12 -> 716625 | C17: =(C12)+(D12*2)+(E12*3)+(F12*4) -> 773940 | H17: =H12 -> 2056100 | J17: TOTAL QTY | K17: =K12 -> 3313150 | L17: =(L12)+(M12*2)+(N12*3)+(O12*4) -> 7945410 | Q17: =Q12 -> 9500400 | S17: Estimated Monthly Consumptioin | T17: =T16/12 -> 333333.33 | Z17: =Z16/12 -> 1391666.7 | AA17: =AA16/12 -> 566666.67
A18: EQUIVALENCE IN MONTHS OF STOCK | B18: =B17/T17 -> 2.149875 | C18: =C17/AA17 -> 1.3657765 | H18: =H17/Z17 -> 1.4774371 | J18: EQUIVALENCE IN MONTHS OF STOCK | K18: =K17/T17 -> 9.93945 | L18: =L17/AA17 -> 14.021312 | Q18: =Q17/Z17 -> 6.8266347 | S18: Thresholds For New Orders | T18: =T17*10 -> 3333333.3 | Z18: =Z17*10 -> 13916667 | AA18: =AA17*10 -> 5666666.7
A19: NDoH | B19: =B10/T17 -> 2.149875 | C19: =(C10+(D10*2)+(E10*3)+(F10*4))/AA17 -> 0.93033529 | H19: =H10/Z17 -> 1.4774371 | J19: NDoH | K19: =K10/T17 -> 3.93945 | L19: =(L10+(M10*2)+(N10*3)+(O10*4))/AA17 -> 6.5715882 | Q19: =Q10/Z17 -> 6.8266347
A20: RAM/GF | B20: =B11/T17 -> 0 | C20: =(C11+(D11*2)+(E11*3)+(F11*4))/AA17 -> 0.43544118 | H20: =H11/Z17 -> 0 | J20: RAM/GF | K20: =K11/T17 -> 6 | L20: =(L11+(M11*2)+(N11*3)+(O11*4))/AA17 -> 7.4497235 | Q20: 0
A22: Actual Ratio of ACTs | C22: =C12/$G12*100 -> 38.350327 | D22: =D12/$G12*100 -> 37.094811 | E22: =E12/$G12*100 -> 14.457465 | F22: =F12/$G12*100 -> 10.097398
A23: Desired Ratio of ACTs | C23: 14.637358 | D23: 26.487692 | E23: 16.729454 | F23: 42.145496
A26: PREVIOUS UPDATE
A27: STOCK ON HAND IN PNG AS OF 6TH OF MARCH 2026 | J27: RDTs and ACTS ON ORDER AS REFLECTED BY mSUPPLY and Global Fund | S27: Total Possibly Available In the Next Six Months
A28: AMS | B28: RDTS | C28: ACT 6 | D28: ACT 12 | E28: ACT 18 | F28: ACT 24 | G28: Total ACTs | H28: Primaquine Tablet | J28: AMS | K28: RDTS | L28: ACT 6 | M28: ACT 12 | N28: ACT 18 | O28: ACT 24 | P28: Total ACTs | Q28: Primaquine Tablet | S28: AMS | T28: RDTS | U28: ACT 6 | V28: ACT 12 | W28: ACT 18 | X28: ACT 24 | Y28: Total ACTs | Z28: Primaquine Tablet | AA28: ACT6s Equivalents
A29: Badili | B29: 77575 | C29: 110670 | D29: 26580 | E29: 21600 | F29: 16050 | G29: =C29+D29+E29+F29 -> 174900 | H29: 311900 | J29: Badili | K29: 266825 | L29: 150000 | M29: 90000 | N29: 92160 | O29: 92160 | P29: =L29+M29+N29+O29 -> 424320 | Q29: 2900000 | S29: Badili | T29: =B29+K29 -> 344400 | U29: =C29+L29 -> 260670 | V29: =D29+M29 -> 116580 | W29: =E29+N29 -> 113760 | X29: =F29+O29 -> 108210 | Y29: =G29+P29 -> 599220 | Z29: =H29+Q29 -> 3211900 | AA29: =U29+(V29*2)+(W29*3)+(X29*4) -> 1267950
A30: Hagen | B30: =7918*25 -> 197950 | C30: =83*30 -> 2490 | D30: =87*30 -> 2610 | E30: =941*30 -> 28230 | F30: =145*30 -> 4350 | G30: =C30+D30+E30+F30 -> 37680 | H30: =5690*100 -> 569000 | J30: Hagen | K30: 125000 | L30: 82800 | M30: 60000 | N30: 30000 | O30: 52800 | P30: =L30+M30+N30+O30 -> 225600 | Q30: 1200000 | S30: Hagen | T30: =B30+K30 -> 322950 | U30: =C30+L30 -> 85290 | V30: =D30+M30 -> 62610 | W30: =E30+N30 -> 58230 | X30: =F30+O30 -> 57150 | Y30: =G30+P30 -> 263280 | Z30: =H30+Q30 -> 1769000 | AA30: =U30+(V30*2)+(W30*3)+(X30*4) -> 613800
A31: Kokopo | B31: =1986*25 -> 49650 | C31: =183*30 -> 5490 | D31: =83*30 -> 2490 | E31: =133*30 -> 3990 | F31: 0 | G31: =C31+D31+E31+F31 -> 11970 | H31: 0 | J31: Kokopo | K31: 412500 | L31: 60000 | M31: 60000 | N31: 30000 | O31: 30030 | P31: =L31+M31+N31+O31 -> 180030 | Q31: 1200400 | S31: Kokopo | T31: =B31+K31 -> 462150 | U31: =C31+L31 -> 65490 | V31: =D31+M31 -> 62490 | W31: =E31+N31 -> 33990 | X31: =F31+O31 -> 30030 | Y31: =G31+P31 -> 192000 | Z31: =H31+Q31 -> 1200400 | AA31: =U31+(V31*2)+(W31*3)+(X31*4) -> 412560
A32: Lae | B32: =7340*25 -> 183500 | C32: =860*30 -> 25800 | D32: =908*30 -> 27240 | E32: 3000 | F32: 3000 | G32: =C32+D32+E32+F32 -> 59040 | H32: =(5000+500+2465+1500)*100 -> 946500 | J32: Lae | K32: 225000 | L32: 255000 | M32: 186000 | N32: 82800 | O32: 82800 | P32: =L32+M32+N32+O32 -> 606600 | Q32: 2200000 | S32: Lae | T32: =B32+K32 -> 408500 | U32: =C32+L32 -> 280800 | V32: =D32+M32 -> 213240 | W32: =E32+N32 -> 85800 | X32: =F32+O32 -> 85800 | Y32: =G32+P32 -> 665640 | Z32: 80000 | AA32: =U32+(V32*2)+(W32*3)+(X32*4) -> 1307880
A33: Wewak | B33: =(1600+1600+1042+1600+155+1600+1600+1050)*25 -> 256175 | C33: =10*30 -> 300 | D33: 0 | E33: =156*30 -> 4680 | F33: 0 | G33: =C33+D33+E33+F33 -> 4980 | H33: =2287*100 -> 228700 | J33: Wewak | K33: 283825 | L33: 105180 | M33: 90000 | N33: 82800 | O33: 68520 | P33: =L33+M33+N33+O33 -> 346500 | Q33: 2600000 | S33: Wewak | T33: =B33+K33 -> 540000 | U33: =C33+L33 -> 105480 | V33: =D33+M33 -> 90000 | W33: =E33+N33 -> 87480 | X33: =F33+O33 -> 68520 | Y33: =G33+P33 -> 351480 | Z33: =H33+Q33 -> 2828700 | AA33: =U33+(V33*2)+(W33*3)+(X33*4) -> 822000
A34: Total NDoH | B34: =SUM(B29:B33) -> 764850 | C34: =SUM(C29:C33) -> 144750 | D34: =SUM(D29:D33) -> 58920 | E34: =SUM(E29:E33) -> 61500 | F34: =SUM(F29:F33) -> 23400 | G34: =SUM(G29:G33) -> 288570 | H34: =SUM(H29:H33) -> 2056100 | J34: Total NDoH | K34: =SUM(K29:K33) -> 1313150 | L34: =SUM(L29:L33) -> 652980 | M34: =SUM(M29:M33) -> 486000 | N34: =SUM(N29:N33) -> 317760 | O34: =SUM(O29:O33) -> 326310 | P34: =L34+M34+N34+O34 -> 1783050 | Q34: =SUM(Q29:Q33) -> 10100400 | S34: Total NDoH | T34: =B34+K34 -> 2078000 | U34: =C34+L34 -> 797730 | V34: =D34+M34 -> 544920 | W34: =E34+N34 -> 379260 | X34: =F34+O34 -> 349710 | Y34: =G34+P34 -> 2071620 | Z34: =H34+Q34 -> 12156500 | AA34: =U34+(V34*2)+(W34*3)+(X34*4) -> 4424190
A35: RAM/GF | B35: 0 | C35: 10140 | D35: 92400 | E35: 0 | F35: 27510 | G35: =C35+D35+E35+F35 -> 130050 | H35: 0 | J35: RAM/GF | K35: 2000000 | L35: 294750 | M35: 409740 | N35: 233880 | O35: 601410 | P35: =L35+M35+N35+O35 -> 1539780 | Q35: 0 | S35: RAM | T35: =B35+K35 -> 2000000 | U35: =C35+L35 -> 304890 | V35: =D35+M35 -> 502140 | W35: =E35+N35 -> 233880 | X35: =F35+O35 -> 628920 | Y35: =G35+P35 -> 1669830 | Z35: =H35+Q35 -> 0 | AA35: =U35+(V35*2)+(W35*3)+(X35*4) -> 4526490
A36: Total | B36: =B35+B34 -> 764850 | C36: =C35+C34 -> 154890 | D36: =D35+D34 -> 151320 | E36: =E35+E34 -> 61500 | F36: =F35+F34 -> 50910 | G36: =G35+G34 -> 418620 | H36: =(H35+H34) -> 2056100 | J36: Total | K36: =K35+K34 -> 3313150 | L36: =L35+L34 -> 947730 | M36: =M35+M34 -> 895740 | N36: =N35+N34 -> 551640 | O36: =O35+O34 -> 927720 | P36: =L36+M36+N36+O36 -> 3322830 | Q36: =Q35+Q34 -> 10100400 | S36: Total | T36: =B36+K36 -> 4078000 | U36: =C36+L36 -> 1102620 | V36: =D36+M36 -> 1047060 | W36: =E36+N36 -> 613140 | X36: =F36+O36 -> 978630 | Y36: =G36+P36 -> 3741450 | Z36: =H36+Q36 -> 12156500 | AA36: =U36+(V36*2)+(W36*3)+(X36*4) -> 8950680
T37: =T36/T40 -> 12.234 | Z37: =Z36/Z40 -> 8.7352096 | AA37: =AA36/AA40 -> 15.795318
C38: MONTHS OF STOCK ON HAND | L38: MONTHS OF STOCK ON ORDER
B39: RDT | C39: ACT (Total ACT 6 Equivalence) | H39: PQ | K39: RDT | L39: ACT (Total ACT 6 Equivalence) | Q39: PQ | S39: Estimated Annual Consumption | T39: 4000000 | Z39: 16700000 | AA39: 6800000
A40: TOTAL QTY | B40: =B36 -> 764850 | C40: =(C36)+(D36*2)+(E36*3)+(F36*4) -> 845670 | H40: =H36 -> 2056100 | J40: TOTAL QTY | K40: =K36 -> 3313150 | L40: =(L36)+(M36*2)+(N36*3)+(O36*4) -> 8105010 | Q40: =Q36 -> 10100400 | S40: Estimated Monthly Consumptioin | T40: =T39/12 -> 333333.33 | Z40: =Z39/12 -> 1391666.7 | AA40: =AA39/12 -> 566666.67 | AC40: =Z40*3 -> 4175000
A41: EQUIVALENCE IN MONTHS OF STOCK | B41: =B40/T40 -> 2.29455 | C41: =C40/AA40 -> 1.4923588 | H41: =H40/Z40 -> 1.4774371 | J41: EQUIVALENCE IN MONTHS OF STOCK | K41: =K40/T40 -> 9.93945 | L41: =L40/AA40 -> 14.302959 | Q41: =Q40/Z40 -> 7.2577725 | S41: Thresholds For New Orders | T41: =T40*10 -> 3333333.3 | Z41: =Z40*10 -> 13916667 | AA41: =AA40*10 -> 5666666.7 | AC41: =AA40*3 -> 1700000
A42: NDoH | B42: =B34/T40 -> 2.29455 | C42: =(C34+(D34*2)+(E34*3)+(F34*4))/AA40 -> 0.95415882 | H42: =H34/Z40 -> 1.4774371 | J42: NDoH | K42: =K34/T40 -> 3.93945 | L42: =(L34+(M34*2)+(N34*3)+(O34*4))/AA40 -> 6.8532353 | Q42: =Q34/Z40 -> 7.2577725
A43: RAM/GF | B43: =B35/T40 -> 0 | C43: =(C35+(D35*2)+(E35*3)+(F35*4))/AA40 -> 0.5382 | H43: =H35/Z40 -> 0 | J43: RAM/GF | K43: =K35/T40 -> 6 | L43: =(L35+(M35*2)+(N35*3)+(O35*4))/AA40 -> 7.4497235 | Q43: =Q35/Z40 -> 0
A45: Actual Ratio of ACTs | C45: 13.188685 | D45: 27.071592 | E45: 19.779842 | F45: 39.959881
A46: Desired Ratio of ACTs | C46: 14.637358 | D46: 26.487692 | E46: 16.729454 | F46: 42.145496

Sheet  Other A.M.Drugs BY AMS
A1: OTHER ANTIMALARIALS - STOCK AND PROCUREMENT SUMMARY OF NDoH MEDICAL SUPPLIES BRANCH
A3: STOCK ON HAND IN PNG AS OF 20TH OF MARCH 2026 | L3: ON ORDER AS REFLECTED BY mSUPPLY | W3: Total Possibly Available In The Next Six Months
A4: AMS | B4: SP (Sulphadoxine 500mg + Pyrimethamine 25mg Tab) | C4: Artemether Injection 80mg/ml (Amp) | D4: Artemether Injection 40mg/ml (Amp) | E4: Artesunate Injection 60mg Vial | F4: Quinine Injection 600mg Vial | G4: Quinine 300mg Tablet | H4: ARTESUNATE SUPPOSITORY (200MG) | I4: ARTESUNATE SUPPOSITORY (50MG) | J4: DP (Dihydroartemisinin 40mg + Piperaquine 340mg Tab) | L4: AMS | M4: SP (Sulphadoxine 500mg + Pyrimethamine 25mg Tab) | N4: Artemether Injection 80mg/ml (Amp) | O4: Artemether Injection 40mg/ml (Amp) | P4: Artesunate Injection 60mg Vial | Q4: Quinine Injection 600mg Vial | R4: Quinine 300mg Tablet | S4: ARTESUNATE SUPPOSITORY (200MG) | T4: ARTESUNATE SUPPOSITORY (50MG) | U4: DP (Dihydroartemisinin 40mg + Piperaquine 340mg Tab) | X4: SP (Sulphadoxine 500mg + Pyrimethamine 25mg Tab) | Y4: Artemether Injection 80mg/ml (Amp) | Z4: Artemether Injection 40mg/ml (Amp) | AA4: Artesunate Injection 60mg Vial | AB4: Quinine Injection 600mg Vial | AC4: Quinine 300mg Tablet | AD4: DP (Dihydroartemisinin 40mg + Piperaquine 340mg Tab)
A5: Badili | B5: 0 | C5: 10000 | D5: 0 | E5: 17205 | F5: 1760 | G5: 0 | H5: 0 | I5: 0 | J5: 1509 | L5: Badili | M5: ='NDoH Outstanding Orders'!L26 -> 150000 | N5: ='NDoH Outstanding Orders'!M26 -> 0 | O5: ='NDoH Outstanding Orders'!N26 -> 0 | P5: ='NDoH Outstanding Orders'!O26 -> 0 | Q5: ='NDoH Outstanding Orders'!P26 -> 4000 | R5: ='NDoH Outstanding Orders'!Q26 -> 100000 | S5: ='NDoH Outstanding Orders'!R26 -> 0 | T5: ='NDoH Outstanding Orders'!S26 -> 0 | U5: ='NDoH Outstanding Orders'!T26 -> 0 | W5: Badili | X5: =B5+M5 -> 150000 | Y5: =C5+N5 -> 10000 | Z5: =D5+O5 -> 0 | AA5: =E5+P5 -> 17205 | AB5: =F5+Q5 -> 5760 | AC5: =G5+R5 -> 100000 | AD5: =J5+U5 -> 1509
A6: Hagen | B6: 0 | C6: 2200 | D6: 0 | E6: 5130 | F6: 0 | G6: 2000 | H6: 0 | I6: 0 | J6: 0 | L6: Hagen | M6: ='NDoH Outstanding Orders'!L46 -> 124400 | N6: ='NDoH Outstanding Orders'!M46 -> 20000 | O6: ='NDoH Outstanding Orders'!N46 -> 4000 | P6: ='NDoH Outstanding Orders'!O46 -> 0 | Q6: ='NDoH Outstanding Orders'!P46 -> 1000 | R6: ='NDoH Outstanding Orders'!Q46 -> 100000 | S6: ='NDoH Outstanding Orders'!R46 -> 0 | T6: ='NDoH Outstanding Orders'!S46 -> 0 | U6: ='NDoH Outstanding Orders'!T46 -> 0 | W6: Hagen | X6: =B6+M6 -> 124400 | Y6: =C6+N6 -> 22200 | Z6: =D6+O6 -> 4000 | AA6: =E6+P6 -> 5130 | AB6: =F6+Q6 -> 1000 | AC6: =G6+R6 -> 102000 | AD6: =J6+U6 -> 0
A7: Kokopo | B7: 0 | C7: 1070 | D7: 4480 | E7: 0 | F7: =22-22 -> 0 | G7: 0 | H7: 0 | I7: 0 | J7: 0 | L7: Kokopo | M7: ='NDoH Outstanding Orders'!L62 -> 100000 | N7: ='NDoH Outstanding Orders'!M62 -> 2000 | O7: ='NDoH Outstanding Orders'!N62 -> 0 | P7: ='NDoH Outstanding Orders'!O62 -> 0 | Q7: ='NDoH Outstanding Orders'!P62 -> 1500 | R7: ='NDoH Outstanding Orders'!Q62 -> 100000 | S7: ='NDoH Outstanding Orders'!R62 -> 0 | T7: ='NDoH Outstanding Orders'!S62 -> 0 | U7: ='NDoH Outstanding Orders'!T62 -> 0 | W7: Kokopo | X7: =B7+M7 -> 100000 | Y7: =C7+N7 -> 3070 | Z7: =D7+O7 -> 4480 | AA7: =E7+P7 -> 0 | AB7: =F7+Q7 -> 1500 | AC7: =G7+R7 -> 100000 | AD7: =J7+U7 -> 0
A8: Lae | B8: 0 | C8: 380 | D8: 690 | E8: 0 | F8: 0 | G8: 0 | H8: 0 | I8: 0 | J8: 0 | L8: Lae | M8: ='NDoH Outstanding Orders'!L80 -> 150000 | N8: ='NDoH Outstanding Orders'!M80 -> 0 | O8: ='NDoH Outstanding Orders'!N80 -> 7000 | P8: ='NDoH Outstanding Orders'!O80 -> 0 | Q8: ='NDoH Outstanding Orders'!P80 -> 2000 | R8: ='NDoH Outstanding Orders'!Q80 -> 100000 | S8: ='NDoH Outstanding Orders'!R80 -> 0 | T8: ='NDoH Outstanding Orders'!S80 -> 0 | U8: ='NDoH Outstanding Orders'!T80 -> 0 | W8: Lae | X8: =B8+M8 -> 150000 | Y8: =C8+N8 -> 380 | Z8: =D8+O8 -> 7690 | AA8: =E8+P8 -> 0 | AB8: =F8+Q8 -> 2000 | AC8: =G8+R8 -> 100000 | AD8: =J8+U8 -> 0
A9: Wewak | B9: 0 | C9: 42204 | D9: 14346 | E9: 3083 | F9: 0 | G9: 50200 | H9: 0 | I9: 22 | J9: 924 | L9: Wewak | M9: ='NDoH Outstanding Orders'!L101 -> 100000 | N9: ='NDoH Outstanding Orders'!M101 -> 5000 | O9: ='NDoH Outstanding Orders'!N101 -> 5000 | P9: ='NDoH Outstanding Orders'!O101 -> 0 | Q9: ='NDoH Outstanding Orders'!P101 -> 1500 | R9: ='NDoH Outstanding Orders'!Q101 -> 100000 | S9: ='NDoH Outstanding Orders'!R101 -> 0 | T9: ='NDoH Outstanding Orders'!S101 -> 0 | U9: ='NDoH Outstanding Orders'!T101 -> 0 | W9: Wewak | X9: =B9+M9 -> 100000 | Y9: =C9+N9 -> 47204 | Z9: =D9+O9 -> 19346 | AA9: =E9+P9 -> 3083 | AB9: =F9+Q9 -> 1500 | AC9: =G9+R9 -> 150200 | AD9: =J9+U9 -> 924
A10: Total NDoH | B10: =SUM(B5:B9) -> 0 | C10: =SUM(C5:C9) -> 55854 | D10: =SUM(D5:D9) -> 19516 | E10: =SUM(E5:E9) -> 25418 | F10: =SUM(F5:F9) -> 1760 | G10: =SUM(G5:G9) -> 52200 | H10: 0 | I10: 0 | J10: =SUM(J5:J9) -> 2433 | L10: Total NDoH | M10: =SUM(M5:M9) -> 624400 | N10: =SUM(N5:N9) -> 27000 | O10: =SUM(O5:O9) -> 16000 | P10: =SUM(P5:P9) -> 0 | Q10: =SUM(Q5:Q9) -> 10000 | R10: =SUM(R5:R9) -> 500000 | S10: =SUM(S5:S9) -> 0 | T10: =SUM(T5:T9) -> 0 | U10: =SUM(U5:U9) -> 0 | W10: Total NDoH | X10: =B10+M10 -> 624400 | Y10: =C10+N10 -> 82854 | Z10: =D10+O10 -> 35516 | AA10: =E10+P10 -> 25418 | AB10: =F10+Q10 -> 11760 | AC10: =G10+R10 -> 552200 | AD10: =J10+U10 -> 2433
A11: RAM | B11: 0 | C11: 0 | D11: 0 | E11: 0 | F11: 0 | G11: 0 | H11: 0 | I11: 0 | J11: 0 | L11: RAM | M11: 0 | N11: 0 | O11: 0 | P11: 0 | Q11: 0 | R11: 0 | S11: 0 | T11: 0 | U11: 0 | W11: RAM | X11: =B11+M11 -> 0 | Y11: =C11+N11 -> 0 | Z11: =D11+O11 -> 0 | AA11: =E11+P11 -> 0 | AB11: =F11+Q11 -> 0 | AC11: =G11+R11 -> 0 | AD11: =H11+S11 -> 0
A12: Total | B12: =B11+B10 -> 0 | C12: =C11+C10 -> 55854 | D12: =D11+D10 -> 19516 | E12: =E11+E10 -> 25418 | F12: =F11+F10 -> 1760 | G12: =G11+G10 -> 52200 | H12: =H11+H10 -> 0 | I12: =I11+I10 -> 0 | J12: =J11+J10 -> 2433 | L12: Total | M12: =M10+M11 -> 624400 | N12: =N10+N11 -> 27000 | O12: =O10+O11 -> 16000 | P12: =P10+P11 -> 0 | Q12: =Q10+Q11 -> 10000 | R12: =R10+R11 -> 500000 | S12: =S10+S11 -> 0 | T12: =T10+T11 -> 0 | U12: =U10+U11 -> 0 | W12: Total | X12: =X10+X11 -> 624400 | Y12: =Y10+Y11 -> 82854 | Z12: =Z10+Z11 -> 35516 | AA12: =AA10+AA11 -> 25418 | AB12: =AB10+AB11 -> 11760 | AC12: =AC10+AC11 -> 552200 | AD12: =AD10+AD11 -> 2433
A16: PREVIOUS UPDATE
A17: STOCK ON HAND IN PNG AS OF 6TH of MARCH 2026 | L17: ON ORDER AS REFLECTED BY mSUPPLY | W17: Total Possibly Available In The Next Six Months
A18: AMS | B18: SP (Sulphadoxine 500mg + Pyrimethamine 25mg Tab) | C18: Artemether Injection 80mg/ml (Amp) | D18: Artemether Injection 40mg/ml (Amp) | E18: Artesunate Injection 60mg Vial | F18: Quinine Injection 600mg Vial | G18: Quinine 300mg Tablet | H18: ARTESUNATE SUPPOSITORY (200MG) | I18: ARTESUNATE SUPPOSITORY (50MG) | J18: DP (Dihydroartemisinin 40mg + Piperaquine 340mg Tab) | L18: AMS | M18: SP (Sulphadoxine 500mg + Pyrimethamine 25mg Tab) | N18: Artemether Injection 80mg/ml (Amp) | O18: Artemether Injection 40mg/ml (Amp) | P18: Artesunate Injection 60mg Vial | Q18: Quinine Injection 600mg Vial | R18: Quinine 300mg Tablet | S18: ARTESUNATE SUPPOSITORY (200MG) | T18: ARTESUNATE SUPPOSITORY (50MG) | U18: DP (Dihydroartemisinin 40mg + Piperaquine 340mg Tab) | X18: SP (Sulphadoxine 500mg + Pyrimethamine 25mg Tab) | Y18: Artemether Injection 80mg/ml (Amp) | Z18: Artemether Injection 40mg/ml (Amp) | AA18: Artesunate Injection 60mg Vial | AB18: Quinine Injection 600mg Vial | AC18: Quinine 300mg Tablet | AD18: DP (Dihydroartemisinin 40mg + Piperaquine 340mg Tab)
A19: Badili | B19: 0 | C19: 10000 | D19: 0 | E19: 17205 | F19: 1760 | G19: 0 | H19: 0 | I19: 0 | J19: 1509 | L19: Badili | M19: 150000 | N19: 0 | O19: 0 | P19: 0 | Q19: 4000 | R19: 100000 | S19: 0 | T19: 0 | U19: 0 | W19: Badili | X19: =B19+M19 -> 150000 | Y19: =C19+N19 -> 10000 | Z19: =D19+O19 -> 0 | AA19: =E19+P19 -> 17205 | AB19: =F19+Q19 -> 5760 | AC19: =G19+R19 -> 100000 | AD19: =J19+U19 -> 1509
A20: Hagen | B20: 0 | C20: 2200 | D20: 0 | E20: 5130 | F20: 0 | G20: 2000 | H20: 0 | I20: 0 | J20: 0 | L20: Hagen | M20: 124400 | N20: 20000 | O20: 4000 | P20: 0 | Q20: 1000 | R20: 100000 | S20: 0 | T20: 0 | U20: 0 | W20: Hagen | X20: =B20+M20 -> 124400 | Y20: =C20+N20 -> 22200 | Z20: =D20+O20 -> 4000 | AA20: =E20+P20 -> 5130 | AB20: =F20+Q20 -> 1000 | AC20: =G20+R20 -> 102000 | AD20: =J20+U20 -> 0
A21: Kokopo | B21: 0 | C21: 1070 | D21: 4480 | E21: 0 | F21: =22-22 -> 0 | G21: 0 | H21: 0 | I21: 0 | J21: 0 | L21: Kokopo | M21: 100000 | N21: 2000 | O21: 5000 | P21: 0 | Q21: 1500 | R21: 100000 | S21: 0 | T21: 0 | U21: 0 | W21: Kokopo | X21: =B21+M21 -> 100000 | Y21: =C21+N21 -> 3070 | Z21: =D21+O21 -> 9480 | AA21: =E21+P21 -> 0 | AB21: =F21+Q21 -> 1500 | AC21: =G21+R21 -> 100000 | AD21: =J21+U21 -> 0
A22: Lae | B22: 0 | C22: 380 | D22: 690 | E22: 0 | F22: 0 | G22: 0 | H22: 0 | I22: 0 | J22: 0 | L22: Lae | M22: 150000 | N22: 0 | O22: 7000 | P22: 0 | Q22: 2000 | R22: 100000 | S22: 0 | T22: 0 | U22: 0 | W22: Lae | X22: =B22+M22 -> 150000 | Y22: =C22+N22 -> 380 | Z22: =D22+O22 -> 7690 | AA22: =E22+P22 -> 0 | AB22: =F22+Q22 -> 2000 | AC22: =G22+R22 -> 100000 | AD22: =J22+U22 -> 0
A23: Wewak | B23: 0 | C23: 42204 | D23: 14346 | E23: 3083 | F23: 0 | G23: 50200 | H23: 0 | I23: 22 | J23: 924 | L23: Wewak | M23: 100000 | N23: 5000 | O23: 5000 | P23: 0 | Q23: 1500 | R23: 100000 | S23: 0 | T23: 0 | U23: 0 | W23: Wewak | X23: =B23+M23 -> 100000 | Y23: =C23+N23 -> 47204 | Z23: =D23+O23 -> 19346 | AA23: =E23+P23 -> 3083 | AB23: =F23+Q23 -> 1500 | AC23: =G23+R23 -> 150200 | AD23: =J23+U23 -> 924
A24: Total NDoH | B24: =SUM(B19:B23) -> 0 | C24: =SUM(C19:C23) -> 55854 | D24: =SUM(D19:D23) -> 19516 | E24: =SUM(E19:E23) -> 25418 | F24: =SUM(F19:F23) -> 1760 | G24: =SUM(G19:G23) -> 52200 | H24: 0 | I24: 0 | J24: =SUM(J19:J23) -> 2433 | L24: Total NDoH | M24: =SUM(M19:M23) -> 624400 | N24: =SUM(N19:N23) -> 27000 | O24: =SUM(O19:O23) -> 21000 | P24: =SUM(P19:P23) -> 0 | Q24: =SUM(Q19:Q23) -> 10000 | R24: =SUM(R19:R23) -> 500000 | S24: =SUM(S19:S23) -> 0 | T24: =SUM(T19:T23) -> 0 | U24: =SUM(U19:U23) -> 0 | W24: Total NDoH | X24: =B24+M24 -> 624400 | Y24: =C24+N24 -> 82854 | Z24: =D24+O24 -> 40516 | AA24: =E24+P24 -> 25418 | AB24: =F24+Q24 -> 11760 | AC24: =G24+R24 -> 552200 | AD24: =J24+U24 -> 2433
A25: RAM | B25: 0 | C25: 0 | D25: 0 | E25: 0 | F25: 0 | G25: 0 | H25: 0 | I25: 0 | J25: 0 | L25: RAM | M25: 0 | N25: 0 | O25: 0 | P25: 0 | Q25: 0 | R25: 0 | S25: 0 | T25: 0 | U25: 0 | W25: RAM | X25: =B25+M25 -> 0 | Y25: =C25+N25 -> 0 | Z25: =D25+O25 -> 0 | AA25: =E25+P25 -> 0 | AB25: =F25+Q25 -> 0 | AC25: =G25+R25 -> 0 | AD25: =H25+S25 -> 0
A26: Total | B26: =B25+B24 -> 0 | C26: =C25+C24 -> 55854 | D26: =D25+D24 -> 19516 | E26: =E25+E24 -> 25418 | F26: =F25+F24 -> 1760 | G26: =G25+G24 -> 52200 | H26: =H25+H24 -> 0 | I26: =I25+I24 -> 0 | J26: =J25+J24 -> 2433 | L26: Total | M26: =M24+M25 -> 624400 | N26: =N24+N25 -> 27000 | O26: =O24+O25 -> 21000 | P26: =P24+P25 -> 0 | Q26: =Q24+Q25 -> 10000 | R26: =R24+R25 -> 500000 | S26: =S24+S25 -> 0 | T26: =T24+T25 -> 0 | U26: =U24+U25 -> 0 | W26: Total | X26: =X24+X25 -> 624400 | Y26: =Y24+Y25 -> 82854 | Z26: =Z24+Z25 -> 40516 | AA26: =AA24+AA25 -> 25418 | AB26: =AB24+AB25 -> 11760 | AC26: =AC24+AC25 -> 552200 | AD26: =AD24+AD25 -> 2433

Sheet RAM-GF_PROC.-2021 REQ.ACT-RDT
B2: RAM / GLOBAL FUND ORDERS TO DATE
E4: 14.637358 | F4: 26.487692 | G4: 16.729454 | H4: 42.145496
A5: REQUISITION NUMBER | B5: PURCHASE ORDER # | C5: FUNDING SOURCE | D5: RDT | E5: ACT6 | F5: ACT12 | G5: ACT18 | H5: ACT24 | I5: TOTAL ACT | J5: PRIMAQUINE | K5: DATE | L5: ARRIVAL | M5: COMMENTS
K6: ORDERD | L6: DATE
A7: 1206 | B7: 4227 | C7: PNGSDP | D7: 212500 | E7: 0 | F7: 0 | G7: 0 | H7: 0 | I7: =SUM(E7:H7) -> 0 | J7: 0 | K7: 44197 | L7: 44409 | M7: Received; 09.09.21
A8: 12087 | B8: 4159 | C8: PNGSDP | D8: 0 | E8: 16650 | F8: 22500 | G8: 19800 | H8: 49500 | I8: =SUM(E8:H8) -> 108450 | J8: 0
A9: 11402 | B9: 4107 | C9: GF | D9: 0 | E9: 0 | F9: 0 | G9: 0 | H9: 0 | I9: =SUM(E9:H9) -> 0 | J9: 8000000 | M9: Received 29.05.21.
A10: 12227 | B10: 4385 | C10: GF | D10: 800000 | E10: 0 | F10: 0 | G10: 0 | H10: 0 | I10: =SUM(E10:H10) -> 0 | J10: 0 | K10: 44228 | L10: 44470 | M10: Arrived 17.10.21 and received into stock.
A11: 12260 | B11: 4327 | C11: GF | D11: 0 | E11: 21000 | F11: 72000 | G11: 30000 | H11: 261000 | I11: =SUM(E11:H11) -> 384000 | J11: 0 | K11: 44228 | L11: 44440 | M11: ACT delivered at AMS on the 17.09.21.
A12: 12719 | B12: 4899 | C12: GF | D12: 800000 | E12: 0 | F12: 0 | G12: 0 | H12: 0 | I12: =SUM(E12:H12) -> 0 | J12: 0 | K12: 44378 | L12: 44531 | M12: Received 25.04.2022
A13: 13964 | B13: 4898 | C13: GF | D13: 0 | E13: 0 | F13: 0 | G13: 0 | H13: 0 | I13: =SUM(E13:H13) -> 0 | J13: 9000000 | K13: 44378 | L13: 44531 | M13: PQ delivered in December, 2021
A14: 13965 | B14: 4897 | C14: GF | D14: 0 | E14: 78000 | F14: 120000 | G14: 75000 | H14: 180000 | I14: =SUM(E14:H14) -> 453000 | J14: 0 | K14: 44378 | L14: 44531 | M14: ACT delivered in December 2021
A15: 15627 | C15: GF | D15: 0 | E15: 81000 | F15: 126000 | G15: 102000 | H15: 126000 | I15: =SUM(E15:H15) -> 435000 | J15: 0 | K15: 44470 | L15: 44621 | M15: Received 30.05.22 | P15: =425000/25 -> 17000
A16: 15628 | C16: GF | D16: 900000 | E16: 0 | F16: 0 | G16: 0 | H16: 0 | I16: =SUM(E16:H16) -> 0 | J16: 0 | K16: 44470 | L16: 44621 | M16: Received 11.05.22
A17: 15629 | C17: GF | D17: 840000 | E17: 0 | F17: 0 | G17: 0 | H17: 0 | I17: =SUM(E17:H17) -> 0 | J17: 0 | K17: 44470 | L17: 44743 | M17: Received 01.06.22.
A18: 15784 | C18: GF | D18: 0 | E18: 72000 | F18: 138000 | G18: 78000 | H18: 141000 | I18: =SUM(E18:H18) -> 429000 | J18: 0 | K18: 44470 | L18: 44743 | M18: Arrived on the 08.07.22, and received on 20.07.22
E19: 72000 | F19: 137700 | G19: 77190 | H19: 140730 | I19: =SUM(E19:H19) -> 427620 | K19: Qty received.
A20: 15789 | B20: 6557 | C20: GF | D20: 900000 | E20: 0 | F20: 0 | G20: 0 | H20: 0 | I20: =SUM(E20:H20) -> 0 | J20: 0 | K20: 44621 | L20: 44835 | M20: RDTs DELIVERED AT AMS ON THE 16th, 17th & 21st NOV. 2022
A21: 17800 | B21: 6478 | C21: GF | D21: 0 | E21: 13200 | F21: 99000 | G21: 51000 | H21: 159000 | I21: =SUM(E21:H21) -> 322200 | J21: 0 | K21: 44621 | L21: 44835 | M21: ACTs Delivered at AMS on 02.11.22
A22: 17800 | B22: 6478 | C22: GF | D22: 0 | E22: 0 | F22: 0 | G22: 0 | H22: 0 | I22: =SUM(E22:H22) -> 0 | J22: 7500000 | K22: 44621 | L22: 44835 | M22: PQ Received on the 27.10.22
A23: 17802 | C23: GF | D23: - | E23: 0 | F23: 0 | G23: 0 | H23: 0 | I23: =SUM(E23:H23) -> 0 | J23: 900000 | K23: 44682 | L23: 44927 | M23: 900,000 FULLY RECEIVED ON 30.12.22
A24: 18464 | C24: GF | E24: 72000 | F24: 90000 | G24: 39000 | H24: 198000 | I24: =SUM(E24:H24) -> 399000 | K24: 44682 | L24: 44969 | M24: 2023 Order; Fully supplied - received on 21.02.23
A25: 20156 | B25: 7313 | C25: GF | E25: 147000 | F25: 262800 | G25: 206100 | H25: 578400 | I25: =SUM(E25:H25) -> 1194300 | K25: 44853 | L25: 45077 | M25: Fully supplied on 15.05 - 19.05.2023
A26: 20040 | B26: 7341 | C26: GF | D26: 1218750 | K26: 44853 | L26: 45047 | M26: Fully supplied on 15.05 - 19.05.2023
A27: 23273 | B27: 9747 | C27: GF | E27: 0 | F27: 120000 | G27: 108000 | H27: 522000 | I27: =SUM(E27:H27) -> 750000 | K27: 45253 | L27: 45473 | M27: Fully received in July 2024
A28: 24360 | B28: 9017 | C28: GF | D28: 750000 | E28: 0 | F28: 0 | G28: 0 | H28: 0 | I28: 0 | J28: 0 | K28: 45280 | L28: 45535 | M28: Fully received in August 2024
A29: 24591 | B29: 9370 | C29: GF | E29: 33300 | F29: 45000 | G29: 39600 | H29: 99000 | I29: =SUM(E29:H29) -> 216900 | K29: 45391 | L29: 45565 | M29: Recived fully on October 2024 (SDP-confirmed by Munir from RAM-ADP Agreement Letter) | O29: =E29+F29+G29+H29 -> 216900 | P29: =D28/25 -> 30000
A30: 25442 | B30: 9411 | C30: GF | E30: 30000 | F30: 171000 | G30: 33000 | H30: 282000 | I30: =SUM(E30:H30) -> 516000 | K30: 45398 | L30: 45565 | M30: Fully received in August 2024 | O30: =O29/30 -> 7230
A31: 25441 | B31: 9540 | C31: GF | D31: 425000 | E31: 0 | F31: 0 | G31: 0 | H31: 0 | I31: =SUM(E31:H31) -> 0 | K31: 45499 | L31: 45626 | M31: Outstanding GF RDT received (49 pallets) from SDP-confirmed by Munir
C32: GF | E32: 102000 | F32: 330000 | G32: 120000 | H32: 381000 | I32: =SUM(E32:H32) -> 933000 | L32: 45627 | M32: All received on the 18th of Nov 2024 | O32: =I27/30 -> 25000
A33: 11502 | C33: GF | E33: =9825*30 -> 294750 | F33: =13658*30 -> 409740 | G33: =7796*30 -> 233880 | H33: =20047*30 -> 601410 | I33: =SUM(E33:H33) -> 1539780 | K33: TBA | N33: =E33+F33*2+G33*3+H33*4 -> 4221510 | O33: =N33/O35 -> 7.4497235
A34: 28228 | C34: GF | D34: =80000*25 -> 2000000 | I34: =SUM(E34:H34) -> 0 | K34: TBA | N34: =D34/333333 -> 6.000006
C35: GF | I35: =SUM(E35:H35) -> 0 | O35: 566666.67
C36: Price GF (US$) | E36: 0.32 | F36: 0.51 | G36: 0.7 | H36: 0.94
B38: PO 9017 | D38: RDT -Months of stock | E38: ACT (Total ACT 6 Equivalence) | I38: Months of stock | J38: PQ | L38: =3600*30 -> 108000 | M38: =11000*30 -> 330000
D39: =D28/'ACT-RDT-PQ BY AMS'!T17 -> 2.25 | E39: =(E27)+(F27*2)+(G27*3)+(H27*4) -> 2652000 | I39: =E39/'ACT-RDT-PQ BY AMS'!AA17 -> 4.68 | J39: =J23/'ACT-RDT-PQ BY AMS'!Z17 -> 0.64670659
A40: RDT: 2024 | D40: =D26/'ACT-RDT-PQ BY AMS'!T17 -> 3.65625 | E40: =(E29)+(F29*2)+(G29*3)+(H29*4) -> 638100 | I40: =E40/'ACT-RDT-PQ BY AMS'!AA17 -> 1.1260588 | M40: =333333*4 -> 1333332
A41: =D28+D31 -> 1175000 | D41: =D20/'ACT-RDT-PQ BY AMS'!T17 -> 2.7 | E41: =E30+(F30*2)+(G30*3)+(H30*4) -> 1599000 | I41: =E41/'ACT-RDT-PQ BY AMS'!AA17 -> 2.8217647 | M41: =M40/25 -> 53333.28
A42: =A41/25 -> 47000 | B42: =A42*9 -> 423000 | D42: =D25/'ACT-RDT-PQ BY AMS'!T17 -> 0 | E42: =E32+(F32*2)+(G32*3)+(H32*4) -> 2646000 | I42: =E42/'ACT-RDT-PQ BY AMS'!AA17 -> 4.6694118 | M42: 54000
D43: =D31/333333 -> 1.2750013 | G43: total in Mos | I43: =SUM(I39:I42) -> 13.297235 | M43: =M42*25 -> 1350000
...

Sheet NDoH Outstanding Orders
V1: NDoH ORDERS TO DATE
E2: RDT, ACT, & PRIMAQUINE | L2: OTHER ANTIMALARIAL DRUGS | V2: RDT, ACT, & PRIMAQUINE | AC2: OTHER ANTIMALARIAL DRUGS
A4: AMS | B4: PURCHASE ORDER # | C4: DATE | D4: ARRIVAL | E4: RDT | F4: ACT6 | G4: ACT12 | H4: ACT18 | I4: ACT24 | J4: TOTAL ACT | K4: PRIMAQUINE | L4: SP TABLETS | M4: ARTEMETHER INJ. 80MG/ML | N4: ARTEMETHER INJ. 40MG/ML | O4: ARTESUNATE INJ. 60MG/3ML | P4: QUININE INJ. 600MG | Q4: QUININE TABS. 300MG | R4: ARTESUNATE SUPPOSITORY 200MG | S4: ARTESUNATE SUPPOSITORY 50MG | T4: DP TABLETS | V4: RDT | W4: ACT6 | X4: ACT12 | Y4: ACT18 | Z4: ACT24 | AA4: TOTAL ACT | AB4: PRIMAQUINE | AC4: SP TABLETS | AD4: ARTEMETHER INJ. 80MG/ML | AE4: ARTEMETHER INJ. 40MG/ML | AF4: ARTESUNATE INJ. 60MG/3ML | AG4: QUININE INJ. 600MG | AH4: QUININE TABS. 300MG | AI4: ARTESUNATE SUPPOSITORY 200MG | AJ4: ARTESUNATE SUPPOSITORY 50MG | AK4: DP TABLETS | AL4: QTY | AM4: QTY | AN4: COMMENTS
C5: ORDERD | D5: DATE | AL5: RECEIVED | AM5: OUTSTANDING
A6: BADILI | B6: 167772377 | C6: 28/04/24 | D6: 30/06/24 | H6: =Y6-AL6 -> 2160 | J6: =SUM(F6:I6) -> 2160 | Y6: 16710 | AA6: =SUM(W6:Z6) -> 16710 | AL6: =1440+13110 -> 14550 | AM6: =(V6+W6+X6+Y6+Z6+AB6+AC6+AD6+AE6+AF6+AG6+AH6+AI6+AJ6+AK6)-AL6 -> 2160 | AN6: Al18 from Modern 2024; partially received on the 21.06.2024 & 26.06.2024; 13,110 partially recieced on 21.10.25
A7: BADILI | B7: 167772377 | C7: 28/04/24 | D7: 30/06/24 | I7: =Z7-AL7 -> 2160 | J7: =SUM(F7:I7) -> 2160 | Z7: 21180 | AA7: =SUM(W7:Z7) -> 21180 | AL7: =1440+16200+1380 -> 19020 | AM7: =(V7+W7+X7+Y7+Z7+AB7+AC7+AD7+AE7+AF7+AG7+AH7+AI7+AJ7+AK7)-AL7 -> 2160 | AN7: AL24 from Modern 2024; partially received on the 21.06.2024 & 26.06.2024; 16,200 partially received on the 24.07.24 from Modern Pharma; 1,380 partially delivered on 21.10.24
A8: BADILI | B8: 167772488 | C8: 03/11/25 | D8: 30/04/26 | E8: =V8-AL8 -> 0 | F8: =W8-AL8 -> 150000 | G8: =X8-AL8 -> 0 | H8: =Y8-AL8 -> 0 | I8: =Z8-AL8 -> 0 | J8: =SUM(F8:I8) -> 150000 | K8: =AB8-AL8 -> 0 | W8: 150000 | AA8: =SUM(W8:Z8) -> 150000 | AM8: =(V8+W8+X8+Y8+Z8+AB8+AC8+AD8+AE8+AF8+AG8+AH8+AI8+AJ8+AK8)-AL8 -> 150000
A9: BADILI | B9: 167772481 | C9: 25/10/25 | D9: 30/11/25 | F9: =W9-AL9 -> 0 | J9: =SUM(F9:I9) -> 0 | W9: 30000 | AA9: =SUM(W9:Z9) -> 30000 | AL9: =3600+26400 -> 30000 | AM9: =(V9+W9+X9+Y9+Z9+AB9+AC9+AD9+AE9+AF9+AG9+AH9+AI9+AJ9+AK9)-AL9 -> 0 | AN9: received on the 19.11.25; 24,600 balance fully supplied by Modern on 03.02.26
A10: BADILI | B10: 167772489 | C10: 03/11/25 | D10: 30/04/26 | E10: =V10-AL10 -> 0 | F10: =W10-AL10 -> 0 | G10: =X10-AL10 -> 90000 | H10: =Y10-AL10 -> 0 | I10: =Z10-AL10 -> 0 | J10: =SUM(F10:I10) -> 90000 | K10: =AB10-AL10 -> 0 | X10: 90000 | AA10: =SUM(W10:Z10) -> 90000 | AM10: =(V10+W10+X10+Y10+Z10+AB10+AC10+AD10+AE10+AF10+AG10+AH10+AI10+AJ10+AK10)-AL10 -> 90000
A11: BADILI | B11: 167772482 | C11: 25/10/25 | D11: 30/11/25 | G11: =X11-AL11 -> 0 | J11: =SUM(F11:I11) -> 0 | X11: 30000 | AA11: =SUM(W11:Z11) -> 30000 | AL11: =3600+26400 -> 30000 | AM11: =(V11+W11+X11+Y11+Z11+AB11+AC11+AD11+AE11+AF11+AG11+AH11+AI11+AJ11+AK11)-AL11 -> 0 | AN11: received on the 19.11.25; 24,600 balance fully supplied by Modern on 03.02.26
A12: BADILI | B12: 167772490 | C12: 03/11/25 | D12: 30/04/26 | E12: =V12-AL12 -> 0 | F12: =W12-AL12 -> 0 | G12: =X12-AL12 -> 0 | H12: =Y12-AL12 -> 90000 | I12: =Z12-AL12 -> 0 | J12: =SUM(F12:I12) -> 90000 | K12: =AB12-AL12 -> 0 | Y12: 90000 | AA12: =SUM(W12:Z12) -> 90000 | AM12: =(V12+W12+X12+Y12+Z12+AB12+AC12+AD12+AE12+AF12+AG12+AH12+AI12+AJ12+AK12)-AL12 -> 90000
A13: BADILI | B13: 167772482 | C13: 25/10/25 | D13: 30/11/25 | H13: =Y13-AL13 -> 0 | J13: =SUM(F13:I13) -> 0 | Y13: 30000 | AA13: =SUM(W13:Z13) -> 30000 | AL13: =3600+26400 -> 30000 | AM13: =(V13+W13+X13+Y13+Z13+AB13+AC13+AD13+AE13+AF13+AG13+AH13+AI13+AJ13+AK13)-AL13 -> 0 | AN13: received on the 19.11.25; 24,600 balance fully supplied by Modern on 03.02.26
A14: BADILI | B14: 167772491 | C14: 03/11/25 | D14: 30/04/26 | E14: =V14-AL14 -> 0 | F14: =W14-AL14 -> 0 | G14: =X14-AL14 -> 0 | H14: =Y14-AL14 -> 0 | I14: =Z14-AL14 -> 90000 | J14: =SUM(F14:I14) -> 90000 | K14: =AB14-AL14 -> 0 | Z14: 90000 | AA14: =SUM(W14:Z14) -> 90000 | AM14: =(V14+W14+X14+Y14+Z14+AB14+AC14+AD14+AE14+AF14+AG14+AH14+AI14+AJ14+AK14)-AL14 -> 90000
A15: BADILI | B15: 167772482 | C15: 25/10/25 | D15: 30/11/25 | I15: =Z15-AL15 -> 0 | J15: =SUM(F15:I15) -> 0 | Z15: 30000 | AA15: =SUM(W15:Z15) -> 30000 | AL15: =3600+26400 -> 30000 | AM15: =(V15+W15+X15+Y15+Z15+AB15+AC15+AD15+AE15+AF15+AG15+AH15+AI15+AJ15+AK15)-AL15 -> 0 | AN15: received on the 19.11.25; 24,600 balance fully supplied by Modern on 03.02.26
A16: BADILI | B16: 167772479 | C16: 24/10/25 | D16: 30/11/25 | E16: =V16-AL16 -> 41825 | J16: =SUM(F16:I16) -> 0 | V16: 237500 | AA16: =SUM(W16:Z16) -> 0 | AL16: =37500+158175 -> 195675 | AM16: =(V16+W16+X16+Y16+Z16+AB16+AC16+AD16+AE16+AF16+AG16+AH16+AI16+AJ16+AK16)-AL16 -> 41825 | AN16: 37500/200000 received 30.10.2025-RFQ25; partially received in Jan 2026
A17: BADILI | B17: 167772493 | C17: 03/11/25 | D17: 30/04/26 | E17: =V17-AL17 -> 0 | F17: =W17-AL17 -> 0 | G17: =X17-AL17 -> 0 | H17: =Y17-AL17 -> 0 | I17: =Z17-AL17 -> 0 | J17: =SUM(F17:I17) -> 0 | K17: =AB17-AL17 -> 300000 | AA17: =SUM(W17:Z17) -> 0 | AB17: 300000 | AM17: =(V17+W17+X17+Y17+Z17+AB17+AC17+AD17+AE17+AF17+AG17+AH17+AI17+AJ17+AK17)-AL17 -> 300000
A18: BADILI | B18: 167772481 | C18: 25/10/25 | D18: 30/11/25 | J18: =SUM(F18:I18) -> 0 | K18: =AB18-AL18 -> 0 | AA18: =SUM(W18:Z18) -> 0 | AB18: 400000 | AL18: 400000 | AM18: =(V18+W18+X18+Y18+Z18+AB18+AC18+AD18+AE18+AF18+AG18+AH18+AI18+AJ18+AK18)-AL18 -> 0 | AN18: Fully received on the 03.02.2026 from Modern
A19: BADILI | B19: 167772492 | C19: 03/11/25 | D19: 30/04/26 | E19: =V19-AL19 -> 0 | F19: =W19-AL19 -> 0 | G19: =X19-AL19 -> 0 | H19: =Y19-AL19 -> 0 | I19: =Z19-AL19 -> 0 | J19: =SUM(F19:I19) -> 0 | K19: =AB19-AL19 -> 0 | P19: =AG19-AL19 -> 4000 | AA19: =SUM(W19:Z19) -> 0 | AG19: 4000 | AM19: =(V19+W19+X19+Y19+Z19+AB19+AC19+AD19+AE19+AF19+AG19+AH19+AI19+AJ19+AK19)-AL19 -> 4000
A20: BADILI | B20: 167772493 | C20: 03/11/25 | D20: 30/04/26 | E20: =V20-AL20 -> 0 | F20: =W20-AL20 -> 0 | G20: =X20-AL20 -> 0 | H20: =Y20-AL20 -> 0 | I20: =Z20-AL20 -> 0 | J20: =SUM(F20:I20) -> 0 | K20: =AB20-AL20 -> 0 | Q20: =AH20-AL20 -> 100000 | AA20: =SUM(W20:Z20) -> 0 | AH20: 100000 | AM20: =(V20+W20+X20+Y20+Z20+AB20+AC20+AD20+AE20+AF20+AG20+AH20+AI20+AJ20+AK20)-AL20 -> 100000
A21: BADILI | B21: 167772494 | C21: 03/11/25 | D21: 30/04/26 | L21: =AC21-AL21 -> 150000 | AC21: 150000 | AM21: =(V21+W21+X21+Y21+Z21+AB21+AC21+AD21+AE21+AF21+AG21+AH21+AI21+AJ21+AK21)-AL21 -> 150000
A22: BADILI | B22: 167772564 | C22: 45996 | D22: 46203 | E22: =V22-AL22 -> 225000 | V22: 225000 | AM22: =(V22+W22+X22+Y22+Z22+AB22+AC22+AD22+AE22+AF22+AG22+AH22+AI22+AJ22+AK22)-AL22 -> 225000
A23: BADILI | B23: 167772565 | C23: 46000 | D23: 46052 | J23: =SUM(F23:I23) -> 0 | K23: =AB23-AL23 -> 0 | AA23: =SUM(W23:Z23) -> 0 | AB23: 400000 | AL23: 400000 | AM23: =(V23+W23+X23+Y23+Z23+AB23+AC23+AD23+AE23+AF23+AG23+AH23+AI23+AJ23+AK23)-AL23 -> 0 | AN23: Fully received on the 05.02.2026 from Modern
A24: BADILI | B24: 167772604 | C24: 46078 | D24: 46142 | E24: =V24-AL24 -> 0 | F24: =W24-AL24 -> 0 | G24: =X24-AL24 -> 0 | H24: =Y24-AL24 -> 0 | I24: =Z24-AL24 -> 0 | J24: =SUM(F24:I24) -> 0 | K24: =AB24-AL24 -> 2000000 | AA24: =SUM(W24:Z24) -> 0 | AB24: 2000000 | AM24: =(V24+W24+X24+Y24+Z24+AB24+AC24+AD24+AE24+AF24+AG24+AH24+AI24+AJ24+AK24)-AL24 -> 2000000
A25: BADILI | B25: 167772603 | C25: 46078 | D25: 46142 | K25: =AB25-AL25 -> 0 | AA25: =SUM(W25:Z25) -> 0 | AB25: 600000 | AL25: 600000 | AM25: =(V25+W25+X25+Y25+Z25+AB25+AC25+AD25+AE25+AF25+AG25+AH25+AI25+AJ25+AK25)-AL25 -> 0 | AN25: Fully received PQ from CPL on 06.03.206
B26: TOTAL | E26: =SUM(E6:E25) -> 266825 | F26: =SUM(F6:F25) -> 150000 | G26: =SUM(G6:G25) -> 90000 | H26: =SUM(H6:H25) -> 92160 | I26: =SUM(I6:I25) -> 92160 | J26: =SUM(J6:J25) -> 424320 | K26: =SUM(K6:K25) -> 2300000 | L26: =SUM(L6:L25) -> 150000 | ... AM26: =SUM(AM6:AM25) -> 3245145
A27: HAGEN | B27: 3408 | C27: 10/04/25 | D27: 30/06/25 | J27: =SUM(F27:I27) -> 0 | M27: =AD27-AL27 -> 20000 | AA27: =SUM(W27:Z27) -> 0 | AD27: 20000 | AM27: =(V27+W27+X27+Y27+Z27+AB27+AC27+AD27+AE27+AF27+AG27+AH27+AI27+AJ27+AK27)-AL27 -> 20000
A28: HAGEN | B28: 3448 | C28: 03/11/25 | D28: 30/04/26 | E28: =V28-AL28 -> 0 | J28: =SUM(F28:I28) -> 0 | V28: 212500 | AA28: =SUM(W28:Z28) -> 0 | AL28: =12500+200000 -> 212500 | AM28: =(V28+W28+X28+Y28+Z28+AB28+AC28+AD28+AE28+AF28+AG28+AH28+AI28+AJ28+AK28)-AL28 -> 0 | AN28: 12,500 received on the 13.11.2025; 200,000 balance supplied on the 29.01.2026 from Modern
A29: HAGEN | B29: 3449 | C29: 25/10/25 | D29: 30/11/25 | F29: =W29-AL29 -> 22800 | J29: =SUM(F29:I29) -> 22800 | W29: 30000 | AA29: =SUM(W29:Z29) -> 30000 | AL29: 7200 | AM29: =(V29+W29+X29+Y29+Z29+AB29+AC29+AD29+AE29+AF29+AG29+AH29+AI29+AJ29+AK29)-AL29 -> 22800 | AN29: 7,200 was received on the 29.01.2026 from Modern
A30: HAGEN | B30: 3462 | C30: 45964 | D30: 46142 | E30: =V30-AL30 -> 0 | F30: =W30-AL30 -> 60000 | J30: =SUM(F30:I30) -> 60000 | W30: 60000 | AA30: =SUM(W30:Z30) -> 60000 | AM30: =(V30+W30+X30+Y30+Z30+AB30+AC30+AD30+AE30+AF30+AG30+AH30+AI30+AJ30+AK30)-AL30 -> 60000
A31: HAGEN | B31: 3462 | C31: 45964 | D31: 46142 | E31: =V31-AL31 -> 0 | F31: =W31-AL31 -> 0 | G31: =X31-AL31 -> 60000 | J31: =SUM(F31:I31) -> 60000 | X31: 60000 | AA31: =SUM(W31:Z31) -> 60000 | AM31: =(V31+W31+X31+Y31+Z31+AB31+AC31+AD31+AE31+AF31+AG31+AH31+AI31+AJ31+AK31)-AL31 -> 60000
A32: HAGEN | B32: 3462 | C32: 45964 | D32: 46142 | E32: =V32-AL32 -> 0 | F32: =W32-AL32 -> 0 | G32: =X32-AL32 -> 0 | H32: =Y32-AL32 -> 30000 | J32: =SUM(F32:I32) -> 30000 | Y32: 30000 | AA32: =SUM(W32:Z32) -> 30000 | AM32: =(V32+W32+X32+Y32+Z32+AB32+AC32+AD32+AE32+AF32+AG32+AH32+AI32+AJ32+AK32)-AL32 -> 30000
A33: HAGEN | B33: 3449 | C33: 03/11/25 | D33: 30/04/26 | G33: =X33-AL33 -> 0 | J33: =SUM(F33:I33) -> 0 | X33: 9540 | AA33: =SUM(W33:Z33) -> 9540 | AL33: 9540 | AM33: =(V33+W33+X33+Y33+Z33+AB33+AC33+AD33+AE33+AF33+AG33+AH33+AI33+AJ33+AK33)-AL33 -> 0 | AN33: Fully received on the 29.01.2026 from Modern
A34: HAGEN | B34: 3449 | C34: 25/10/25 | D34: 30/11/25 | H34: =Y34-AL34 -> 0 | J34: =SUM(F34:I34) -> 0 | Y34: 30000 | AA34: =SUM(W34:Z34) -> 30000 | AL34: 30000 | AM34: =(V34+W34+X34+Y34+Z34+AB34+AC34+AD34+AE34+AF34+AG34+AH34+AI34+AJ34+AK34)-AL34 -> 0 | AN34: Fully received on the 23.02.2026 from Modern
A35: HAGEN | B35: 3463 | C35: 03/11/25 | D35: 30/04/26 | E35: =V35-AL35 -> 0 | F35: =W35-AL35 -> 0 | G35: =X35-AL35 -> 0 | H35: =Y35-AL35 -> 0 | I35: =Z35 -> 30000 | J35: =SUM(F35:I35) -> 30000 | Y35: 0 | Z35: 30000 | AA35: =SUM(W35:Z35) -> 30000 | AM35: =(V35+W35+X35+Y35+Z35+AB35+AC35+AD35+AE35+AF35+AG35+AH35+AI35+AJ35+AK35)-AL35 -> 30000
A36: HAGEN | B36: 3449 | C36: 25/10/25 | D36: 30/11/25 | I36: =Z36-AL36 -> 22800 | J36: =SUM(F36:I36) -> 22800 | Z36: 30000 | AA36: =SUM(W36:Z36) -> 30000 | AL36: 7200 | AM36: =(V36+W36+X36+Y36+Z36+AB36+AC36+AD36+AE36+AF36+AG36+AH36+AI36+AJ36+AK36)-AL36 -> 22800 | AN36: 7,200 was received on the 29.01.2026 from Modern
A37: HAGEN | B37: 3449 | C37: 25/10/25 | D37: 30/11/25 | J37: =SUM(F37:I37) -> 0 | K37: =AB37-AL37 -> 0 | AA37: =SUM(W37:Z37) -> 0 | AB37: 400000 | AL37: 400000 | AM37: =(V37+W37+X37+Y37+Z37+AB37+AC37+AD37+AE37+AF37+AG37+AH37+AI37+AJ37+AK37)-AL37 -> 0 | AN37: Fully received on the 02.02.2026 from Modern
A38: HAGEN | B38: 3467 | C38: 05/11/25 | D38: 30/04/26 | N38: =AE38-AL38 -> 4000 | AE38: 4000 | AM38: =(V38+W38+X38+Y38+Z38+AB38+AC38+AD38+AE38+AF38+AG38+AH38+AI38+AJ38+AK38)-AL38 -> 4000
A39: HAGEN | B39: 3467 | C39: 05/11/25 | D39: 30/04/26 | M39: =AD39-AL39 -> 0 | AD39: 10000 | AL39: 10000 | AM39: =(V39+W39+X39+Y39+Z39+AB39+AC39+AD39+AE39+AF39+AG39+AH39+AI39+AJ39+AK39)-AL39 -> 0 | AN39: 10,000 Al 80mg fully received on the 30.12.2026
A40: HAGEN | B40: 3465 | C40: 05/11/25 | D40: 30/04/26 | K40: =AB40-AL40 -> 200000 | AB40: 200000 | AM40: =(V40+W40+X40+Y40+Z40+AB40+AC40+AD40+AE40+AF40+AG40+AH40+AI40+AJ40+AK40)-AL40 -> 200000
A41: HAGEN | B41: 3466 | C41: 05/11/25 | D41: 30/04/26 | L41: =AC41-AL41 -> 124400 | AC41: 200000 | AL41: 75600 | AM41: =(V41+W41+X41+Y41+Z41+AB41+AC41+AD41+AE41+AF41+AG41+AH41+AI41+AJ41+AK41)-AL41 -> 124400 | AN41: 75,600 partially received on the 08.01.2026
...

Sheet EXP.DATES For ACT-RDT-PQ
A1: CODE | B1: ITEM | C1: BATCH # | D1: EXPIRY DATE | E1: PACK SIZE | F1: QUANTITY | G1: QUANTITY IN INDIVIDUAL UNIT | H1: SOURCE | I1: LOCATION
A2: MALARIA CENTRAL STORE
A3: 10570030 | B3: Artemether + Lumefantrine Tab., 20+120mg, blister, 6x1 | C3: NAD2484C | D3: 30/06/2028 | E3: 30 | F3: 338 | G3: =E3*F3 -> 10140 | H3: GLOBAL FUND | I3: R08
A4: 10570040 | B4: Artemether + Lumefantrine Tab., 20+120mg, blister, 12x1 | C4: NAD2488A | D4: 30/06/2028 | E4: 30 | F4: 1136 | G4: =E4*F4 -> 34080 | H4: GLOBAL FUND | I4: R16
A5: 10570040 | B5: Artemether + Lumefantrine Tab., 20+120mg, blister, 12x1 | C5: NAD2489A | D5: 30/06/2028 | E5: 30 | F5: 1944 | G5: =E5*F5 -> 58320 | H5: GLOBAL FUND | I5: P25-RAM STORE
A6: 10570040 | B6: Artemether + Lumefantrine Tab., 20+120mg, blister, 12x1 | C6: NAD2488A | D6: 30/06/2028 | E6: 30 | F6: 0 | G6: =E6*F6 -> 0 | H6: GLOBAL FUND | I6: P23-RAM STORE
A7: 10570040 | B7: Artemether + Lumefantrine Tab., 20+120mg, blister, 12x1 | C7: NAD2489A | D7: 30/06/2028 | E7: 30 | F7: 0 | G7: =E7*F7 -> 0 | H7: GLOBAL FUND | I7: P26-RAM STORE
A8: 10570060 | B8: Artemether + Lumefantrine Tab., 20+120mg, blister, 24x1 | C8: NAA24346A | D8: 30/06/2028 | E8: 30 | F8: 917 | G8: =E8*F8 -> 27510 | H8: GLOBAL FUND | I8: R18
A9: 10570060 | B9: Artemether + Lumefantrine Tab., 20+120mg, blister, 24x1 | C9: NAA24345A | D9: 30/08/2028 | E9: 30 | F9: 0 | G9: =E9*F9 -> 0 | H9: GLOBAL FUND | I9: R17
A10: 10570060 | B10: Artemether + Lumefantrine Tab., 20+120mg, blister, 24x1 | C10: NAA24346A | D10: 30/06/2028 | E10: 30 | F10: 0 | G10: =E10*F10 -> 0 | H10: GLOBAL FUND | I10: R13
A11: 10570060 | B11: Artemether + Lumefantrine Tab., 20+120mg, blister, 24x1 | C11: NAA24348A | D11: 30/06/2028 | E11: 30 | F11: 0 | G11: =E11*F11 -> 0 | H11: GLOBAL FUND | I11: R11
A12: 10570060 | B12: Artemether + Lumefantrine Tab., 20+120mg, blister, 24x1 | C12: NAA24343A | D12: 30/06/2028 | E12: 30 | F12: 0 | G12: =E12*F12 -> 0 | H12: GLOBAL FUND | I12: R15
A13: 10570060 | B13: Artemether + Lumefantrine Tab., 20+120mg, blister, 24x1 | C13: NAA24350A | D13: 30/06/2028 | E13: 30 | F13: 0 | G13: =E13*F13 -> 0 | H13: GLOBAL FUND | I13: R09
A14: 40240100 | B14: Pf/Pan Rapid Diagnostic Test for Malaria | C14: 101695 | D14: 30/06/2026 | E14: 25 | F14: 0 | G14: =E14*F14 -> 0 | H14: GLOBAL FUND | I14: P45 - RAM CR
A16: AREA MEDICAL STORE, BADILI
A17: 10570030 | B17: Artemether 20 mg+Lumefantrine 120mg Tablets, 25-34kg, blister 6x1 | C17: T1APH001 | D17: 31/03/2028 | E17: 30 | F17: 120 | G17: =E17*F17 -> 3600 | H17: GoPNG | I17: BADILI
A18: 10570030 | B18: Artemether 20 mg+Lumefantrine 120mg Tablets, 25-34kg, blister 6x1 | C18: D1APH002 | D18: 30/04/2027 | E18: 30 | F18: 16 | G18: =E18*F18 -> 480 | H18: GoPNG | I18: BADILI
A19: 10570030 | B19: Artemether 20 mg+Lumefantrine 120mg Tablets, 25-34kg, blister 6x1 | C19: T1APH003 | D19: 31/10/2028 | E19: 30 | F19: 864 | G19: =E19*F19 -> 25920 | H19: GoPNG | I19: BADILI
A20: 10570030 | B20: Artemether 20 mg+Lumefantrine 120mg Tablets, 25-34kg, blister 6x1 | C20: HWE084156 | D20: 30/06/2028 | E20: 30 | F20: 672 | G20: =E20*F20 -> 20160 | H20: GoPNG | I20: BADILI
A21: 10570030 | B21: Artemether 20 mg+Lumefantrine 120mg Tablets, 25-34kg, blister 6x1 | C21: HWE084001 | D21: 46386 | E21: 30 | F21: 2017 | G21: =E21*F21 -> 60510 | H21: GoPNG | I21: BADILI
A22: 10570040 | B22: Artemether 20 mg+Lumefantrine 120mg Tablets, 15-24kg, blister 12x1 | C22: HWE094156 | D22: 30/11/2027 | E22: 30 | F22: 0 | G22: =E22*F22 -> 0 | H22: GoPNG | I22: BADILI
A23: 10570040 | B23: Artemether 20 mg+Lumefantrine 120mg Tablets, 15-24kg, blister 12x1 | C23: T1APH001 | D23: 31/03/2028 | E23: 30 | F23: 120 | G23: =E23*F23 -> 3600 | H23: GoPNG | I23: BADILI
A24: 10570040 | B24: Artemether 20 mg+Lumefantrine 120mg Tablets, 15-24kg, blister 12x1 | C24: T1APH001 | D24: 31/03/2028 | E24: 30 | F24: 16 | G24: =E24*F24 -> 480 | H24: GoPNG | I24: BADILI
A25: 10570040 | B25: Artemether 20 mg+Lumefantrine 120mg Tablets, 15-24kg, blister 12x1 | C25: T1APH003 | D25: 31/10/2028 | E25: 30 | F25: 750 | G25: =E25*F25 -> 22500 | H25: GoPNG | I25: BADILI
A26: 10570050 | B26: Artemether 20 mg+Lumefantrine 120mg Tablets, 25-34kg, blister 18x1 | C26: T1APH001 | D26: 31/03/2028 | E26: 30 | F26: 120 | G26: =E26*F26 -> 3600 | H26: GoPNG | I26: BADILI
A27: 10570050 | B27: Artemether 20 mg+Lumefantrine 120mg Tablets, 25-34kg, blister 18x1 | C27: T1APH004 | D27: 31/10/2028 | E27: 30 | F27: 584 | G27: =E27*F27 -> 17520 | H27: GoPNG | I27: BADILI
A28: 10570050 | B28: Artemether 20 mg+Lumefantrine 120mg Tablets, 25-34kg, blister 18x1 | C28: D1APH003 | D28: 30/04/2027 | E28: 30 | F28: 15 | G28: =E28*F28 -> 450 | H28: GoPNG | I28: BADILI
A29: 10570050 | B29: Artemether 20 mg+Lumefantrine 120mg Tablets, 25-34kg, blister 18x1 | C29: T1APH005 | D29: 31/10/2028 | E29: 30 | F29: 1 | G29: =E29*F29 -> 30 | H29: GoPNG | I29: BADILI
A30: 10570060 | B30: Artemether 20 mg+Lumefantrine 120mg Tablets, 35+kg, blister 24x1 | C30: HWE114180 | D30: 30/11/2027 | E30: 30 | F30: 0 | G30: =E30*F30 -> 0 | H30: GoPNG | I30: BADILI
A31: 10570060 | B31: Artemether 20 mg+Lumefantrine 120mg Tablets, 35+kg, blister 24x1 | C31: D1APH007 | D31: 30/11/2027 | E31: 30 | F31: 120 | G31: =E31*F31 -> 3600 | H31: GoPNG | I31: BADILI
A32: 10570060 | B32: Artemether 20 mg+Lumefantrine 120mg Tablets, 35+kg, blister 24x1 | C32: D1APH007 | D32: 30/11/2027 | E32: 30 | F32: 5 | G32: =E32*F32 -> 150 | H32: GoPNG | I32: BADILI
A33: 10570060 | B33: Artemether 20 mg+Lumefantrine 120mg Tablets, 35+kg, blister 24x1 | C33: T1APH006 | D33: 31/10/2028 | E33: 30 | F33: 399 | G33: =E33*F33 -> 11970 | H33: GoPNG | I33: BADILI
A34: 10570060 | B34: Artemether 20 mg+Lumefantrine 120mg Tablets, 35+kg, blister 24x1 | C34: D1APH006 | D34: 30/04/2027 | E34: 30 | F34: 2 | G34: =E34*F34 -> 60 | H34: GoPNG | I34: BADILI
A35: 10570060 | B35: Artemether 20 mg+Lumefantrine 120mg Tablets, 35+kg, blister 24x1 | C35: D1APH002 | D35: 30/04/2027 | E35: 30 | F35: 2 | G35: =E35*F35 -> 60 | H35: GoPNG | I35: BADILI
A36: 10570060 | B36: Artemether 20 mg+Lumefantrine 120mg Tablets, 35+kg, blister 24x1 | C36: C1APH004 | D36: 30/06/2026 | E36: 30 | F36: 3 | G36: =E36*F36 -> 90 | H36: GoPNG | I36: BADILI
A37: 10570060 | B37: Artemether 20 mg+Lumefantrine 120mg Tablets, 35+kg, blister 24x1 | C37: C1APH003 | D37: 30/06/2026 | E37: 30 | F37: 4 | G37: =E37*F37 -> 120 | H37: GoPNG | I37: BADILI
A38: 10570130 | B38: Primaquine Tab., 7.5mg | C38: T35811 | D38: 31/10/2028 | E38: 100 | F38: 3000 | G38: =E38*F38 -> 300000 | H38: GoPNG | I38: BADILI
A39: 10570130 | B39: Primaquine Tab., 7.5mg | C39: O20825 | D39: 31/07/2028 | E39: 100 | F39: 119 | G39: =E39*F39 -> 11900 | H39: GoPNG | I39: BADILI
A40: 40240100 | B40: Rapid Diagnostic Test (RDT) for Malaria, Pack/25 | C40: H006E005D | D40: 31/10/2027 | E40: 25 | F40: 3103 | G40: =E40*F40 -> 77575 | H40: GoPNG | I40: BADILI
A42: AREA MEDICAL STORE, HAGEN | G42: =E42*F42 -> 0
...

Sheet Table of Summary
A1: A. ACTs, RDT, & PRIMAQUINE
A3: 1. Stock on Hand | F3: 2. Stock in Pipeline
B5: RDT | C5: ACTs (Total) | D5: Primaquine | G5: RDT | H5: ACTs (Total) | I5: Primaquine
A6: NDoH | B6: ='ACT-RDT-PQ BY AMS'!B10 -> 716625 | C6: ='ACT-RDT-PQ BY AMS'!G10 -> 284070 | D6: ='ACT-RDT-PQ BY AMS'!H10 -> 2056100 | F6: Total NDoH | G6: ='ACT-RDT-PQ BY AMS'!K10 -> 1313150 | H6: ='ACT-RDT-PQ BY AMS'!P10 -> 1737450 | I6: ='ACT-RDT-PQ BY AMS'!Q10 -> 9500400
A7: SOH in Months | B7: ='ACT-RDT-PQ BY AMS'!B19 -> 2.149875 | C7: ='ACT-RDT-PQ BY AMS'!C19 -> 0.93033529 | D7: ='ACT-RDT-PQ BY AMS'!H19 -> 1.4774371 | F7: Stock in Months | G7: ='ACT-RDT-PQ BY AMS'!K19 -> 3.93945 | H7: ='ACT-RDT-PQ BY AMS'!L19 -> 6.5715882 | I7: ='ACT-RDT-PQ BY AMS'!Q19 -> 6.8266347
A8: Global Fund/RAM | B8: ='ACT-RDT-PQ BY AMS'!B11 -> 0 | C8: ='ACT-RDT-PQ BY AMS'!G11 -> 110190 | D8: ='ACT-RDT-PQ BY AMS'!H11 -> 0 | F8: Global Fund/RAM | G8: ='ACT-RDT-PQ BY AMS'!K11 -> 2000000 | H8: ='ACT-RDT-PQ BY AMS'!P11 -> 1539780 | I8: ='ACT-RDT-PQ BY AMS'!Q11 -> 0
A9: SOH in Months | B9: ='ACT-RDT-PQ BY AMS'!B20 -> 0 | C9: ='ACT-RDT-PQ BY AMS'!C20 -> 0.43544118 | D9: ='ACT-RDT-PQ BY AMS'!H20 -> 0 | F9: Stock in Months | G9: ='ACT-RDT-PQ BY AMS'!K20 -> 6 | H9: ='ACT-RDT-PQ BY AMS'!L20 -> 7.4497235 | I9: ='ACT-RDT-PQ BY AMS'!Q20 -> 0
A10: Total | B10: =B6+B8 -> 716625 | C10: =C6+C8 -> 394260 | D10: =D6+D8 -> 2056100 | F10: Total | G10: =G8+G6 -> 3313150 | H10: =H8+H6 -> 3277230 | I10: =I8+I6 -> 9500400
A11: SOH in Months | B11: ='ACT-RDT-PQ BY AMS'!B18 -> 2.149875 | C11: ='ACT-RDT-PQ BY AMS'!C18:G18 -> 1.3657765 | D11: ='ACT-RDT-PQ BY AMS'!H18 -> 1.4774371 | F11: Total stock in Months | G11: ='ACT-RDT-PQ BY AMS'!K18 -> 9.93945 | H11: ='ACT-RDT-PQ BY AMS'!L18 -> 14.021312 | I11: ='ACT-RDT-PQ BY AMS'!Q18 -> 6.8266347
J12: B. OTHER ANTI-MALARIALs (NDoH Procurement)
J13: ITEM | K13: STOCK ON HAND | L13: STOCK ON ORDER | M13: EXPECTED STOCK POSSIBLY IN THE NEXT SIX MONTHS
